BEGIN:VCALENDAR
VERSION:2.0
PRODID:-//BaNES Virtual Library - ECPv6.15.20//NONSGML v1.0//EN
CALSCALE:GREGORIAN
METHOD:PUBLISH
X-WR-CALNAME:BaNES Virtual Library
X-ORIGINAL-URL:https://baneslibraries.co.uk
X-WR-CALDESC:Events for BaNES Virtual Library
REFRESH-INTERVAL;VALUE=DURATION:PT1H
X-Robots-Tag:noindex
X-PUBLISHED-TTL:PT1H
BEGIN:VTIMEZONE
TZID:Europe/London
BEGIN:DAYLIGHT
TZOFFSETFROM:+0000
TZOFFSETTO:+0100
TZNAME:BST
DTSTART:20250330T010000
END:DAYLIGHT
BEGIN:STANDARD
TZOFFSETFROM:+0100
TZOFFSETTO:+0000
TZNAME:GMT
DTSTART:20251026T010000
END:STANDARD
BEGIN:DAYLIGHT
TZOFFSETFROM:+0000
TZOFFSETTO:+0100
TZNAME:BST
DTSTART:20260329T010000
END:DAYLIGHT
BEGIN:STANDARD
TZOFFSETFROM:+0100
TZOFFSETTO:+0000
TZNAME:GMT
DTSTART:20261025T010000
END:STANDARD
BEGIN:DAYLIGHT
TZOFFSETFROM:+0000
TZOFFSETTO:+0100
TZNAME:BST
DTSTART:20270328T010000
END:DAYLIGHT
BEGIN:STANDARD
TZOFFSETFROM:+0100
TZOFFSETTO:+0000
TZNAME:GMT
DTSTART:20271031T010000
END:STANDARD
END:VTIMEZONE
BEGIN:VEVENT
DTSTART;TZID=Europe/London:20260127T093000
DTEND;TZID=Europe/London:20260127T160000
DTSTAMP:20260424T005109
CREATED:20250922T160920Z
LAST-MODIFIED:20250922T160922Z
UID:56559-1769506200-1769529600@baneslibraries.co.uk
SUMMARY:Housing Options Drop In
DESCRIPTION:Offering help and advice about housing optionsNot available between 12 .00- 1.15pm.
URL:https://baneslibraries.co.uk/event/housing-options-drop-in-48/
LOCATION:Library & Information Service\, High Street\, Midsomer Norton\, BA3 2DP\, Midsomer Norton\, BA3 2DP\, GB
CATEGORIES:Adult's Events,Events,Midsomer Norton Library,Partner Events,Support Services
ATTACH;FMTTYPE=image/png:https://baneslibraries.co.uk/wp-content/uploads/2025/09/56522_image.png
END:VEVENT
BEGIN:VEVENT
DTSTART;TZID=Europe/London:20260127T093000
DTEND;TZID=Europe/London:20260127T100000
DTSTAMP:20260424T005109
CREATED:20251014T145924Z
LAST-MODIFIED:20251014T145926Z
UID:61117-1769506200-1769508000@baneslibraries.co.uk
SUMMARY:Baby Bounce and Rhyme at Keynsham Library
DESCRIPTION:Join us for Baby Bounce and Rhyme at Keynsham Library!T﻿his is a drop in event. Sing along to your favourite songs and rhymes at Keynsham Library!  Free\, drop in event suitable for parents/carers with children aged 0 – 5 years. T﻿erm time only\, no booking required.
URL:https://baneslibraries.co.uk/event/baby-bounce-and-rhyme-at-keynsham-library-25/
LOCATION:Keynsham Library & Information Service\, Market Walk\, Keynsham\, BS31 1FS\, Keynsham\, BS31 1FS\, GB
CATEGORIES:Children's Events,Events,Keynsham Library,Library Events
ATTACH;FMTTYPE=image/png:https://baneslibraries.co.uk/wp-content/uploads/2025/10/61064_image.png
END:VEVENT
BEGIN:VEVENT
DTSTART;TZID=Europe/London:20260127T090000
DTEND;TZID=Europe/London:20260127T150000
DTSTAMP:20260424T005109
CREATED:20250923T084555Z
LAST-MODIFIED:20251219T151952Z
UID:56779-1769504400-1769526000@baneslibraries.co.uk
SUMMARY:Reach Housing Advice and Support Service Drop In
DESCRIPTION:Support\, information and advice if you are having difficulty with your accommodation\n\n\nFind out more at: www.dhi-online.org.uk/get-help/housing-advice-support/reach
URL:https://baneslibraries.co.uk/event/reach-housing-advice-and-support-service-drop-in-18/
LOCATION:Library & Information Service\, High Street\, Midsomer Norton\, BA3 2DP\, Midsomer Norton\, BA3 2DP\, GB
CATEGORIES:Adult's Events,Events,Midsomer Norton Library,Partner Events,Support Services
ATTACH;FMTTYPE=image/png:https://baneslibraries.co.uk/wp-content/uploads/2025/09/56742_image.png
END:VEVENT
BEGIN:VEVENT
DTSTART;TZID=Europe/London:20260126T110000
DTEND;TZID=Europe/London:20260126T113000
DTSTAMP:20260424T005109
CREATED:20251014T091613Z
LAST-MODIFIED:20251014T091615Z
UID:60769-1769425200-1769427000@baneslibraries.co.uk
SUMMARY:Baby Bounce and Rhyme at Midsomer Norton Library
DESCRIPTION:Join us for Baby Bounce and Rhyme at Midsomer Norton Library!T﻿his is a drop in event. Free\, drop in Baby Bounce and Rhyme Session at Midsomer Norton Library.  Suitable for parents and carers with children aged 0 – 5 years. T﻿erm time only\, no booking required.
URL:https://baneslibraries.co.uk/event/baby-bounce-and-rhyme-at-midsomer-norton-library-6/
LOCATION:Midsomer Norton Library\, The Hollies\, High St\, Midsomer Norton\, BA3 2DT\, Midsomer Norton\, BA3 2DT\, GB
CATEGORIES:Children's Events,Events,Library Events,Midsomer Norton Library
ATTACH;FMTTYPE=image/png:https://baneslibraries.co.uk/wp-content/uploads/2025/10/60742_image.png
END:VEVENT
BEGIN:VEVENT
DTSTART;TZID=Europe/London:20260126T103000
DTEND;TZID=Europe/London:20260126T123000
DTSTAMP:20260424T005109
CREATED:20251017T144653Z
LAST-MODIFIED:20251017T144657Z
UID:62384-1769423400-1769430600@baneslibraries.co.uk
SUMMARY:Hartbeeps
DESCRIPTION:Baby and toddler class.Booking required. Visit www.hartbeeps.com to book.
URL:https://baneslibraries.co.uk/event/hartbeeps-12/
LOCATION:Central Library\, 19-23 The Podium\, Bath\, BA1 5AN\, Bath\, BA1 5AN\, GB
CATEGORIES:Bath Central Library,Children's Events,Events,Partner Events
ATTACH;FMTTYPE=image/png:https://baneslibraries.co.uk/wp-content/uploads/2025/07/55114_image.png
END:VEVENT
BEGIN:VEVENT
DTSTART;TZID=Europe/London:20260126T100000
DTEND;TZID=Europe/London:20260126T120000
DTSTAMP:20260424T005109
CREATED:20250627T134935Z
LAST-MODIFIED:20250627T134936Z
UID:54618-1769421600-1769428800@baneslibraries.co.uk
SUMMARY:Volunteering and Wellbeing Drop-In
DESCRIPTION:Interested in volunteering? Need mental health support? Come along to a drop-in session.Find out how to register as a volunteer and learn more about current opportunities around B&NES. Find out about the BANES mental health & wellbing service and what support HCRG Care Group can offer.
URL:https://baneslibraries.co.uk/event/volunteering-and-wellbeing-drop-in-7/
LOCATION:Keynsham Library & Information Service\, Market Walk\, Keynsham\, BS31 1FS\, Keynsham\, BS31 1FS\, GB
CATEGORIES:Adult's Events,Events,Keynsham Library,Partner Events,Support Services
ATTACH;FMTTYPE=image/png:https://baneslibraries.co.uk/wp-content/uploads/2025/06/54605_image.png
END:VEVENT
BEGIN:VEVENT
DTSTART;TZID=Europe/London:20260126T100000
DTEND;TZID=Europe/London:20260126T113000
DTSTAMP:20260424T005109
CREATED:20251016T154337Z
LAST-MODIFIED:20251016T154338Z
UID:61896-1769421600-1769427000@baneslibraries.co.uk
SUMMARY:Conversational English Class
DESCRIPTION:Classes for refugees and those from a displaced background only due to space.These classes are only available to refugees and those from a displaced background due to space. To book or to find out more\, please email: language@bathwelcomesrefugees.org.uk.  You can do this in any language and they will translate it and reciprocate in kind.
URL:https://baneslibraries.co.uk/event/conversational-english-class-12/
LOCATION:Keynsham Library & Information Service\, Market Walk\, Keynsham\, BS31 1FS\, Keynsham\, BS31 1FS\, GB
CATEGORIES:Adult's Events,Events,Keynsham Library,Partner Events,Support Services
ATTACH;FMTTYPE=image/png:https://baneslibraries.co.uk/wp-content/uploads/2025/10/61866_image.png
END:VEVENT
BEGIN:VEVENT
DTSTART;TZID=Europe/London:20260126T093000
DTEND;TZID=Europe/London:20260126T163000
DTSTAMP:20260424T005109
CREATED:20251017T102429Z
LAST-MODIFIED:20251017T102431Z
UID:62028-1769419800-1769445000@baneslibraries.co.uk
SUMMARY:Reach Housing Advice and Support Service Drop In
DESCRIPTION:Support\, information and advice if you are having difficulty with your accommodation
URL:https://baneslibraries.co.uk/event/reach-housing-advice-and-support-service-drop-in-63/
LOCATION:Keynsham Library & Information Service\, Market Walk\, Keynsham\, BS31 1FS\, Keynsham\, BS31 1FS\, GB
CATEGORIES:Adult's Events,Events,Keynsham Library,Partner Events,Support Services
ATTACH;FMTTYPE=image/png:https://baneslibraries.co.uk/wp-content/uploads/2025/10/61996_image.png
END:VEVENT
BEGIN:VEVENT
DTSTART;TZID=Europe/London:20260126T093000
DTEND;TZID=Europe/London:20260126T130000
DTSTAMP:20260424T005109
CREATED:20251016T142854Z
LAST-MODIFIED:20251016T142856Z
UID:61730-1769419800-1769432400@baneslibraries.co.uk
SUMMARY:Citizens Advice Drop In
DESCRIPTION:Help with money\, legal\, and consumer problems.
URL:https://baneslibraries.co.uk/event/citizens-advice-drop-in-66/
LOCATION:Keynsham Library & Information Service\, Market Walk\, Keynsham\, BS31 1FS\, Keynsham\, BS31 1FS\, GB
CATEGORIES:Adult's Events,Events,Keynsham Library,Partner Events,Support Services
ATTACH;FMTTYPE=image/png:https://baneslibraries.co.uk/wp-content/uploads/2025/10/61700_image.png
END:VEVENT
BEGIN:VEVENT
DTSTART;TZID=Europe/London:20260124T123000
DTEND;TZID=Europe/London:20260124T160000
DTSTAMP:20260424T005109
CREATED:20241216T172358Z
LAST-MODIFIED:20241216T172400Z
UID:44398-1769257800-1769270400@baneslibraries.co.uk
SUMMARY:Board Game Saturdays at Keynsham Library
DESCRIPTION:Do you love to play boardgames? This is the perfect event for you!T﻿his is a drop in event. J﻿oin us for an afternoon of fun for all the family! We have a great selection of boardgames\, suitable for all ages.
URL:https://baneslibraries.co.uk/event/board-game-saturdays-at-keynsham-library-71/
LOCATION:Keynsham Library & Information Service\, Market Walk\, Keynsham\, BS31 1FS\, Keynsham\, BS31 1FS\, GB
CATEGORIES:Adult's Events,Children's Events,Events,Keynsham Library,Library Events,Young Adult's Events
ATTACH;FMTTYPE=image/png:https://baneslibraries.co.uk/wp-content/uploads/2024/04/22720_image.png
END:VEVENT
BEGIN:VEVENT
DTSTART;TZID=Europe/London:20260124T120000
DTEND;TZID=Europe/London:20260124T160000
DTSTAMP:20260424T005109
CREATED:20241216T131950Z
LAST-MODIFIED:20241216T131958Z
UID:44163-1769256000-1769270400@baneslibraries.co.uk
SUMMARY:Board Game Saturdays at Bath Central Library
DESCRIPTION:Do you love to play boardgames? This is the perfect event for you!T﻿his is a drop in event. J﻿oin us for an afternoon of fun for all the family! We have a great selection of boardgames\, suitable for all ages.
URL:https://baneslibraries.co.uk/event/board-game-saturdays-at-bath-central-library-69/
LOCATION:Bath Central Library\, 19-23 The Podium\, Bath\, BA1 5AN\, Bath\, BA1 5AN\, GB
CATEGORIES:Adult's Events,Bath Central Library,Children's Events,Events,Library Events,Young Adult's Events
ATTACH;FMTTYPE=image/png:https://baneslibraries.co.uk/wp-content/uploads/2024/04/22877_image.png
END:VEVENT
BEGIN:VEVENT
DTSTART;TZID=Europe/London:20260124T100000
DTEND;TZID=Europe/London:20260124T123000
DTSTAMP:20260424T005109
CREATED:20241216T122819Z
LAST-MODIFIED:20241216T122825Z
UID:43931-1769248800-1769257800@baneslibraries.co.uk
SUMMARY:Board Game Saturdays at Midsomer Norton Library
DESCRIPTION:Do you love to play boardgames? This is the perfect event for you!This is a drop in event. Fun for all the family! We have a great selection of boardgames\, suitable for all ages.
URL:https://baneslibraries.co.uk/event/board-game-saturdays-at-midsomer-norton-library-70/
LOCATION:Library & Information Service\, High Street\, Midsomer Norton\, BA3 2DP\, Midsomer Norton\, BA3 2DP\, GB
CATEGORIES:Adult's Events,Children's Events,Events,Library Events,Midsomer Norton Library,Young Adult's Events
ATTACH;FMTTYPE=image/png:https://baneslibraries.co.uk/wp-content/uploads/2024/02/19354_image.png
END:VEVENT
END:VCALENDAR