BEGIN:VCALENDAR
VERSION:2.0
PRODID:-//BaNES Virtual Library - ECPv6.15.20//NONSGML v1.0//EN
CALSCALE:GREGORIAN
METHOD:PUBLISH
X-WR-CALNAME:BaNES Virtual Library
X-ORIGINAL-URL:https://baneslibraries.co.uk
X-WR-CALDESC:Events for BaNES Virtual Library
REFRESH-INTERVAL;VALUE=DURATION:PT1H
X-Robots-Tag:noindex
X-PUBLISHED-TTL:PT1H
BEGIN:VTIMEZONE
TZID:Europe/London
BEGIN:DAYLIGHT
TZOFFSETFROM:+0000
TZOFFSETTO:+0100
TZNAME:BST
DTSTART:20250330T010000
END:DAYLIGHT
BEGIN:STANDARD
TZOFFSETFROM:+0100
TZOFFSETTO:+0000
TZNAME:GMT
DTSTART:20251026T010000
END:STANDARD
BEGIN:DAYLIGHT
TZOFFSETFROM:+0000
TZOFFSETTO:+0100
TZNAME:BST
DTSTART:20260329T010000
END:DAYLIGHT
BEGIN:STANDARD
TZOFFSETFROM:+0100
TZOFFSETTO:+0000
TZNAME:GMT
DTSTART:20261025T010000
END:STANDARD
BEGIN:DAYLIGHT
TZOFFSETFROM:+0000
TZOFFSETTO:+0100
TZNAME:BST
DTSTART:20270328T010000
END:DAYLIGHT
BEGIN:STANDARD
TZOFFSETFROM:+0100
TZOFFSETTO:+0000
TZNAME:GMT
DTSTART:20271031T010000
END:STANDARD
END:VTIMEZONE
BEGIN:VEVENT
DTSTART;TZID=Europe/London:20260126T100000
DTEND;TZID=Europe/London:20260126T113000
DTSTAMP:20260424T132805
CREATED:20251016T154337Z
LAST-MODIFIED:20251016T154338Z
UID:61896-1769421600-1769427000@baneslibraries.co.uk
SUMMARY:Conversational English Class
DESCRIPTION:Classes for refugees and those from a displaced background only due to space.These classes are only available to refugees and those from a displaced background due to space. To book or to find out more\, please email: language@bathwelcomesrefugees.org.uk.  You can do this in any language and they will translate it and reciprocate in kind.
URL:https://baneslibraries.co.uk/event/conversational-english-class-12/
LOCATION:Keynsham Library & Information Service\, Market Walk\, Keynsham\, BS31 1FS\, Keynsham\, BS31 1FS\, GB
CATEGORIES:Adult's Events,Events,Keynsham Library,Partner Events,Support Services
ATTACH;FMTTYPE=image/png:https://baneslibraries.co.uk/wp-content/uploads/2025/10/61866_image.png
END:VEVENT
BEGIN:VEVENT
DTSTART;TZID=Europe/London:20260126T093000
DTEND;TZID=Europe/London:20260126T163000
DTSTAMP:20260424T132805
CREATED:20251017T102429Z
LAST-MODIFIED:20251017T102431Z
UID:62028-1769419800-1769445000@baneslibraries.co.uk
SUMMARY:Reach Housing Advice and Support Service Drop In
DESCRIPTION:Support\, information and advice if you are having difficulty with your accommodation
URL:https://baneslibraries.co.uk/event/reach-housing-advice-and-support-service-drop-in-63/
LOCATION:Keynsham Library & Information Service\, Market Walk\, Keynsham\, BS31 1FS\, Keynsham\, BS31 1FS\, GB
CATEGORIES:Adult's Events,Events,Keynsham Library,Partner Events,Support Services
ATTACH;FMTTYPE=image/png:https://baneslibraries.co.uk/wp-content/uploads/2025/10/61996_image.png
END:VEVENT
BEGIN:VEVENT
DTSTART;TZID=Europe/London:20260126T093000
DTEND;TZID=Europe/London:20260126T130000
DTSTAMP:20260424T132805
CREATED:20251016T142854Z
LAST-MODIFIED:20251016T142856Z
UID:61730-1769419800-1769432400@baneslibraries.co.uk
SUMMARY:Citizens Advice Drop In
DESCRIPTION:Help with money\, legal\, and consumer problems.
URL:https://baneslibraries.co.uk/event/citizens-advice-drop-in-66/
LOCATION:Keynsham Library & Information Service\, Market Walk\, Keynsham\, BS31 1FS\, Keynsham\, BS31 1FS\, GB
CATEGORIES:Adult's Events,Events,Keynsham Library,Partner Events,Support Services
ATTACH;FMTTYPE=image/png:https://baneslibraries.co.uk/wp-content/uploads/2025/10/61700_image.png
END:VEVENT
BEGIN:VEVENT
DTSTART;TZID=Europe/London:20260124T123000
DTEND;TZID=Europe/London:20260124T160000
DTSTAMP:20260424T132805
CREATED:20241216T172358Z
LAST-MODIFIED:20241216T172400Z
UID:44398-1769257800-1769270400@baneslibraries.co.uk
SUMMARY:Board Game Saturdays at Keynsham Library
DESCRIPTION:Do you love to play boardgames? This is the perfect event for you!T﻿his is a drop in event. J﻿oin us for an afternoon of fun for all the family! We have a great selection of boardgames\, suitable for all ages.
URL:https://baneslibraries.co.uk/event/board-game-saturdays-at-keynsham-library-71/
LOCATION:Keynsham Library & Information Service\, Market Walk\, Keynsham\, BS31 1FS\, Keynsham\, BS31 1FS\, GB
CATEGORIES:Adult's Events,Children's Events,Events,Keynsham Library,Library Events,Young Adult's Events
ATTACH;FMTTYPE=image/png:https://baneslibraries.co.uk/wp-content/uploads/2024/04/22720_image.png
END:VEVENT
BEGIN:VEVENT
DTSTART;TZID=Europe/London:20260124T120000
DTEND;TZID=Europe/London:20260124T160000
DTSTAMP:20260424T132805
CREATED:20241216T131950Z
LAST-MODIFIED:20241216T131958Z
UID:44163-1769256000-1769270400@baneslibraries.co.uk
SUMMARY:Board Game Saturdays at Bath Central Library
DESCRIPTION:Do you love to play boardgames? This is the perfect event for you!T﻿his is a drop in event. J﻿oin us for an afternoon of fun for all the family! We have a great selection of boardgames\, suitable for all ages.
URL:https://baneslibraries.co.uk/event/board-game-saturdays-at-bath-central-library-69/
LOCATION:Bath Central Library\, 19-23 The Podium\, Bath\, BA1 5AN\, Bath\, BA1 5AN\, GB
CATEGORIES:Adult's Events,Bath Central Library,Children's Events,Events,Library Events,Young Adult's Events
ATTACH;FMTTYPE=image/png:https://baneslibraries.co.uk/wp-content/uploads/2024/04/22877_image.png
END:VEVENT
END:VCALENDAR