BEGIN:VCALENDAR
VERSION:2.0
PRODID:-//BaNES Virtual Library - ECPv6.15.20//NONSGML v1.0//EN
CALSCALE:GREGORIAN
METHOD:PUBLISH
X-WR-CALNAME:BaNES Virtual Library
X-ORIGINAL-URL:https://baneslibraries.co.uk
X-WR-CALDESC:Events for BaNES Virtual Library
REFRESH-INTERVAL;VALUE=DURATION:PT1H
X-Robots-Tag:noindex
X-PUBLISHED-TTL:PT1H
BEGIN:VTIMEZONE
TZID:Europe/London
BEGIN:DAYLIGHT
TZOFFSETFROM:+0000
TZOFFSETTO:+0100
TZNAME:BST
DTSTART:20250330T010000
END:DAYLIGHT
BEGIN:STANDARD
TZOFFSETFROM:+0100
TZOFFSETTO:+0000
TZNAME:GMT
DTSTART:20251026T010000
END:STANDARD
BEGIN:DAYLIGHT
TZOFFSETFROM:+0000
TZOFFSETTO:+0100
TZNAME:BST
DTSTART:20260329T010000
END:DAYLIGHT
BEGIN:STANDARD
TZOFFSETFROM:+0100
TZOFFSETTO:+0000
TZNAME:GMT
DTSTART:20261025T010000
END:STANDARD
BEGIN:DAYLIGHT
TZOFFSETFROM:+0000
TZOFFSETTO:+0100
TZNAME:BST
DTSTART:20270328T010000
END:DAYLIGHT
BEGIN:STANDARD
TZOFFSETFROM:+0100
TZOFFSETTO:+0000
TZNAME:GMT
DTSTART:20271031T010000
END:STANDARD
END:VTIMEZONE
BEGIN:VEVENT
DTSTART;TZID=Europe/London:20260506T160000
DTEND;TZID=Europe/London:20260506T170000
DTSTAMP:20260425T175918
CREATED:20251125T165008Z
LAST-MODIFIED:20251125T165009Z
UID:62973-1778083200-1778086800@baneslibraries.co.uk
SUMMARY:SASS Community Choir 2025 - 2026
DESCRIPTION:For all autistic young people and their families in B&NESMusic provides a unique way to connect with others with singing having many health and wellbeing benefits\, so join us to enjoy some singing together within a fun\, friendly and supportive environment. For more information or to book a place please email sass@fossewayschool.com or call 01761 412198. Drop ins welcome on the day.
URL:https://baneslibraries.co.uk/event/sass-community-choir-2025-2026/
LOCATION:Midsomer Norton Library\, The Hollies\, High St\, Midsomer Norton\, BA3 2DT\, Midsomer Norton\, BA3 2DT\, GB
CATEGORIES:Adult's Events,Children's Events,Library Events,Midsomer Norton Library,Partner Events,Support Services,Young Adult's Events
ATTACH;FMTTYPE=image/png:https://baneslibraries.co.uk/wp-content/uploads/2025/11/62946_image.png
END:VEVENT
BEGIN:VEVENT
DTSTART;TZID=Europe/London:20260507T090000
DTEND;TZID=Europe/London:20260507T150000
DTSTAMP:20260425T175918
CREATED:20251219T105703Z
LAST-MODIFIED:20251219T105705Z
UID:63828-1778144400-1778166000@baneslibraries.co.uk
SUMMARY:Halifax Community Banking Drop-In
DESCRIPTION:Drop-in session with Halifax.The Halifax Community Bankers provide banking services and account support for customers who may not have a local branch. They can help you with: Payments and transfersCard and PIN servicesManaging your accountHelp with Online Banking or using our Mobile Banking appHelp with Telephone BankingFind out more at: www.halifax.co.uk/helpcentre/everyday-banking/banking-near-you/community-bankers.html
URL:https://baneslibraries.co.uk/event/halifax-community-banking-drop-in-19/
LOCATION:Library & Information Service\, High Street\, Midsomer Norton\, BA3 2DP\, Midsomer Norton\, BA3 2DP\, GB
CATEGORIES:Adult's Events,Events,Midsomer Norton Library,Partner Events,Support Services
ATTACH;FMTTYPE=image/png:https://baneslibraries.co.uk/wp-content/uploads/2025/12/63792_image.png
END:VEVENT
BEGIN:VEVENT
DTSTART;TZID=Europe/London:20260507T090000
DTEND;TZID=Europe/London:20260507T163000
DTSTAMP:20260425T175918
CREATED:20250923T154733Z
LAST-MODIFIED:20250923T154747Z
UID:57825-1778144400-1778171400@baneslibraries.co.uk
SUMMARY:Private Rented Advice Drop In
DESCRIPTION:Are you looking for a private rented home?Our Private Rented Officer will be available to offer guidance on how to find a home in the private rented sector\, including advice on relationship building with landlords and letting agents. Contact 01225 396296.  Closed 12.30 – 1.30pm.
URL:https://baneslibraries.co.uk/event/private-rented-advice-drop-in-29/
LOCATION:Keynsham Library & Information Service\, Market Walk\, Keynsham\, BS31 1FS\, Keynsham\, BS31 1FS\, GB
CATEGORIES:Adult's Events,Events,Keynsham Library,Partner Events,Support Services
ATTACH;FMTTYPE=image/png:https://baneslibraries.co.uk/wp-content/uploads/2025/09/57760_image.png
END:VEVENT
BEGIN:VEVENT
DTSTART;TZID=Europe/London:20260507T093000
DTEND;TZID=Europe/London:20260507T123000
DTSTAMP:20260425T175918
CREATED:20250917T152729Z
LAST-MODIFIED:20260402T085227Z
UID:56326-1778146200-1778157000@baneslibraries.co.uk
SUMMARY:HomeSearch Drop In
DESCRIPTION:Homesearch is the register for social rent homes and low cost home ownership in Bath & North East Somerset.\n\n\nFind out more at: homesearchbathnes.org.uk
URL:https://baneslibraries.co.uk/event/homesearch-drop-in-35/
LOCATION:Keynsham Library & Information Service\, Market Walk\, Keynsham\, BS31 1FS\, Keynsham\, BS31 1FS\, GB
CATEGORIES:Adult's Events,Events,Keynsham Library,Partner Events,Support Services
ATTACH;FMTTYPE=image/png:https://baneslibraries.co.uk/wp-content/uploads/2025/09/56263_image.png
END:VEVENT
BEGIN:VEVENT
DTSTART;TZID=Europe/London:20260507T100000
DTEND;TZID=Europe/London:20260507T110000
DTSTAMP:20260425T175918
CREATED:20260417T165148Z
LAST-MODIFIED:20260417T165149Z
UID:69146-1778148000-1778151600@baneslibraries.co.uk
SUMMARY:Relaxed Storytime in the Sensory Space
DESCRIPTION:Relaxed Storytime for young children with autism or sensory needs in Bath Central Library’s calming Sensory Space.Storytime in Bath Central Library’s calming Sensory Space\, designed for young children who are autistic\, have sensory needs\, or would simply benefit from a quieter environment. Sessions are recommended for children who would find picture books engaging and appropriate for their learning needs.  Join us for stories and explore special resources like Story Sacks\, which help spark interest in books.  Booking is required- one ticket per adult and child\, but the session is fully flexible – families are welcome to come and go whenever they need. As spaces are limited (one ticket per adult and child)\, please cancel your booking if you can no longer attend so others can join.  Families where the parent/carer have their own sensory needs and would also benefit from the quieter environment are welcome with their young children.  Sendias Bathnes will be in the library 9.30-12 – pop along to find out more about their service and how they can support your family.  New to the Sensory Space and Library? Check out our video and picture guides on the Access for All webpage\, where you’ll also find details about our inclusive resources.
URL:https://baneslibraries.co.uk/event/relaxed-storytime-in-the-sensory-space-4/
LOCATION:Bath Central Library\, 19-23 The Podium\, Bath\, BA1 5AN\, Bath\, BA1 5AN\, GB
CATEGORIES:Bath Central Library,Children's Events,Events,Library Events,Support Services
ATTACH;FMTTYPE=image/png:https://baneslibraries.co.uk/wp-content/uploads/2026/04/69146_image.png
END:VEVENT
BEGIN:VEVENT
DTSTART;TZID=Europe/London:20260507T130000
DTEND;TZID=Europe/London:20260507T163000
DTSTAMP:20260425T175918
CREATED:20250923T160948Z
LAST-MODIFIED:20250923T160959Z
UID:58013-1778158800-1778171400@baneslibraries.co.uk
SUMMARY:Everyone Health - Stop Smoking Clinic
DESCRIPTION:Want to quit smoking? It doesn’t have to be a dragYour local Bath & North East Somerset Stop Smoking service offers FREE support to local people who are thinking of and wanting to take positive steps towards stopping smoking. No matter how long you’ve smoked\, quitting benefits your health right away. In just a few days\, your sense of taste and smell will get better. Your lungs will start to clear\, so breathing feels easier. You’ll also keep your loved ones safe from second-hand smoke and save money.  Find out more: https://banes.everyonehealth.co.uk/services/stop-smoking-service/
URL:https://baneslibraries.co.uk/event/everyone-health-stop-smoking-clinic-43/
LOCATION:Keynsham Library & Information Service\, Market Walk\, Keynsham\, BS31 1FS\, Keynsham\, BS31 1FS\, GB
CATEGORIES:Adult's Events,Events,Keynsham Library,Partner Events,Support Services
ATTACH;FMTTYPE=image/png:https://baneslibraries.co.uk/wp-content/uploads/2025/06/54646_image.png
END:VEVENT
BEGIN:VEVENT
DTSTART;TZID=Europe/London:20260511T093000
DTEND;TZID=Europe/London:20260511T130000
DTSTAMP:20260425T175918
CREATED:20251016T142933Z
LAST-MODIFIED:20251016T142935Z
UID:61760-1778491800-1778504400@baneslibraries.co.uk
SUMMARY:Citizens Advice Drop In
DESCRIPTION:Help with money\, legal\, and consumer problems.
URL:https://baneslibraries.co.uk/event/citizens-advice-drop-in-84/
LOCATION:Keynsham Library & Information Service\, Market Walk\, Keynsham\, BS31 1FS\, Keynsham\, BS31 1FS\, GB
CATEGORIES:Adult's Events,Events,Keynsham Library,Partner Events,Support Services
ATTACH;FMTTYPE=image/png:https://baneslibraries.co.uk/wp-content/uploads/2025/10/61700_image.png
END:VEVENT
BEGIN:VEVENT
DTSTART;TZID=Europe/London:20260511T093000
DTEND;TZID=Europe/London:20260511T163000
DTSTAMP:20260425T175918
CREATED:20251017T102458Z
LAST-MODIFIED:20260414T153843Z
UID:62050-1778491800-1778517000@baneslibraries.co.uk
SUMMARY:Reach Housing Advice and Support Service Drop In
DESCRIPTION:Support\, information and advice if you are having difficulty with your accommodation
URL:https://baneslibraries.co.uk/event/reach-housing-advice-and-support-service-drop-in-79/
LOCATION:Keynsham Library & Information Service\, Market Walk\, Keynsham\, BS31 1FS\, Keynsham\, BS31 1FS\, GB
CATEGORIES:Adult's Events,Events,Keynsham Library,Partner Events,Support Services
ATTACH;FMTTYPE=image/png:https://baneslibraries.co.uk/wp-content/uploads/2025/10/61996_image.png
END:VEVENT
BEGIN:VEVENT
DTSTART;TZID=Europe/London:20260511T100000
DTEND;TZID=Europe/London:20260511T113000
DTSTAMP:20260425T175918
CREATED:20251016T154420Z
LAST-MODIFIED:20251016T154422Z
UID:61926-1778493600-1778499000@baneslibraries.co.uk
SUMMARY:Conversational English Class
DESCRIPTION:Classes for refugees and those from a displaced background only due to space.These classes are only available to refugees and those from a displaced background due to space. To book or to find out more\, please email: language@bathwelcomesrefugees.org.uk.  You can do this in any language and they will translate it and reciprocate in kind.
URL:https://baneslibraries.co.uk/event/conversational-english-class-33/
LOCATION:Keynsham Library & Information Service\, Market Walk\, Keynsham\, BS31 1FS\, Keynsham\, BS31 1FS\, GB
CATEGORIES:Adult's Events,Events,Keynsham Library,Partner Events,Support Services
ATTACH;FMTTYPE=image/png:https://baneslibraries.co.uk/wp-content/uploads/2025/10/61866_image.png
END:VEVENT
BEGIN:VEVENT
DTSTART;TZID=Europe/London:20260512T090000
DTEND;TZID=Europe/London:20260512T150000
DTSTAMP:20260425T175918
CREATED:20250923T084909Z
LAST-MODIFIED:20251219T153032Z
UID:56809-1778576400-1778598000@baneslibraries.co.uk
SUMMARY:Reach Housing Advice and Support Service Drop In
DESCRIPTION:Support\, information and advice if you are having difficulty with your accommodation\n\n\nFind out more at: www.dhi-online.org.uk/get-help/housing-advice-support/reach
URL:https://baneslibraries.co.uk/event/reach-housing-advice-and-support-service-drop-in-34/
LOCATION:Library & Information Service\, High Street\, Midsomer Norton\, BA3 2DP\, Midsomer Norton\, BA3 2DP\, GB
CATEGORIES:Adult's Events,Events,Midsomer Norton Library,Partner Events,Support Services
ATTACH;FMTTYPE=image/png:https://baneslibraries.co.uk/wp-content/uploads/2025/09/56742_image.png
END:VEVENT
BEGIN:VEVENT
DTSTART;TZID=Europe/London:20260512T093000
DTEND;TZID=Europe/London:20260512T160000
DTSTAMP:20260425T175918
CREATED:20250922T160755Z
LAST-MODIFIED:20250922T160757Z
UID:56590-1778578200-1778601600@baneslibraries.co.uk
SUMMARY:Housing Options Drop In
DESCRIPTION:Offering help and advice about housing optionsNot available between 12 .00- 1.15pm.
URL:https://baneslibraries.co.uk/event/housing-options-drop-in-19/
LOCATION:Library & Information Service\, High Street\, Midsomer Norton\, BA3 2DP\, Midsomer Norton\, BA3 2DP\, GB
CATEGORIES:Adult's Events,Events,Midsomer Norton Library,Partner Events,Support Services
ATTACH;FMTTYPE=image/png:https://baneslibraries.co.uk/wp-content/uploads/2025/09/56522_image.png
END:VEVENT
BEGIN:VEVENT
DTSTART;TZID=Europe/London:20260512T093000
DTEND;TZID=Europe/London:20260512T160000
DTSTAMP:20260425T175918
CREATED:20250923T134328Z
LAST-MODIFIED:20250923T134333Z
UID:57036-1778578200-1778601600@baneslibraries.co.uk
SUMMARY:DayStop Drop In
DESCRIPTION:Providing help\, support and advice with issues relating to housing\, benefits\, employment and training for any young people aged 16 – 25.
URL:https://baneslibraries.co.uk/event/daystop-drop-in-43/
LOCATION:Library & Information Service\, High Street\, Midsomer Norton\, BA3 2DP\, Midsomer Norton\, BA3 2DP\, GB
CATEGORIES:Adult's Events,Events,Midsomer Norton Library,Partner Events,Support Services,Young Adult's Events
ATTACH;FMTTYPE=image/png:https://baneslibraries.co.uk/wp-content/uploads/2025/09/56966_image.png
END:VEVENT
BEGIN:VEVENT
DTSTART;TZID=Europe/London:20260512T110000
DTEND;TZID=Europe/London:20260512T130000
DTSTAMP:20260425T175918
CREATED:20260204T163556Z
LAST-MODIFIED:20260309T172311Z
UID:65413-1778583600-1778590800@baneslibraries.co.uk
SUMMARY:Drop-in Employment Support Sessions
DESCRIPTION:Get employment support from Skills Connect\n\n\nDrop in service\, no need to book. \nOffering free support to residents of Bath & North East Somerset to enter training\, gain employment\, progress within their current career or change into a new career. \nWe have a team of trained coaches that offer tailored\, person centred support. \nWe can help if you are: \n\nAged 18 years or over\nA Bath & North East Somerset resident\n\nFor more information: \nVisit: www.skillsconnect.org.uk/bath-north-east-somerset/ \nCall: 0117 332 1500 \nEmail: skills_connect@bathnes.gov.uk
URL:https://baneslibraries.co.uk/event/employment-drop-in-19/
LOCATION:Central Library\, 19-23 The Podium\, Bath\, BA1 5AN\, Bath\, BA1 5AN\, GB
CATEGORIES:Adult's Events,Bath Central Library,Events,Partner Events,Support Services,Young Adult's Events
ATTACH;FMTTYPE=image/png:https://baneslibraries.co.uk/wp-content/uploads/2026/03/66739_image.png
END:VEVENT
BEGIN:VEVENT
DTSTART;TZID=Europe/London:20260513T093000
DTEND;TZID=Europe/London:20260513T140000
DTSTAMP:20260425T175918
CREATED:20250923T142313Z
LAST-MODIFIED:20250923T142322Z
UID:57233-1778664600-1778680800@baneslibraries.co.uk
SUMMARY:Citizens Advice Drop In
DESCRIPTION:Help with money\, legal\, and consumer problems.
URL:https://baneslibraries.co.uk/event/citizens-advice-drop-in-30/
LOCATION:Library & Information Service\, High Street\, Midsomer Norton\, BA3 2DP\, Midsomer Norton\, BA3 2DP\, GB
CATEGORIES:Adult's Events,Events,Midsomer Norton Library,Partner Events,Support Services
ATTACH;FMTTYPE=image/png:https://baneslibraries.co.uk/wp-content/uploads/2025/09/57164_image.png
END:VEVENT
BEGIN:VEVENT
DTSTART;TZID=Europe/London:20260513T100000
DTEND;TZID=Europe/London:20260513T120000
DTSTAMP:20260425T175918
CREATED:20250923T150024Z
LAST-MODIFIED:20260309T173158Z
UID:57436-1778666400-1778673600@baneslibraries.co.uk
SUMMARY:Drop-in Employment Support Session
DESCRIPTION:One-to-one career coaching\, support and advice about jobs and careers.
URL:https://baneslibraries.co.uk/event/future-bright-drop-in-30/
LOCATION:Library & Information Service\, High Street\, Midsomer Norton\, BA3 2DP\, Midsomer Norton\, BA3 2DP\, GB
CATEGORIES:Adult's Events,Events,Midsomer Norton Library,Partner Events,Support Services,Young Adult's Events
ATTACH;FMTTYPE=image/png:https://baneslibraries.co.uk/wp-content/uploads/2026/03/66739_image.png
END:VEVENT
BEGIN:VEVENT
DTSTART;TZID=Europe/London:20260513T100000
DTEND;TZID=Europe/London:20260513T120000
DTSTAMP:20260425T175918
CREATED:20251218T165123Z
LAST-MODIFIED:20251218T165125Z
UID:63717-1778666400-1778673600@baneslibraries.co.uk
SUMMARY:Wessex Water Community Drop in
DESCRIPTION:Come along to chat about your water bill and water sewerages services.
URL:https://baneslibraries.co.uk/event/wessex-water-community-drop-in-7/
LOCATION:Bath Central Library\, 19-23 The Podium\, Bath\, BA1 5AN\, Bath\, BA1 5AN\, GB
CATEGORIES:Adult's Events,Bath Central Library,Partner Events,Support Services
ATTACH;FMTTYPE=image/png:https://baneslibraries.co.uk/wp-content/uploads/2025/12/63708_image.png
END:VEVENT
BEGIN:VEVENT
DTSTART;TZID=Europe/London:20260513T130000
DTEND;TZID=Europe/London:20260513T140000
DTSTAMP:20260425T175918
CREATED:20251218T165122Z
LAST-MODIFIED:20251218T165124Z
UID:63719-1778677200-1778680800@baneslibraries.co.uk
SUMMARY:Wessex Water Community Drop in
DESCRIPTION:Come along to chat about your water bill and water sewerages services.
URL:https://baneslibraries.co.uk/event/wessex-water-community-drop-in-6/
LOCATION:Bath Central Library\, 19-23 The Podium\, Bath\, BA1 5AN\, Bath\, BA1 5AN\, GB
CATEGORIES:Adult's Events,Bath Central Library,Partner Events,Support Services
ATTACH;FMTTYPE=image/png:https://baneslibraries.co.uk/wp-content/uploads/2025/12/63708_image.png
END:VEVENT
BEGIN:VEVENT
DTSTART;TZID=Europe/London:20260514T090000
DTEND;TZID=Europe/London:20260514T150000
DTSTAMP:20260425T175918
CREATED:20251219T105701Z
LAST-MODIFIED:20251219T105703Z
UID:63830-1778749200-1778770800@baneslibraries.co.uk
SUMMARY:Halifax Community Banking Drop-In
DESCRIPTION:Drop-in session with Halifax.The Halifax Community Bankers provide banking services and account support for customers who may not have a local branch. They can help you with: Payments and transfersCard and PIN servicesManaging your accountHelp with Online Banking or using our Mobile Banking appHelp with Telephone BankingFind out more at: www.halifax.co.uk/helpcentre/everyday-banking/banking-near-you/community-bankers.html
URL:https://baneslibraries.co.uk/event/halifax-community-banking-drop-in-18/
LOCATION:Library & Information Service\, High Street\, Midsomer Norton\, BA3 2DP\, Midsomer Norton\, BA3 2DP\, GB
CATEGORIES:Adult's Events,Events,Midsomer Norton Library,Partner Events,Support Services
ATTACH;FMTTYPE=image/png:https://baneslibraries.co.uk/wp-content/uploads/2025/12/63792_image.png
END:VEVENT
BEGIN:VEVENT
DTSTART;TZID=Europe/London:20260514T090000
DTEND;TZID=Europe/London:20260514T163000
DTSTAMP:20260425T175918
CREATED:20250923T154731Z
LAST-MODIFIED:20250923T154745Z
UID:57827-1778749200-1778776200@baneslibraries.co.uk
SUMMARY:Private Rented Advice Drop In
DESCRIPTION:Are you looking for a private rented home?Our Private Rented Officer will be available to offer guidance on how to find a home in the private rented sector\, including advice on relationship building with landlords and letting agents. Contact 01225 396296.  Closed 12.30 – 1.30pm.
URL:https://baneslibraries.co.uk/event/private-rented-advice-drop-in-28/
LOCATION:Keynsham Library & Information Service\, Market Walk\, Keynsham\, BS31 1FS\, Keynsham\, BS31 1FS\, GB
CATEGORIES:Adult's Events,Events,Keynsham Library,Partner Events,Support Services
ATTACH;FMTTYPE=image/png:https://baneslibraries.co.uk/wp-content/uploads/2025/09/57760_image.png
END:VEVENT
BEGIN:VEVENT
DTSTART;TZID=Europe/London:20260514T093000
DTEND;TZID=Europe/London:20260514T123000
DTSTAMP:20260425T175918
CREATED:20250917T152729Z
LAST-MODIFIED:20260402T085435Z
UID:56328-1778751000-1778761800@baneslibraries.co.uk
SUMMARY:HomeSearch Drop In
DESCRIPTION:Homesearch is the register for social rent homes and low cost home ownership in Bath & North East Somerset.\n\n\nFind out more at: homesearchbathnes.org.uk
URL:https://baneslibraries.co.uk/event/homesearch-drop-in-36/
LOCATION:Keynsham Library & Information Service\, Market Walk\, Keynsham\, BS31 1FS\, Keynsham\, BS31 1FS\, GB
CATEGORIES:Adult's Events,Events,Keynsham Library,Partner Events,Support Services
ATTACH;FMTTYPE=image/png:https://baneslibraries.co.uk/wp-content/uploads/2025/09/56263_image.png
END:VEVENT
BEGIN:VEVENT
DTSTART;TZID=Europe/London:20260514T130000
DTEND;TZID=Europe/London:20260514T163000
DTSTAMP:20260425T175918
CREATED:20250923T160931Z
LAST-MODIFIED:20250923T160946Z
UID:58015-1778763600-1778776200@baneslibraries.co.uk
SUMMARY:Everyone Health - Stop Smoking Clinic
DESCRIPTION:Want to quit smoking? It doesn’t have to be a dragYour local Bath & North East Somerset Stop Smoking service offers FREE support to local people who are thinking of and wanting to take positive steps towards stopping smoking. No matter how long you’ve smoked\, quitting benefits your health right away. In just a few days\, your sense of taste and smell will get better. Your lungs will start to clear\, so breathing feels easier. You’ll also keep your loved ones safe from second-hand smoke and save money.  Find out more: https://banes.everyonehealth.co.uk/services/stop-smoking-service/
URL:https://baneslibraries.co.uk/event/everyone-health-stop-smoking-clinic-34/
LOCATION:Keynsham Library & Information Service\, Market Walk\, Keynsham\, BS31 1FS\, Keynsham\, BS31 1FS\, GB
CATEGORIES:Adult's Events,Events,Keynsham Library,Partner Events,Support Services
ATTACH;FMTTYPE=image/png:https://baneslibraries.co.uk/wp-content/uploads/2025/06/54646_image.png
END:VEVENT
BEGIN:VEVENT
DTSTART;TZID=Europe/London:20260515T100000
DTEND;TZID=Europe/London:20260515T123000
DTSTAMP:20260425T175918
CREATED:20260119T174448Z
LAST-MODIFIED:20260309T173534Z
UID:64763-1778839200-1778848200@baneslibraries.co.uk
SUMMARY:We Work For Everyone Drop In
DESCRIPTION:Employment support and advice for those with autism\, learning difficulties or learning disabilities.
URL:https://baneslibraries.co.uk/event/we-work-for-everyone-drop-in-10/
LOCATION:Library & Information Service\, High Street\, Midsomer Norton\, BA3 2DP\, Midsomer Norton\, BA3 2DP\, GB
CATEGORIES:Adult's Events,Events,Midsomer Norton Library,Partner Events,Support Services,Young Adult's Events
ATTACH;FMTTYPE=image/png:https://baneslibraries.co.uk/wp-content/uploads/2025/12/63736_image.png
END:VEVENT
BEGIN:VEVENT
DTSTART;TZID=Europe/London:20260515T140000
DTEND;TZID=Europe/London:20260515T160000
DTSTAMP:20260425T175918
CREATED:20260204T152224Z
LAST-MODIFIED:20260204T152226Z
UID:65351-1778853600-1778860800@baneslibraries.co.uk
SUMMARY:Sight Support West Drop In
DESCRIPTION:Worried about your vision? Get support with your sight.Visit the Sight Support website or call 01225 477277 and choose Option 2.  Appointments 1.00pm – 2.00pm & 3.00pm – 4.00pm Drop in for advice 2.00pm – 3.00pm Social group 2.00pm – 4.00pm
URL:https://baneslibraries.co.uk/event/sight-support-west-drop-in-7/
LOCATION:Keynsham Library & Information Service\, Market Walk\, Keynsham\, BS31 1FS\, Keynsham\, BS31 1FS\, GB
CATEGORIES:Adult's Events,Events,Keynsham Library,Partner Events,Support Services
ATTACH;FMTTYPE=image/png:https://baneslibraries.co.uk/wp-content/uploads/2026/02/65344_image.png
END:VEVENT
BEGIN:VEVENT
DTSTART;TZID=Europe/London:20260518T093000
DTEND;TZID=Europe/London:20260518T130000
DTSTAMP:20260425T175918
CREATED:20251016T142930Z
LAST-MODIFIED:20251016T142931Z
UID:61762-1779096600-1779109200@baneslibraries.co.uk
SUMMARY:Citizens Advice Drop In
DESCRIPTION:Help with money\, legal\, and consumer problems.
URL:https://baneslibraries.co.uk/event/citizens-advice-drop-in-81/
LOCATION:Keynsham Library & Information Service\, Market Walk\, Keynsham\, BS31 1FS\, Keynsham\, BS31 1FS\, GB
CATEGORIES:Adult's Events,Events,Keynsham Library,Partner Events,Support Services
ATTACH;FMTTYPE=image/png:https://baneslibraries.co.uk/wp-content/uploads/2025/10/61700_image.png
END:VEVENT
BEGIN:VEVENT
DTSTART;TZID=Europe/London:20260518T093000
DTEND;TZID=Europe/London:20260518T163000
DTSTAMP:20260425T175918
CREATED:20251017T102500Z
LAST-MODIFIED:20260414T153845Z
UID:62052-1779096600-1779121800@baneslibraries.co.uk
SUMMARY:Reach Housing Advice and Support Service Drop In
DESCRIPTION:Support\, information and advice if you are having difficulty with your accommodation
URL:https://baneslibraries.co.uk/event/reach-housing-advice-and-support-service-drop-in-80/
LOCATION:Keynsham Library & Information Service\, Market Walk\, Keynsham\, BS31 1FS\, Keynsham\, BS31 1FS\, GB
CATEGORIES:Adult's Events,Events,Keynsham Library,Partner Events,Support Services
ATTACH;FMTTYPE=image/png:https://baneslibraries.co.uk/wp-content/uploads/2025/10/61996_image.png
END:VEVENT
BEGIN:VEVENT
DTSTART;TZID=Europe/London:20260518T100000
DTEND;TZID=Europe/London:20260518T113000
DTSTAMP:20260425T175918
CREATED:20251016T154419Z
LAST-MODIFIED:20251016T154420Z
UID:61928-1779098400-1779103800@baneslibraries.co.uk
SUMMARY:Conversational English Class
DESCRIPTION:Classes for refugees and those from a displaced background only due to space.These classes are only available to refugees and those from a displaced background due to space. To book or to find out more\, please email: language@bathwelcomesrefugees.org.uk.  You can do this in any language and they will translate it and reciprocate in kind.
URL:https://baneslibraries.co.uk/event/conversational-english-class-32/
LOCATION:Keynsham Library & Information Service\, Market Walk\, Keynsham\, BS31 1FS\, Keynsham\, BS31 1FS\, GB
CATEGORIES:Adult's Events,Events,Keynsham Library,Partner Events,Support Services
ATTACH;FMTTYPE=image/png:https://baneslibraries.co.uk/wp-content/uploads/2025/10/61866_image.png
END:VEVENT
BEGIN:VEVENT
DTSTART;TZID=Europe/London:20260518T103000
DTEND;TZID=Europe/London:20260518T123000
DTSTAMP:20260425T175918
CREATED:20260309T171825Z
LAST-MODIFIED:20260309T171827Z
UID:66744-1779100200-1779107400@baneslibraries.co.uk
SUMMARY:Drop-in Employment Support Sessions
DESCRIPTION:Information\, advice and guidance about employment and skills
URL:https://baneslibraries.co.uk/event/drop-in-employment-support-sessions-6/
LOCATION:Keynsham Library & Information Service\, Market Walk\, Keynsham\, BS31 1FS\, Keynsham\, BS31 1FS\, GB
CATEGORIES:Adult's Events,Events,Keynsham Library,Partner Events,Support Services
ATTACH;FMTTYPE=image/png:https://baneslibraries.co.uk/wp-content/uploads/2026/03/66739_image.png
END:VEVENT
BEGIN:VEVENT
DTSTART;TZID=Europe/London:20260519T090000
DTEND;TZID=Europe/London:20260519T150000
DTSTAMP:20260425T175918
CREATED:20250923T084913Z
LAST-MODIFIED:20251219T153024Z
UID:56811-1779181200-1779202800@baneslibraries.co.uk
SUMMARY:Reach Housing Advice and Support Service Drop In
DESCRIPTION:Support\, information and advice if you are having difficulty with your accommodation\n\n\nFind out more at: www.dhi-online.org.uk/get-help/housing-advice-support/reach
URL:https://baneslibraries.co.uk/event/reach-housing-advice-and-support-service-drop-in-36/
LOCATION:Library & Information Service\, High Street\, Midsomer Norton\, BA3 2DP\, Midsomer Norton\, BA3 2DP\, GB
CATEGORIES:Adult's Events,Events,Midsomer Norton Library,Partner Events,Support Services
ATTACH;FMTTYPE=image/png:https://baneslibraries.co.uk/wp-content/uploads/2025/09/56742_image.png
END:VEVENT
BEGIN:VEVENT
DTSTART;TZID=Europe/London:20260519T093000
DTEND;TZID=Europe/London:20260519T160000
DTSTAMP:20260425T175918
CREATED:20250922T160753Z
LAST-MODIFIED:20250922T160754Z
UID:56592-1779183000-1779206400@baneslibraries.co.uk
SUMMARY:Housing Options Drop In
DESCRIPTION:Offering help and advice about housing optionsNot available between 12 .00- 1.15pm.
URL:https://baneslibraries.co.uk/event/housing-options-drop-in-18/
LOCATION:Library & Information Service\, High Street\, Midsomer Norton\, BA3 2DP\, Midsomer Norton\, BA3 2DP\, GB
CATEGORIES:Adult's Events,Events,Midsomer Norton Library,Partner Events,Support Services
ATTACH;FMTTYPE=image/png:https://baneslibraries.co.uk/wp-content/uploads/2025/09/56522_image.png
END:VEVENT
BEGIN:VEVENT
DTSTART;TZID=Europe/London:20260519T110000
DTEND;TZID=Europe/London:20260519T130000
DTSTAMP:20260425T175918
CREATED:20260204T163630Z
LAST-MODIFIED:20260309T172249Z
UID:65415-1779188400-1779195600@baneslibraries.co.uk
SUMMARY:Drop-in Employment Support Sessions
DESCRIPTION:Get employment support from Skills Connect\n\n\nDrop in service\, no need to book. \nOffering free support to residents of Bath & North East Somerset to enter training\, gain employment\, progress within their current career or change into a new career. \nWe have a team of trained coaches that offer tailored\, person centred support. \nWe can help if you are: \n\nAged 18 years or over\nA Bath & North East Somerset resident\n\nFor more information: \nVisit: www.skillsconnect.org.uk/bath-north-east-somerset/ \nCall: 0117 332 1500 \nEmail: skills_connect@bathnes.gov.uk
URL:https://baneslibraries.co.uk/event/employment-drop-in-35/
LOCATION:Central Library\, 19-23 The Podium\, Bath\, BA1 5AN\, Bath\, BA1 5AN\, GB
CATEGORIES:Adult's Events,Bath Central Library,Events,Partner Events,Support Services,Young Adult's Events
ATTACH;FMTTYPE=image/png:https://baneslibraries.co.uk/wp-content/uploads/2026/03/66739_image.png
END:VEVENT
END:VCALENDAR