BEGIN:VCALENDAR
VERSION:2.0
PRODID:-//BaNES Virtual Library - ECPv6.15.20//NONSGML v1.0//EN
CALSCALE:GREGORIAN
METHOD:PUBLISH
X-ORIGINAL-URL:https://baneslibraries.co.uk
X-WR-CALDESC:Events for BaNES Virtual Library
REFRESH-INTERVAL;VALUE=DURATION:PT1H
X-Robots-Tag:noindex
X-PUBLISHED-TTL:PT1H
BEGIN:VTIMEZONE
TZID:Europe/London
BEGIN:DAYLIGHT
TZOFFSETFROM:+0000
TZOFFSETTO:+0100
TZNAME:BST
DTSTART:20250330T010000
END:DAYLIGHT
BEGIN:STANDARD
TZOFFSETFROM:+0100
TZOFFSETTO:+0000
TZNAME:GMT
DTSTART:20251026T010000
END:STANDARD
BEGIN:DAYLIGHT
TZOFFSETFROM:+0000
TZOFFSETTO:+0100
TZNAME:BST
DTSTART:20260329T010000
END:DAYLIGHT
BEGIN:STANDARD
TZOFFSETFROM:+0100
TZOFFSETTO:+0000
TZNAME:GMT
DTSTART:20261025T010000
END:STANDARD
BEGIN:DAYLIGHT
TZOFFSETFROM:+0000
TZOFFSETTO:+0100
TZNAME:BST
DTSTART:20270328T010000
END:DAYLIGHT
BEGIN:STANDARD
TZOFFSETFROM:+0100
TZOFFSETTO:+0000
TZNAME:GMT
DTSTART:20271031T010000
END:STANDARD
END:VTIMEZONE
BEGIN:VEVENT
DTSTART;TZID=Europe/London:20260427T093000
DTEND;TZID=Europe/London:20260427T130000
DTSTAMP:20260423T170112
CREATED:20251016T142914Z
LAST-MODIFIED:20251016T142916Z
UID:61756-1777282200-1777294800@baneslibraries.co.uk
SUMMARY:Citizens Advice Drop In
DESCRIPTION:Help with money\, legal\, and consumer problems.
URL:https://baneslibraries.co.uk/event/citizens-advice-drop-in-74/
LOCATION:Keynsham Library & Information Service\, Market Walk\, Keynsham\, BS31 1FS\, Keynsham\, BS31 1FS\, GB
CATEGORIES:Adult's Events,Events,Keynsham Library,Partner Events,Support Services
ATTACH;FMTTYPE=image/png:https://baneslibraries.co.uk/wp-content/uploads/2025/10/61700_image.png
END:VEVENT
BEGIN:VEVENT
DTSTART;TZID=Europe/London:20260427T093000
DTEND;TZID=Europe/London:20260427T163000
DTSTAMP:20260423T170112
CREATED:20251017T102455Z
LAST-MODIFIED:20260414T153840Z
UID:62046-1777282200-1777307400@baneslibraries.co.uk
SUMMARY:Reach Housing Advice and Support Service Drop In
DESCRIPTION:Support\, information and advice if you are having difficulty with your accommodation
URL:https://baneslibraries.co.uk/event/reach-housing-advice-and-support-service-drop-in-75/
LOCATION:Keynsham Library & Information Service\, Market Walk\, Keynsham\, BS31 1FS\, Keynsham\, BS31 1FS\, GB
CATEGORIES:Adult's Events,Events,Keynsham Library,Partner Events,Support Services
ATTACH;FMTTYPE=image/png:https://baneslibraries.co.uk/wp-content/uploads/2025/10/61996_image.png
END:VEVENT
BEGIN:VEVENT
DTSTART;TZID=Europe/London:20260427T100000
DTEND;TZID=Europe/London:20260427T113000
DTSTAMP:20260423T170112
CREATED:20251016T154410Z
LAST-MODIFIED:20251016T154412Z
UID:61922-1777284000-1777289400@baneslibraries.co.uk
SUMMARY:Conversational English Class
DESCRIPTION:Classes for refugees and those from a displaced background only due to space.These classes are only available to refugees and those from a displaced background due to space. To book or to find out more\, please email: language@bathwelcomesrefugees.org.uk.  You can do this in any language and they will translate it and reciprocate in kind.
URL:https://baneslibraries.co.uk/event/conversational-english-class-28/
LOCATION:Keynsham Library & Information Service\, Market Walk\, Keynsham\, BS31 1FS\, Keynsham\, BS31 1FS\, GB
CATEGORIES:Adult's Events,Events,Keynsham Library,Partner Events,Support Services
ATTACH;FMTTYPE=image/png:https://baneslibraries.co.uk/wp-content/uploads/2025/10/61866_image.png
END:VEVENT
BEGIN:VEVENT
DTSTART;TZID=Europe/London:20260427T100000
DTEND;TZID=Europe/London:20260427T120000
DTSTAMP:20260423T170112
CREATED:20250627T134930Z
LAST-MODIFIED:20250627T134931Z
UID:54624-1777284000-1777291200@baneslibraries.co.uk
SUMMARY:Volunteering and Wellbeing Drop-In
DESCRIPTION:Interested in volunteering? Need mental health support? Come along to a drop-in session.Find out how to register as a volunteer and learn more about current opportunities around B&NES. Find out about the BANES mental health & wellbing service and what support HCRG Care Group can offer.
URL:https://baneslibraries.co.uk/event/volunteering-and-wellbeing-drop-in-4/
LOCATION:Keynsham Library & Information Service\, Market Walk\, Keynsham\, BS31 1FS\, Keynsham\, BS31 1FS\, GB
CATEGORIES:Adult's Events,Events,Keynsham Library,Partner Events,Support Services
ATTACH;FMTTYPE=image/png:https://baneslibraries.co.uk/wp-content/uploads/2025/06/54605_image.png
END:VEVENT
BEGIN:VEVENT
DTSTART;TZID=Europe/London:20260427T103000
DTEND;TZID=Europe/London:20260427T123000
DTSTAMP:20260423T170112
CREATED:20251017T144727Z
LAST-MODIFIED:20251017T144729Z
UID:62412-1777285800-1777293000@baneslibraries.co.uk
SUMMARY:Hartbeeps
DESCRIPTION:Baby and toddler class.Booking required. Visit www.hartbeeps.com to book.
URL:https://baneslibraries.co.uk/event/hartbeeps-25/
LOCATION:Central Library\, 19-23 The Podium\, Bath\, BA1 5AN\, Bath\, BA1 5AN\, GB
CATEGORIES:Bath Central Library,Children's Events,Events,Partner Events
ATTACH;FMTTYPE=image/png:https://baneslibraries.co.uk/wp-content/uploads/2025/07/55114_image.png
END:VEVENT
BEGIN:VEVENT
DTSTART;TZID=Europe/London:20260428T090000
DTEND;TZID=Europe/London:20260428T150000
DTSTAMP:20260423T170112
CREATED:20250923T084831Z
LAST-MODIFIED:20251219T152755Z
UID:56805-1777366800-1777388400@baneslibraries.co.uk
SUMMARY:Reach Housing Advice and Support Service Drop In
DESCRIPTION:Support\, information and advice if you are having difficulty with your accommodation\n\n\nFind out more at: www.dhi-online.org.uk/get-help/housing-advice-support/reach
URL:https://baneslibraries.co.uk/event/reach-housing-advice-and-support-service-drop-in-31/
LOCATION:Library & Information Service\, High Street\, Midsomer Norton\, BA3 2DP\, Midsomer Norton\, BA3 2DP\, GB
CATEGORIES:Adult's Events,Events,Midsomer Norton Library,Partner Events,Support Services
ATTACH;FMTTYPE=image/png:https://baneslibraries.co.uk/wp-content/uploads/2025/09/56742_image.png
END:VEVENT
BEGIN:VEVENT
DTSTART;TZID=Europe/London:20260428T093000
DTEND;TZID=Europe/London:20260428T160000
DTSTAMP:20260423T170112
CREATED:20250922T160800Z
LAST-MODIFIED:20250922T160801Z
UID:56585-1777368600-1777392000@baneslibraries.co.uk
SUMMARY:Housing Options Drop In
DESCRIPTION:Offering help and advice about housing optionsNot available between 12 .00- 1.15pm.
URL:https://baneslibraries.co.uk/event/housing-options-drop-in-21/
LOCATION:Library & Information Service\, High Street\, Midsomer Norton\, BA3 2DP\, Midsomer Norton\, BA3 2DP\, GB
CATEGORIES:Adult's Events,Events,Midsomer Norton Library,Partner Events,Support Services
ATTACH;FMTTYPE=image/png:https://baneslibraries.co.uk/wp-content/uploads/2025/09/56522_image.png
END:VEVENT
BEGIN:VEVENT
DTSTART;TZID=Europe/London:20260428T094500
DTEND;TZID=Europe/London:20260428T103000
DTSTAMP:20260423T170112
CREATED:20251203T112514Z
LAST-MODIFIED:20251203T112515Z
UID:63122-1777369500-1777372200@baneslibraries.co.uk
SUMMARY:Drama Tots - Rising Stars
DESCRIPTION:Sing\, dance\, play and learn for children aged 18 months – 3 years.\n\n\nSING\, DANCE\, PLAY and LEARN! \nDrama Tots classes are high energy\, interactive and fun! In our multi award-winning classes you can expect a new theme every week. \nEach session is brought to life with colourful props\, such as ribbons\, scarves\, obstacles\, parachutes\, puppets\, instruments\, bubbles and much more!! \nClasses are nurturing and friendly\, allowing children to grow in confidence and creativity whilst having wonderful fun! \nBooking is required: https://drama-tots-bath.classforkids.io/info/42 \n\n\n\n\n 
URL:https://baneslibraries.co.uk/event/drama-tots-rising-stars-13/
LOCATION:Bath Central Library\, 19-23 The Podium\, Bath\, BA1 5AN\, Bath\, BA1 5AN\, GB
CATEGORIES:Bath Central Library,Children's Events,Craft Events,Events,Partner Events
ATTACH;FMTTYPE=image/png:https://baneslibraries.co.uk/wp-content/uploads/2025/12/63081_image.png
END:VEVENT
BEGIN:VEVENT
DTSTART;TZID=Europe/London:20260428T104500
DTEND;TZID=Europe/London:20260428T113000
DTSTAMP:20260423T170112
CREATED:20251203T111540Z
LAST-MODIFIED:20251203T112013Z
UID:63158-1777373100-1777375800@baneslibraries.co.uk
SUMMARY:Drama Tots - Bright Stars
DESCRIPTION:Sing\, dance\, play and learn for children aged 3 – 5 years.\n\n\nSING\, DANCE\, PLAY and LEARN! \nDrama Tots classes are high energy\, interactive and fun! In our multi award-winning classes you can expect a new theme every week. \nEach session is brought to life with colourful props\, such as ribbons\, scarves\, obstacles\, parachutes\, puppets\, instruments\, bubbles and much more!! \nClasses are nurturing and friendly\, allowing children to grow in confidence and creativity whilst having wonderful fun! \nBooking is required: https://drama-tots-bath.classforkids.io/info/41 \n\n\n\n\n 
URL:https://baneslibraries.co.uk/event/drama-tots-bright-stars-2/
LOCATION:Bath Central Library\, 19-23 The Podium\, Bath\, BA1 5AN\, Bath\, BA1 5AN\, GB
CATEGORIES:Bath Central Library,Children's Events,Craft Events,Events,Partner Events
ATTACH;FMTTYPE=image/png:https://baneslibraries.co.uk/wp-content/uploads/2025/12/63081_image.png
END:VEVENT
BEGIN:VEVENT
DTSTART;TZID=Europe/London:20260428T110000
DTEND;TZID=Europe/London:20260428T130000
DTSTAMP:20260423T170112
CREATED:20260204T163559Z
LAST-MODIFIED:20260309T172309Z
UID:65409-1777374000-1777381200@baneslibraries.co.uk
SUMMARY:Drop-in Employment Support Sessions
DESCRIPTION:Get employment support from Skills Connect\n\n\nDrop in service\, no need to book. \nOffering free support to residents of Bath & North East Somerset to enter training\, gain employment\, progress within their current career or change into a new career. \nWe have a team of trained coaches that offer tailored\, person centred support. \nWe can help if you are: \n\nAged 18 years or over\nA Bath & North East Somerset resident\n\nFor more information: \nVisit: www.skillsconnect.org.uk/bath-north-east-somerset/ \nCall: 0117 332 1500 \nEmail: skills_connect@bathnes.gov.uk
URL:https://baneslibraries.co.uk/event/employment-drop-in-21/
LOCATION:Central Library\, 19-23 The Podium\, Bath\, BA1 5AN\, Bath\, BA1 5AN\, GB
CATEGORIES:Adult's Events,Bath Central Library,Events,Partner Events,Support Services,Young Adult's Events
ATTACH;FMTTYPE=image/png:https://baneslibraries.co.uk/wp-content/uploads/2026/03/66739_image.png
END:VEVENT
BEGIN:VEVENT
DTSTART;TZID=Europe/London:20260429T093000
DTEND;TZID=Europe/London:20260429T140000
DTSTAMP:20260423T170112
CREATED:20250923T142319Z
LAST-MODIFIED:20250923T142332Z
UID:57229-1777455000-1777471200@baneslibraries.co.uk
SUMMARY:Citizens Advice Drop In
DESCRIPTION:Help with money\, legal\, and consumer problems.
URL:https://baneslibraries.co.uk/event/citizens-advice-drop-in-34/
LOCATION:Library & Information Service\, High Street\, Midsomer Norton\, BA3 2DP\, Midsomer Norton\, BA3 2DP\, GB
CATEGORIES:Adult's Events,Events,Midsomer Norton Library,Partner Events,Support Services
ATTACH;FMTTYPE=image/png:https://baneslibraries.co.uk/wp-content/uploads/2025/09/57164_image.png
END:VEVENT
BEGIN:VEVENT
DTSTART;TZID=Europe/London:20260429T100000
DTEND;TZID=Europe/London:20260429T120000
DTSTAMP:20260423T170112
CREATED:20250923T150028Z
LAST-MODIFIED:20260309T173154Z
UID:57431-1777456800-1777464000@baneslibraries.co.uk
SUMMARY:Drop-in Employment Support Session
DESCRIPTION:One-to-one career coaching\, support and advice about jobs and careers.
URL:https://baneslibraries.co.uk/event/future-bright-drop-in-32/
LOCATION:Library & Information Service\, High Street\, Midsomer Norton\, BA3 2DP\, Midsomer Norton\, BA3 2DP\, GB
CATEGORIES:Adult's Events,Events,Midsomer Norton Library,Partner Events,Support Services,Young Adult's Events
ATTACH;FMTTYPE=image/png:https://baneslibraries.co.uk/wp-content/uploads/2026/03/66739_image.png
END:VEVENT
BEGIN:VEVENT
DTSTART;TZID=Europe/London:20260429T100000
DTEND;TZID=Europe/London:20260429T130000
DTSTAMP:20260423T170112
CREATED:20260106T115731Z
LAST-MODIFIED:20260106T115736Z
UID:64316-1777456800-1777467600@baneslibraries.co.uk
SUMMARY:Freeways Floating Support Service Drop In
DESCRIPTION:Do you have a learning Disability or are you over 18 years of age and have Neuro-Divergence?We can provide FREE support with the following: •	Applying for grants or welfare support •	Support with finding new accommodation •	Contacting Homesearch to help with your account •	Tenancy support with your landlord or reporting repairs •	Budgeting advice •	Paying for your rent or bills •	Managing any bills or letters •	Contacting utility companies for your water\, gas or electric •	Support with dealing with debts •	Claiming housing or council tax benefits •	PIP and other benefit applications 	 Please come along to the free drop in and our friendly staff can offer information and support. No need to book an appointment.  Email info@freeways.org.ukCall 01225 830416Text 07879423791
URL:https://baneslibraries.co.uk/event/freeways-floating-support-service-drop-in-2/
LOCATION:Keynsham Library & Information Service\, Market Walk\, Keynsham\, BS31 1FS\, Keynsham\, BS31 1FS\, GB
CATEGORIES:Events,Keynsham Library,Partner Events,Support Services,Young Adult's Events
ATTACH;FMTTYPE=image/png:https://baneslibraries.co.uk/wp-content/uploads/2026/01/64308_image.png
END:VEVENT
BEGIN:VEVENT
DTSTART;TZID=Europe/London:20260430T090000
DTEND;TZID=Europe/London:20260430T150000
DTSTAMP:20260423T170112
CREATED:20251219T105705Z
LAST-MODIFIED:20251219T105707Z
UID:63826-1777539600-1777561200@baneslibraries.co.uk
SUMMARY:Halifax Community Banking Drop-In
DESCRIPTION:Drop-in session with Halifax.The Halifax Community Bankers provide banking services and account support for customers who may not have a local branch. They can help you with: Payments and transfersCard and PIN servicesManaging your accountHelp with Online Banking or using our Mobile Banking appHelp with Telephone BankingFind out more at: www.halifax.co.uk/helpcentre/everyday-banking/banking-near-you/community-bankers.html
URL:https://baneslibraries.co.uk/event/halifax-community-banking-drop-in-20/
LOCATION:Library & Information Service\, High Street\, Midsomer Norton\, BA3 2DP\, Midsomer Norton\, BA3 2DP\, GB
CATEGORIES:Adult's Events,Events,Midsomer Norton Library,Partner Events,Support Services
ATTACH;FMTTYPE=image/png:https://baneslibraries.co.uk/wp-content/uploads/2025/12/63792_image.png
END:VEVENT
BEGIN:VEVENT
DTSTART;TZID=Europe/London:20260430T090000
DTEND;TZID=Europe/London:20260430T163000
DTSTAMP:20260423T170112
CREATED:20250923T154722Z
LAST-MODIFIED:20250923T154741Z
UID:57823-1777539600-1777566600@baneslibraries.co.uk
SUMMARY:Private Rented Advice Drop In
DESCRIPTION:Are you looking for a private rented home?Our Private Rented Officer will be available to offer guidance on how to find a home in the private rented sector\, including advice on relationship building with landlords and letting agents. Contact 01225 396296.  Closed 12.30 – 1.30pm.
URL:https://baneslibraries.co.uk/event/private-rented-advice-drop-in-26/
LOCATION:Keynsham Library & Information Service\, Market Walk\, Keynsham\, BS31 1FS\, Keynsham\, BS31 1FS\, GB
CATEGORIES:Adult's Events,Events,Keynsham Library,Partner Events,Support Services
ATTACH;FMTTYPE=image/png:https://baneslibraries.co.uk/wp-content/uploads/2025/09/57760_image.png
END:VEVENT
BEGIN:VEVENT
DTSTART;TZID=Europe/London:20260430T093000
DTEND;TZID=Europe/London:20260430T123000
DTSTAMP:20260423T170112
CREATED:20250917T152731Z
LAST-MODIFIED:20260402T085431Z
UID:56324-1777541400-1777552200@baneslibraries.co.uk
SUMMARY:HomeSearch Drop In
DESCRIPTION:Homesearch is the register for social rent homes and low cost home ownership in Bath & North East Somerset.\n\n\nFind out more at: homesearchbathnes.org.uk
URL:https://baneslibraries.co.uk/event/homesearch-drop-in-37/
LOCATION:Keynsham Library & Information Service\, Market Walk\, Keynsham\, BS31 1FS\, Keynsham\, BS31 1FS\, GB
CATEGORIES:Adult's Events,Events,Keynsham Library,Partner Events,Support Services
ATTACH;FMTTYPE=image/png:https://baneslibraries.co.uk/wp-content/uploads/2025/09/56263_image.png
END:VEVENT
BEGIN:VEVENT
DTSTART;TZID=Europe/London:20260430T130000
DTEND;TZID=Europe/London:20260430T163000
DTSTAMP:20260423T170112
CREATED:20250923T161043Z
LAST-MODIFIED:20250923T161045Z
UID:58011-1777554000-1777566600@baneslibraries.co.uk
SUMMARY:Everyone Health - Stop Smoking Clinic
DESCRIPTION:Want to quit smoking? It doesn’t have to be a dragYour local Bath & North East Somerset Stop Smoking service offers FREE support to local people who are thinking of and wanting to take positive steps towards stopping smoking. No matter how long you’ve smoked\, quitting benefits your health right away. In just a few days\, your sense of taste and smell will get better. Your lungs will start to clear\, so breathing feels easier. You’ll also keep your loved ones safe from second-hand smoke and save money.  Find out more: https://banes.everyonehealth.co.uk/services/stop-smoking-service/
URL:https://baneslibraries.co.uk/event/everyone-health-stop-smoking-clinic-58/
LOCATION:Keynsham Library & Information Service\, Market Walk\, Keynsham\, BS31 1FS\, Keynsham\, BS31 1FS\, GB
CATEGORIES:Adult's Events,Events,Keynsham Library,Partner Events,Support Services
ATTACH;FMTTYPE=image/png:https://baneslibraries.co.uk/wp-content/uploads/2025/06/54646_image.png
END:VEVENT
BEGIN:VEVENT
DTSTART;TZID=Europe/London:20260430T140000
DTEND;TZID=Europe/London:20260430T160000
DTSTAMP:20260423T170112
CREATED:20250923T152337Z
LAST-MODIFIED:20250923T152342Z
UID:57629-1777557600-1777564800@baneslibraries.co.uk
SUMMARY:Lace Making Group
DESCRIPTION:Drop in group for all ages.
URL:https://baneslibraries.co.uk/event/lace-making-group-34/
LOCATION:Keynsham Library & Information Service\, Market Walk\, Keynsham\, BS31 1FS\, Keynsham\, BS31 1FS\, GB
CATEGORIES:Adult's Events,Events,Keynsham Library,Partner Events
ATTACH;FMTTYPE=image/png:https://baneslibraries.co.uk/wp-content/uploads/2025/09/57567_image.png
END:VEVENT
BEGIN:VEVENT
DTSTART;TZID=Europe/London:20260501T100000
DTEND;TZID=Europe/London:20260501T123000
DTSTAMP:20260423T170112
CREATED:20260119T174450Z
LAST-MODIFIED:20260309T173527Z
UID:64761-1777629600-1777638600@baneslibraries.co.uk
SUMMARY:We Work For Everyone Drop In
DESCRIPTION:Employment support and advice for those with autism\, learning difficulties or learning disabilities.
URL:https://baneslibraries.co.uk/event/we-work-for-everyone-drop-in-11/
LOCATION:Library & Information Service\, High Street\, Midsomer Norton\, BA3 2DP\, Midsomer Norton\, BA3 2DP\, GB
CATEGORIES:Adult's Events,Events,Midsomer Norton Library,Partner Events,Support Services,Young Adult's Events
ATTACH;FMTTYPE=image/png:https://baneslibraries.co.uk/wp-content/uploads/2025/12/63736_image.png
END:VEVENT
BEGIN:VEVENT
DTSTART;TZID=Europe/London:20260502T094000
DTEND;TZID=Europe/London:20260502T103000
DTSTAMP:20260423T170112
CREATED:20260309T162933Z
LAST-MODIFIED:20260309T162935Z
UID:66649-1777714800-1777717800@baneslibraries.co.uk
SUMMARY:Petite Pousse French Playgroup
DESCRIPTION:Playgroup for under 5’sSessions include Storytime\, songs\, games and crafts.All families are welcome! Sessions for under 5’s.Please note\, this is a paid for session and must be booked in advance.Book your sessions on happity.co.uk by searching for Petite Pousse or here : https://www.happity.co.uk/petite-pousse
URL:https://baneslibraries.co.uk/event/petite-pousse-french-playgroup-7/
LOCATION:Central Library\, 19-23 The Podium\, Bath\, BA1 5AN\, Bath\, BA1 5AN\, GB
CATEGORIES:Bath Central Library,Children's Events,Events,Partner Events
ATTACH;FMTTYPE=image/png:https://baneslibraries.co.uk/wp-content/uploads/2025/05/53515_image.png
END:VEVENT
BEGIN:VEVENT
DTSTART;TZID=Europe/London:20260502T103000
DTEND;TZID=Europe/London:20260502T111500
DTSTAMP:20260423T170112
CREATED:20260309T162930Z
LAST-MODIFIED:20260309T162933Z
UID:66651-1777717800-1777720500@baneslibraries.co.uk
SUMMARY:Petite Pousse French Playgroup
DESCRIPTION:Playgroup for under 5’sSessions include Storytime\, songs\, games and crafts.All families are welcome! Sessions for under 5’s.Please note\, this is a paid for session and must be booked in advance.Book your sessions on happity.co.uk by searching for Petite Pousse or here : https://www.happity.co.uk/petite-pousse
URL:https://baneslibraries.co.uk/event/petite-pousse-french-playgroup-6/
LOCATION:Central Library\, 19-23 The Podium\, Bath\, BA1 5AN\, Bath\, BA1 5AN\, GB
CATEGORIES:Bath Central Library,Children's Events,Events,Partner Events
ATTACH;FMTTYPE=image/png:https://baneslibraries.co.uk/wp-content/uploads/2025/05/53515_image.png
END:VEVENT
BEGIN:VEVENT
DTSTART;TZID=Europe/London:20260504T093000
DTEND;TZID=Europe/London:20260504T130000
DTSTAMP:20260423T170112
CREATED:20251016T142935Z
LAST-MODIFIED:20251016T142937Z
UID:61758-1777887000-1777899600@baneslibraries.co.uk
SUMMARY:Citizens Advice Drop In
DESCRIPTION:Help with money\, legal\, and consumer problems.
URL:https://baneslibraries.co.uk/event/citizens-advice-drop-in-86/
LOCATION:Keynsham Library & Information Service\, Market Walk\, Keynsham\, BS31 1FS\, Keynsham\, BS31 1FS\, GB
CATEGORIES:Adult's Events,Events,Keynsham Library,Partner Events,Support Services
ATTACH;FMTTYPE=image/png:https://baneslibraries.co.uk/wp-content/uploads/2025/10/61700_image.png
END:VEVENT
BEGIN:VEVENT
DTSTART;TZID=Europe/London:20260504T093000
DTEND;TZID=Europe/London:20260504T163000
DTSTAMP:20260423T170112
CREATED:20251017T102457Z
LAST-MODIFIED:20260414T153842Z
UID:62048-1777887000-1777912200@baneslibraries.co.uk
SUMMARY:Reach Housing Advice and Support Service Drop In
DESCRIPTION:Support\, information and advice if you are having difficulty with your accommodation
URL:https://baneslibraries.co.uk/event/reach-housing-advice-and-support-service-drop-in-78/
LOCATION:Keynsham Library & Information Service\, Market Walk\, Keynsham\, BS31 1FS\, Keynsham\, BS31 1FS\, GB
CATEGORIES:Adult's Events,Events,Keynsham Library,Partner Events,Support Services
ATTACH;FMTTYPE=image/png:https://baneslibraries.co.uk/wp-content/uploads/2025/10/61996_image.png
END:VEVENT
BEGIN:VEVENT
DTSTART;TZID=Europe/London:20260504T100000
DTEND;TZID=Europe/London:20260504T113000
DTSTAMP:20260423T170112
CREATED:20251016T154409Z
LAST-MODIFIED:20251016T154410Z
UID:61924-1777888800-1777894200@baneslibraries.co.uk
SUMMARY:Conversational English Class
DESCRIPTION:Classes for refugees and those from a displaced background only due to space.These classes are only available to refugees and those from a displaced background due to space. To book or to find out more\, please email: language@bathwelcomesrefugees.org.uk.  You can do this in any language and they will translate it and reciprocate in kind.
URL:https://baneslibraries.co.uk/event/conversational-english-class-26/
LOCATION:Keynsham Library & Information Service\, Market Walk\, Keynsham\, BS31 1FS\, Keynsham\, BS31 1FS\, GB
CATEGORIES:Adult's Events,Events,Keynsham Library,Partner Events,Support Services
ATTACH;FMTTYPE=image/png:https://baneslibraries.co.uk/wp-content/uploads/2025/10/61866_image.png
END:VEVENT
BEGIN:VEVENT
DTSTART;TZID=Europe/London:20260504T103000
DTEND;TZID=Europe/London:20260504T123000
DTSTAMP:20260423T170112
CREATED:20251017T144733Z
LAST-MODIFIED:20251017T144735Z
UID:62414-1777890600-1777897800@baneslibraries.co.uk
SUMMARY:Hartbeeps
DESCRIPTION:Baby and toddler class.Booking required. Visit www.hartbeeps.com to book.
URL:https://baneslibraries.co.uk/event/hartbeeps-26/
LOCATION:Central Library\, 19-23 The Podium\, Bath\, BA1 5AN\, Bath\, BA1 5AN\, GB
CATEGORIES:Bath Central Library,Children's Events,Events,Partner Events
ATTACH;FMTTYPE=image/png:https://baneslibraries.co.uk/wp-content/uploads/2025/07/55114_image.png
END:VEVENT
BEGIN:VEVENT
DTSTART;TZID=Europe/London:20260505T090000
DTEND;TZID=Europe/London:20260505T150000
DTSTAMP:20260423T170112
CREATED:20250923T084906Z
LAST-MODIFIED:20251219T152738Z
UID:56807-1777971600-1777993200@baneslibraries.co.uk
SUMMARY:Reach Housing Advice and Support Service Drop In
DESCRIPTION:Support\, information and advice if you are having difficulty with your accommodation\n\n\nFind out more at: www.dhi-online.org.uk/get-help/housing-advice-support/reach
URL:https://baneslibraries.co.uk/event/reach-housing-advice-and-support-service-drop-in-33/
LOCATION:Library & Information Service\, High Street\, Midsomer Norton\, BA3 2DP\, Midsomer Norton\, BA3 2DP\, GB
CATEGORIES:Adult's Events,Events,Midsomer Norton Library,Partner Events,Support Services
ATTACH;FMTTYPE=image/png:https://baneslibraries.co.uk/wp-content/uploads/2025/09/56742_image.png
END:VEVENT
BEGIN:VEVENT
DTSTART;TZID=Europe/London:20260505T093000
DTEND;TZID=Europe/London:20260505T160000
DTSTAMP:20260423T170112
CREATED:20250922T160758Z
LAST-MODIFIED:20250922T160759Z
UID:56587-1777973400-1777996800@baneslibraries.co.uk
SUMMARY:Housing Options Drop In
DESCRIPTION:Offering help and advice about housing optionsNot available between 12 .00- 1.15pm.
URL:https://baneslibraries.co.uk/event/housing-options-drop-in-20/
LOCATION:Library & Information Service\, High Street\, Midsomer Norton\, BA3 2DP\, Midsomer Norton\, BA3 2DP\, GB
CATEGORIES:Adult's Events,Events,Midsomer Norton Library,Partner Events,Support Services
ATTACH;FMTTYPE=image/png:https://baneslibraries.co.uk/wp-content/uploads/2025/09/56522_image.png
END:VEVENT
BEGIN:VEVENT
DTSTART;TZID=Europe/London:20260505T110000
DTEND;TZID=Europe/London:20260505T130000
DTSTAMP:20260423T170112
CREATED:20260204T163556Z
LAST-MODIFIED:20260309T172313Z
UID:65411-1777978800-1777986000@baneslibraries.co.uk
SUMMARY:Drop-in Employment Support Sessions
DESCRIPTION:Get employment support from Skills Connect\n\n\nDrop in service\, no need to book. \nOffering free support to residents of Bath & North East Somerset to enter training\, gain employment\, progress within their current career or change into a new career. \nWe have a team of trained coaches that offer tailored\, person centred support. \nWe can help if you are: \n\nAged 18 years or over\nA Bath & North East Somerset resident\n\nFor more information: \nVisit: www.skillsconnect.org.uk/bath-north-east-somerset/ \nCall: 0117 332 1500 \nEmail: skills_connect@bathnes.gov.uk
URL:https://baneslibraries.co.uk/event/employment-drop-in-20/
LOCATION:Central Library\, 19-23 The Podium\, Bath\, BA1 5AN\, Bath\, BA1 5AN\, GB
CATEGORIES:Adult's Events,Bath Central Library,Events,Partner Events,Support Services,Young Adult's Events
ATTACH;FMTTYPE=image/png:https://baneslibraries.co.uk/wp-content/uploads/2026/03/66739_image.png
END:VEVENT
BEGIN:VEVENT
DTSTART;TZID=Europe/London:20260506T093000
DTEND;TZID=Europe/London:20260506T140000
DTSTAMP:20260423T170112
CREATED:20250923T142257Z
LAST-MODIFIED:20250923T142311Z
UID:57231-1778059800-1778076000@baneslibraries.co.uk
SUMMARY:Citizens Advice Drop In
DESCRIPTION:Help with money\, legal\, and consumer problems.
URL:https://baneslibraries.co.uk/event/citizens-advice-drop-in-20/
LOCATION:Library & Information Service\, High Street\, Midsomer Norton\, BA3 2DP\, Midsomer Norton\, BA3 2DP\, GB
CATEGORIES:Adult's Events,Events,Midsomer Norton Library,Partner Events,Support Services
ATTACH;FMTTYPE=image/png:https://baneslibraries.co.uk/wp-content/uploads/2025/09/57164_image.png
END:VEVENT
BEGIN:VEVENT
DTSTART;TZID=Europe/London:20260506T100000
DTEND;TZID=Europe/London:20260506T120000
DTSTAMP:20260423T170112
CREATED:20250923T150026Z
LAST-MODIFIED:20260309T173156Z
UID:57434-1778061600-1778068800@baneslibraries.co.uk
SUMMARY:Drop-in Employment Support Session
DESCRIPTION:One-to-one career coaching\, support and advice about jobs and careers.
URL:https://baneslibraries.co.uk/event/future-bright-drop-in-31/
LOCATION:Library & Information Service\, High Street\, Midsomer Norton\, BA3 2DP\, Midsomer Norton\, BA3 2DP\, GB
CATEGORIES:Adult's Events,Events,Midsomer Norton Library,Partner Events,Support Services,Young Adult's Events
ATTACH;FMTTYPE=image/png:https://baneslibraries.co.uk/wp-content/uploads/2026/03/66739_image.png
END:VEVENT
END:VCALENDAR