BEGIN:VCALENDAR
VERSION:2.0
PRODID:-//BaNES Virtual Library - ECPv6.15.20//NONSGML v1.0//EN
CALSCALE:GREGORIAN
METHOD:PUBLISH
X-ORIGINAL-URL:https://baneslibraries.co.uk
X-WR-CALDESC:Events for BaNES Virtual Library
REFRESH-INTERVAL;VALUE=DURATION:PT1H
X-Robots-Tag:noindex
X-PUBLISHED-TTL:PT1H
BEGIN:VTIMEZONE
TZID:Europe/London
BEGIN:DAYLIGHT
TZOFFSETFROM:+0000
TZOFFSETTO:+0100
TZNAME:BST
DTSTART:20250330T010000
END:DAYLIGHT
BEGIN:STANDARD
TZOFFSETFROM:+0100
TZOFFSETTO:+0000
TZNAME:GMT
DTSTART:20251026T010000
END:STANDARD
BEGIN:DAYLIGHT
TZOFFSETFROM:+0000
TZOFFSETTO:+0100
TZNAME:BST
DTSTART:20260329T010000
END:DAYLIGHT
BEGIN:STANDARD
TZOFFSETFROM:+0100
TZOFFSETTO:+0000
TZNAME:GMT
DTSTART:20261025T010000
END:STANDARD
BEGIN:DAYLIGHT
TZOFFSETFROM:+0000
TZOFFSETTO:+0100
TZNAME:BST
DTSTART:20270328T010000
END:DAYLIGHT
BEGIN:STANDARD
TZOFFSETFROM:+0100
TZOFFSETTO:+0000
TZNAME:GMT
DTSTART:20271031T010000
END:STANDARD
END:VTIMEZONE
BEGIN:VEVENT
DTSTART;TZID=Europe/London:20260210T103500
DTEND;TZID=Europe/London:20260210T110500
DTSTAMP:20260422T111041
CREATED:20250926T121742Z
LAST-MODIFIED:20250926T121744Z
UID:58615-1770719700-1770721500@baneslibraries.co.uk
SUMMARY:Manor Park\, Writhlington
DESCRIPTION:Open to everyone – just drop in!Our Mobile Library is packed with a great range of books and has technology giving you to access council and partner services online. The Mobile Library offers all of the same services as an ordinary library branch. You can use your LibrariesWest membership card to borrow\, reserve\, renew and return items from any LibrariesWest branch. In turn\, you can return any items you take out from the mobile library to any branch in the LibrariesWest area. Our vehicles are fully accessible\, with a lift facility*. We offer books in many formats. If you have particular access needs\, please discuss with the mobile librarian the outreach and access materials available from the Library Service. View our Mobile Library Page on the Virtual Library to find out about the routes and see our Access Guide\, which should help you to plan your visit and find out what you do on our Mobile Library.  *For safety reasons\, the lift can only be deployed certain stops. If you are unable to board\, staff are happy to get books for you. The accessible stops are: Week 1 Route 2 – Hinton BlewittWeek 1 Route 2 – Ubley Village HallWeek 1 Route 3 – Odd Down playing fieldWeek 1 Route 3 – Mulberry ParkWeek 2 Route 6 – BathamptonWeek 2 Route 7 – Combe DownWeek 2 Route 7 – Mulberry Park
URL:https://baneslibraries.co.uk/event/manor-park-writhlington-2/
LOCATION:Manor Park\, Manor Park\, Writhlington\, BA3\, Writhlington\, BA3\, GB
CATEGORIES:Mobile Library,Mobile Library Route
ATTACH;FMTTYPE=image/png:https://baneslibraries.co.uk/wp-content/uploads/2025/09/58595_image.png
END:VEVENT
BEGIN:VEVENT
DTSTART;TZID=Europe/London:20260210T111500
DTEND;TZID=Europe/London:20260210T120000
DTSTAMP:20260422T111041
CREATED:20251001T113607Z
LAST-MODIFIED:20251001T113608Z
UID:58753-1770722100-1770724800@baneslibraries.co.uk
SUMMARY:Village Hall\, Wellow
DESCRIPTION:Open to everyone – just drop in!Our Mobile Library is packed with a great range of books and has technology giving you to access council and partner services online. The Mobile Library offers all of the same services as an ordinary library branch. You can use your LibrariesWest membership card to borrow\, reserve\, renew and return items from any LibrariesWest branch. In turn\, you can return any items you take out from the mobile library to any branch in the LibrariesWest area. Our vehicles are fully accessible\, with a lift facility*. We offer books in many formats. If you have particular access needs\, please discuss with the mobile librarian the outreach and access materials available from the Library Service. View our Mobile Library Page on the Virtual Library to find out about the routes and see our Access Guide\, which should help you to plan your visit and find out what you do on our Mobile Library.  *For safety reasons\, the lift can only be deployed certain stops. If you are unable to board\, staff are happy to get books for you. The accessible stops are: Week 1 Route 2 – Hinton BlewittWeek 1 Route 2 – Ubley Village HallWeek 1 Route 3 – Odd Down playing fieldWeek 1 Route 3 – Mulberry ParkWeek 2 Route 6 – BathamptonWeek 2 Route 7 – Combe DownWeek 2 Route 7 – Mulberry Park
URL:https://baneslibraries.co.uk/event/village-hall-wellow-15/
LOCATION:Wellow Village Hall\, Buttons Lane\, West Wellow\, SO51 6BR\, West Wellow\, SO51 6BR\, GB
CATEGORIES:Mobile Library,Mobile Library Route
ATTACH;FMTTYPE=image/png:https://baneslibraries.co.uk/wp-content/uploads/2025/09/58595_image.png
END:VEVENT
BEGIN:VEVENT
DTSTART;TZID=Europe/London:20260210T131500
DTEND;TZID=Europe/London:20260210T134500
DTSTAMP:20260422T111041
CREATED:20251001T114638Z
LAST-MODIFIED:20251001T114640Z
UID:58806-1770729300-1770731100@baneslibraries.co.uk
SUMMARY:Newton St Loe
DESCRIPTION:Open to everyone – just drop in!Our Mobile Library is packed with a great range of books and has technology giving you to access council and partner services online. The Mobile Library offers all of the same services as an ordinary library branch. You can use your LibrariesWest membership card to borrow\, reserve\, renew and return items from any LibrariesWest branch. In turn\, you can return any items you take out from the mobile library to any branch in the LibrariesWest area. Our vehicles are fully accessible\, with a lift facility*. We offer books in many formats. If you have particular access needs\, please discuss with the mobile librarian the outreach and access materials available from the Library Service. View our Mobile Library Page on the Virtual Library to find out about the routes and see our Access Guide\, which should help you to plan your visit and find out what you do on our Mobile Library.  *For safety reasons\, the lift can only be deployed certain stops. If you are unable to board\, staff are happy to get books for you. The accessible stops are: Week 1 Route 2 – Hinton BlewittWeek 1 Route 2 – Ubley Village HallWeek 1 Route 3 – Odd Down playing fieldWeek 1 Route 3 – Mulberry ParkWeek 2 Route 6 – BathamptonWeek 2 Route 7 – Combe DownWeek 2 Route 7 – Mulberry Park
URL:https://baneslibraries.co.uk/event/newton-st-loe-16/
LOCATION:Village Centre\, Village Centre\, Newton Saint Loe\, BA2 9BT\, Newton Saint Loe\, BA2 9BT\, GB
CATEGORIES:Mobile Library,Mobile Library Route
ATTACH;FMTTYPE=image/png:https://baneslibraries.co.uk/wp-content/uploads/2025/09/58595_image.png
END:VEVENT
BEGIN:VEVENT
DTSTART;TZID=Europe/London:20260210T140000
DTEND;TZID=Europe/London:20260210T143000
DTSTAMP:20260422T111041
CREATED:20251001T155139Z
LAST-MODIFIED:20251001T155140Z
UID:58860-1770732000-1770733800@baneslibraries.co.uk
SUMMARY:St John's Almshouses
DESCRIPTION:Open to everyone – just drop in!Our Mobile Library is packed with a great range of books and has technology giving you to access council and partner services online. The Mobile Library offers all of the same services as an ordinary library branch. You can use your LibrariesWest membership card to borrow\, reserve\, renew and return items from any LibrariesWest branch. In turn\, you can return any items you take out from the mobile library to any branch in the LibrariesWest area. Our vehicles are fully accessible\, with a lift facility*. We offer books in many formats. If you have particular access needs\, please discuss with the mobile librarian the outreach and access materials available from the Library Service. View our Mobile Library Page on the Virtual Library to find out about the routes and see our Access Guide\, which should help you to plan your visit and find out what you do on our Mobile Library.  *For safety reasons\, the lift can only be deployed certain stops. If you are unable to board\, staff are happy to get books for you. The accessible stops are: Week 1 Route 2 – Hinton BlewittWeek 1 Route 2 – Ubley Village HallWeek 1 Route 3 – Odd Down playing fieldWeek 1 Route 3 – Mulberry ParkWeek 2 Route 6 – BathamptonWeek 2 Route 7 – Combe DownWeek 2 Route 7 – Mulberry Park
URL:https://baneslibraries.co.uk/event/st-johns-almshouses-14/
LOCATION:St. John’s Almshouses\, St. John's Almshouses\, Bath\, BA1 3NF\, Bath\, BA1 3NF\, GB
CATEGORIES:Mobile Library,Mobile Library Route
ATTACH;FMTTYPE=image/png:https://baneslibraries.co.uk/wp-content/uploads/2025/09/58595_image.png
END:VEVENT
BEGIN:VEVENT
DTSTART;TZID=Europe/London:20260210T144000
DTEND;TZID=Europe/London:20260210T151000
DTSTAMP:20260422T111041
CREATED:20251001T171146Z
LAST-MODIFIED:20251001T171147Z
UID:58913-1770734400-1770736200@baneslibraries.co.uk
SUMMARY:Partis Way
DESCRIPTION:Open to everyone – just drop in!Our Mobile Library is packed with a great range of books and has technology giving you to access council and partner services online. The Mobile Library offers all of the same services as an ordinary library branch. You can use your LibrariesWest membership card to borrow\, reserve\, renew and return items from any LibrariesWest branch. In turn\, you can return any items you take out from the mobile library to any branch in the LibrariesWest area. Our vehicles are fully accessible\, with a lift facility*. We offer books in many formats. If you have particular access needs\, please discuss with the mobile librarian the outreach and access materials available from the Library Service. View our Mobile Library Page on the Virtual Library to find out about the routes and see our Access Guide\, which should help you to plan your visit and find out what you do on our Mobile Library.  *For safety reasons\, the lift can only be deployed certain stops. If you are unable to board\, staff are happy to get books for you. The accessible stops are: Week 1 Route 2 – Hinton BlewittWeek 1 Route 2 – Ubley Village HallWeek 1 Route 3 – Odd Down playing fieldWeek 1 Route 3 – Mulberry ParkWeek 2 Route 6 – BathamptonWeek 2 Route 7 – Combe DownWeek 2 Route 7 – Mulberry Park
URL:https://baneslibraries.co.uk/event/partis-way-16/
LOCATION:Partis Way\, Partis Way\, Bath\, BA1\, Bath\, BA1\, GB
CATEGORIES:Mobile Library,Mobile Library Route
ATTACH;FMTTYPE=image/png:https://baneslibraries.co.uk/wp-content/uploads/2025/09/58595_image.png
END:VEVENT
BEGIN:VEVENT
DTSTART;TZID=Europe/London:20260210T151500
DTEND;TZID=Europe/London:20260210T154500
DTSTAMP:20260422T111041
CREATED:20251002T111317Z
LAST-MODIFIED:20251002T111321Z
UID:58993-1770736500-1770738300@baneslibraries.co.uk
SUMMARY:Brassmill Lane
DESCRIPTION:Open to everyone – just drop in!Our Mobile Library is packed with a great range of books and has technology giving you to access council and partner services online. The Mobile Library offers all of the same services as an ordinary library branch. You can use your LibrariesWest membership card to borrow\, reserve\, renew and return items from any LibrariesWest branch. In turn\, you can return any items you take out from the mobile library to any branch in the LibrariesWest area. Our vehicles are fully accessible\, with a lift facility*. We offer books in many formats. If you have particular access needs\, please discuss with the mobile librarian the outreach and access materials available from the Library Service. View our Mobile Library Page on the Virtual Library to find out about the routes and see our Access Guide\, which should help you to plan your visit and find out what you do on our Mobile Library.  *For safety reasons\, the lift can only be deployed certain stops. If you are unable to board\, staff are happy to get books for you. The accessible stops are: Week 1 Route 2 – Hinton BlewittWeek 1 Route 2 – Ubley Village HallWeek 1 Route 3 – Odd Down playing fieldWeek 1 Route 3 – Mulberry ParkWeek 2 Route 6 – BathamptonWeek 2 Route 7 – Combe DownWeek 2 Route 7 – Mulberry Park
URL:https://baneslibraries.co.uk/event/brassmill-lane-16/
LOCATION:Brassmill Lane\, Brassmill Lane\, Bath\, Bath\, GB
CATEGORIES:Mobile Library,Mobile Library Route
ATTACH;FMTTYPE=image/png:https://baneslibraries.co.uk/wp-content/uploads/2025/09/58595_image.png
END:VEVENT
BEGIN:VEVENT
DTSTART;TZID=Europe/London:20260210T180000
DTEND;TZID=Europe/London:20260210T200000
DTSTAMP:20260422T111041
CREATED:20260109T153705Z
LAST-MODIFIED:20260323T120310Z
UID:64442-1770746400-1770753600@baneslibraries.co.uk
SUMMARY:Poetry Open Mic Night Featuring Kathryn O'Driscoll
DESCRIPTION:Join us at Bath Central Library for an evening of poetry funPoetry Open Mic Night featuring Kathryn O’DriscollCelebrate creativity at Bath Central Library as part of the Festival of Libraries! 📖 Share your poems whether original works or beloved classics at our welcoming Poetry Open Mic. This is your chance to connect with a vibrant community of poetry lovers. ☕ Grab a coffee or tea\, step up to the mic\, and let your words flow. Whether you’re a seasoned poet or trying it for the first time\, this is an inclusive space for all voices. ✨ Special Guest: We’re thrilled to host Kathryn O’Driscoll\, the 2021 UK Poetry Slam Champion and World Slam Finalist. Kathryn is a spoken word poet\, writer\, and activist from Bath whose work explores mental health\, disability\, LGBTQIA+ experiences\, and gender politics. She has appeared on the BAFTA-winning Sky Arts show Life and Rhymes and her debut collection Cliff Notes was published by Verve Poetry Press. 📍 Location: Bath Central Library📅 Date: Tuesday 10 February🕒 Sign-ups: From 5:30 PM🎤 Poetry kicks off: 6:00 PM – 8:00PM 💰 Cost: Free\, just drop in!  For more information please email library_events@bathnes.gov.uk
URL:https://baneslibraries.co.uk/event/poetry-open-mic-night-featuring-kathryn-odriscoll/
LOCATION:Bath Central Library\, 19-23 The Podium\, Bath\, BA1 5AN\, Bath\, BA1 5AN\, GB
CATEGORIES:Adult's Events,Bath Central Library,Events,Festival Adults,Festival of Libraries,Library Events,Mobile Library,Mobile Library Route,Young Adult's Events
ATTACH;FMTTYPE=image/png:https://baneslibraries.co.uk/wp-content/uploads/2026/01/64442_image.png
END:VEVENT
END:VCALENDAR