BEGIN:VCALENDAR
VERSION:2.0
PRODID:-//BaNES Virtual Library - ECPv6.15.20//NONSGML v1.0//EN
CALSCALE:GREGORIAN
METHOD:PUBLISH
X-ORIGINAL-URL:https://baneslibraries.co.uk
X-WR-CALDESC:Events for BaNES Virtual Library
REFRESH-INTERVAL;VALUE=DURATION:PT1H
X-Robots-Tag:noindex
X-PUBLISHED-TTL:PT1H
BEGIN:VTIMEZONE
TZID:Europe/London
BEGIN:DAYLIGHT
TZOFFSETFROM:+0000
TZOFFSETTO:+0100
TZNAME:BST
DTSTART:20250330T010000
END:DAYLIGHT
BEGIN:STANDARD
TZOFFSETFROM:+0100
TZOFFSETTO:+0000
TZNAME:GMT
DTSTART:20251026T010000
END:STANDARD
BEGIN:DAYLIGHT
TZOFFSETFROM:+0000
TZOFFSETTO:+0100
TZNAME:BST
DTSTART:20260329T010000
END:DAYLIGHT
BEGIN:STANDARD
TZOFFSETFROM:+0100
TZOFFSETTO:+0000
TZNAME:GMT
DTSTART:20261025T010000
END:STANDARD
BEGIN:DAYLIGHT
TZOFFSETFROM:+0000
TZOFFSETTO:+0100
TZNAME:BST
DTSTART:20270328T010000
END:DAYLIGHT
BEGIN:STANDARD
TZOFFSETFROM:+0100
TZOFFSETTO:+0000
TZNAME:GMT
DTSTART:20271031T010000
END:STANDARD
END:VTIMEZONE
BEGIN:VEVENT
DTSTART;TZID=Europe/London:20260721T093000
DTEND;TZID=Europe/London:20260721T160000
DTSTAMP:20260424T135655
CREATED:20250922T160835Z
LAST-MODIFIED:20250922T160837Z
UID:56610-1784626200-1784649600@baneslibraries.co.uk
SUMMARY:Housing Options Drop In
DESCRIPTION:Offering help and advice about housing optionsNot available between 12 .00- 1.15pm.
URL:https://baneslibraries.co.uk/event/housing-options-drop-in-36/
LOCATION:Library & Information Service\, High Street\, Midsomer Norton\, BA3 2DP\, Midsomer Norton\, BA3 2DP\, GB
CATEGORIES:Adult's Events,Events,Midsomer Norton Library,Partner Events,Support Services
ATTACH;FMTTYPE=image/png:https://baneslibraries.co.uk/wp-content/uploads/2025/09/56522_image.png
END:VEVENT
BEGIN:VEVENT
DTSTART;TZID=Europe/London:20260728T093000
DTEND;TZID=Europe/London:20260728T160000
DTSTAMP:20260424T135655
CREATED:20250922T160834Z
LAST-MODIFIED:20250922T160836Z
UID:56612-1785231000-1785254400@baneslibraries.co.uk
SUMMARY:Housing Options Drop In
DESCRIPTION:Offering help and advice about housing optionsNot available between 12 .00- 1.15pm.
URL:https://baneslibraries.co.uk/event/housing-options-drop-in-35/
LOCATION:Library & Information Service\, High Street\, Midsomer Norton\, BA3 2DP\, Midsomer Norton\, BA3 2DP\, GB
CATEGORIES:Adult's Events,Events,Midsomer Norton Library,Partner Events,Support Services
ATTACH;FMTTYPE=image/png:https://baneslibraries.co.uk/wp-content/uploads/2025/09/56522_image.png
END:VEVENT
BEGIN:VEVENT
DTSTART;TZID=Europe/London:20260804T093000
DTEND;TZID=Europe/London:20260804T160000
DTSTAMP:20260424T135655
CREATED:20250922T160830Z
LAST-MODIFIED:20250922T160831Z
UID:56614-1785835800-1785859200@baneslibraries.co.uk
SUMMARY:Housing Options Drop In
DESCRIPTION:Offering help and advice about housing optionsNot available between 12 .00- 1.15pm.
URL:https://baneslibraries.co.uk/event/housing-options-drop-in-34/
LOCATION:Library & Information Service\, High Street\, Midsomer Norton\, BA3 2DP\, Midsomer Norton\, BA3 2DP\, GB
CATEGORIES:Adult's Events,Events,Midsomer Norton Library,Partner Events,Support Services
ATTACH;FMTTYPE=image/png:https://baneslibraries.co.uk/wp-content/uploads/2025/09/56522_image.png
END:VEVENT
BEGIN:VEVENT
DTSTART;TZID=Europe/London:20260811T093000
DTEND;TZID=Europe/London:20260811T160000
DTSTAMP:20260424T135655
CREATED:20250922T160828Z
LAST-MODIFIED:20250922T160829Z
UID:56616-1786440600-1786464000@baneslibraries.co.uk
SUMMARY:Housing Options Drop In
DESCRIPTION:Offering help and advice about housing optionsNot available between 12 .00- 1.15pm.
URL:https://baneslibraries.co.uk/event/housing-options-drop-in-33/
LOCATION:Library & Information Service\, High Street\, Midsomer Norton\, BA3 2DP\, Midsomer Norton\, BA3 2DP\, GB
CATEGORIES:Adult's Events,Events,Midsomer Norton Library,Partner Events,Support Services
ATTACH;FMTTYPE=image/png:https://baneslibraries.co.uk/wp-content/uploads/2025/09/56522_image.png
END:VEVENT
BEGIN:VEVENT
DTSTART;TZID=Europe/London:20260818T093000
DTEND;TZID=Europe/London:20260818T160000
DTSTAMP:20260424T135655
CREATED:20250922T160825Z
LAST-MODIFIED:20250922T160827Z
UID:56618-1787045400-1787068800@baneslibraries.co.uk
SUMMARY:Housing Options Drop In
DESCRIPTION:Offering help and advice about housing optionsNot available between 12 .00- 1.15pm.
URL:https://baneslibraries.co.uk/event/housing-options-drop-in-32/
LOCATION:Library & Information Service\, High Street\, Midsomer Norton\, BA3 2DP\, Midsomer Norton\, BA3 2DP\, GB
CATEGORIES:Adult's Events,Events,Midsomer Norton Library,Partner Events,Support Services
ATTACH;FMTTYPE=image/png:https://baneslibraries.co.uk/wp-content/uploads/2025/09/56522_image.png
END:VEVENT
BEGIN:VEVENT
DTSTART;TZID=Europe/London:20260825T093000
DTEND;TZID=Europe/London:20260825T160000
DTSTAMP:20260424T135655
CREATED:20250922T160849Z
LAST-MODIFIED:20250922T160850Z
UID:56620-1787650200-1787673600@baneslibraries.co.uk
SUMMARY:Housing Options Drop In
DESCRIPTION:Offering help and advice about housing optionsNot available between 12 .00- 1.15pm.
URL:https://baneslibraries.co.uk/event/housing-options-drop-in-43/
LOCATION:Library & Information Service\, High Street\, Midsomer Norton\, BA3 2DP\, Midsomer Norton\, BA3 2DP\, GB
CATEGORIES:Adult's Events,Events,Midsomer Norton Library,Partner Events,Support Services
ATTACH;FMTTYPE=image/png:https://baneslibraries.co.uk/wp-content/uploads/2025/09/56522_image.png
END:VEVENT
BEGIN:VEVENT
DTSTART;TZID=Europe/London:20260901T093000
DTEND;TZID=Europe/London:20260901T160000
DTSTAMP:20260424T135655
CREATED:20250922T160847Z
LAST-MODIFIED:20250922T160849Z
UID:56622-1788255000-1788278400@baneslibraries.co.uk
SUMMARY:Housing Options Drop In
DESCRIPTION:Offering help and advice about housing optionsNot available between 12 .00- 1.15pm.
URL:https://baneslibraries.co.uk/event/housing-options-drop-in-42/
LOCATION:Library & Information Service\, High Street\, Midsomer Norton\, BA3 2DP\, Midsomer Norton\, BA3 2DP\, GB
CATEGORIES:Adult's Events,Events,Midsomer Norton Library,Partner Events,Support Services
ATTACH;FMTTYPE=image/png:https://baneslibraries.co.uk/wp-content/uploads/2025/09/56522_image.png
END:VEVENT
BEGIN:VEVENT
DTSTART;TZID=Europe/London:20260908T093000
DTEND;TZID=Europe/London:20260908T160000
DTSTAMP:20260424T135655
CREATED:20250922T160845Z
LAST-MODIFIED:20250922T160847Z
UID:56624-1788859800-1788883200@baneslibraries.co.uk
SUMMARY:Housing Options Drop In
DESCRIPTION:Offering help and advice about housing optionsNot available between 12 .00- 1.15pm.
URL:https://baneslibraries.co.uk/event/housing-options-drop-in-41/
LOCATION:Library & Information Service\, High Street\, Midsomer Norton\, BA3 2DP\, Midsomer Norton\, BA3 2DP\, GB
CATEGORIES:Adult's Events,Events,Midsomer Norton Library,Partner Events,Support Services
ATTACH;FMTTYPE=image/png:https://baneslibraries.co.uk/wp-content/uploads/2025/09/56522_image.png
END:VEVENT
BEGIN:VEVENT
DTSTART;TZID=Europe/London:20260915T093000
DTEND;TZID=Europe/London:20260915T160000
DTSTAMP:20260424T135655
CREATED:20250922T160843Z
LAST-MODIFIED:20250922T160844Z
UID:56626-1789464600-1789488000@baneslibraries.co.uk
SUMMARY:Housing Options Drop In
DESCRIPTION:Offering help and advice about housing optionsNot available between 12 .00- 1.15pm.
URL:https://baneslibraries.co.uk/event/housing-options-drop-in-40/
LOCATION:Library & Information Service\, High Street\, Midsomer Norton\, BA3 2DP\, Midsomer Norton\, BA3 2DP\, GB
CATEGORIES:Adult's Events,Events,Midsomer Norton Library,Partner Events,Support Services
ATTACH;FMTTYPE=image/png:https://baneslibraries.co.uk/wp-content/uploads/2025/09/56522_image.png
END:VEVENT
BEGIN:VEVENT
DTSTART;TZID=Europe/London:20260922T093000
DTEND;TZID=Europe/London:20260922T160000
DTSTAMP:20260424T135655
CREATED:20250922T160841Z
LAST-MODIFIED:20250922T160843Z
UID:56628-1790069400-1790092800@baneslibraries.co.uk
SUMMARY:Housing Options Drop In
DESCRIPTION:Offering help and advice about housing optionsNot available between 12 .00- 1.15pm.
URL:https://baneslibraries.co.uk/event/housing-options-drop-in-39/
LOCATION:Library & Information Service\, High Street\, Midsomer Norton\, BA3 2DP\, Midsomer Norton\, BA3 2DP\, GB
CATEGORIES:Adult's Events,Events,Midsomer Norton Library,Partner Events,Support Services
ATTACH;FMTTYPE=image/png:https://baneslibraries.co.uk/wp-content/uploads/2025/09/56522_image.png
END:VEVENT
BEGIN:VEVENT
DTSTART;TZID=Europe/London:20260929T093000
DTEND;TZID=Europe/London:20260929T160000
DTSTAMP:20260424T135655
CREATED:20250922T160839Z
LAST-MODIFIED:20250922T160841Z
UID:56630-1790674200-1790697600@baneslibraries.co.uk
SUMMARY:Housing Options Drop In
DESCRIPTION:Offering help and advice about housing optionsNot available between 12 .00- 1.15pm.
URL:https://baneslibraries.co.uk/event/housing-options-drop-in-38/
LOCATION:Library & Information Service\, High Street\, Midsomer Norton\, BA3 2DP\, Midsomer Norton\, BA3 2DP\, GB
CATEGORIES:Adult's Events,Events,Midsomer Norton Library,Partner Events,Support Services
ATTACH;FMTTYPE=image/png:https://baneslibraries.co.uk/wp-content/uploads/2025/09/56522_image.png
END:VEVENT
END:VCALENDAR