BEGIN:VCALENDAR
VERSION:2.0
PRODID:-//BaNES Virtual Library - ECPv6.15.20//NONSGML v1.0//EN
CALSCALE:GREGORIAN
METHOD:PUBLISH
X-ORIGINAL-URL:https://baneslibraries.co.uk
X-WR-CALDESC:Events for BaNES Virtual Library
REFRESH-INTERVAL;VALUE=DURATION:PT1H
X-Robots-Tag:noindex
X-PUBLISHED-TTL:PT1H
BEGIN:VTIMEZONE
TZID:Europe/London
BEGIN:DAYLIGHT
TZOFFSETFROM:+0000
TZOFFSETTO:+0100
TZNAME:BST
DTSTART:20250330T010000
END:DAYLIGHT
BEGIN:STANDARD
TZOFFSETFROM:+0100
TZOFFSETTO:+0000
TZNAME:GMT
DTSTART:20251026T010000
END:STANDARD
BEGIN:DAYLIGHT
TZOFFSETFROM:+0000
TZOFFSETTO:+0100
TZNAME:BST
DTSTART:20260329T010000
END:DAYLIGHT
BEGIN:STANDARD
TZOFFSETFROM:+0100
TZOFFSETTO:+0000
TZNAME:GMT
DTSTART:20261025T010000
END:STANDARD
BEGIN:DAYLIGHT
TZOFFSETFROM:+0000
TZOFFSETTO:+0100
TZNAME:BST
DTSTART:20270328T010000
END:DAYLIGHT
BEGIN:STANDARD
TZOFFSETFROM:+0100
TZOFFSETTO:+0000
TZNAME:GMT
DTSTART:20271031T010000
END:STANDARD
END:VTIMEZONE
BEGIN:VEVENT
DTSTART;TZID=Europe/London:20260425T100000
DTEND;TZID=Europe/London:20260425T123000
DTSTAMP:20260424T192642
CREATED:20260217T173738Z
LAST-MODIFIED:20260217T173740Z
UID:65980-1777111200-1777120200@baneslibraries.co.uk
SUMMARY:Board Game Saturdays at Midsomer Norton Library
DESCRIPTION:Do you love to play boardgames? This is the perfect event for you!This is a drop in event. Fun for all the family! We have a great selection of boardgames\, suitable for all ages.
URL:https://baneslibraries.co.uk/event/board-game-saturdays-at-midsomer-norton-library-10/
LOCATION:Library & Information Service\, High Street\, Midsomer Norton\, BA3 2DP\, Midsomer Norton\, BA3 2DP\, GB
CATEGORIES:Adult's Events,Events,Library Events,Midsomer Norton Library,Young Adult's Events
ATTACH;FMTTYPE=image/png:https://baneslibraries.co.uk/wp-content/uploads/2026/02/65961_image.png
END:VEVENT
BEGIN:VEVENT
DTSTART;TZID=Europe/London:20260427T110000
DTEND;TZID=Europe/London:20260427T113000
DTSTAMP:20260424T192642
CREATED:20251014T091710Z
LAST-MODIFIED:20251014T091712Z
UID:60795-1777287600-1777289400@baneslibraries.co.uk
SUMMARY:Baby Bounce and Rhyme at Midsomer Norton Library
DESCRIPTION:Join us for Baby Bounce and Rhyme at Midsomer Norton Library!T﻿his is a drop in event. Free\, drop in Baby Bounce and Rhyme Session at Midsomer Norton Library.  Suitable for parents and carers with children aged 0 – 5 years. T﻿erm time only\, no booking required.
URL:https://baneslibraries.co.uk/event/baby-bounce-and-rhyme-at-midsomer-norton-library-27/
LOCATION:Midsomer Norton Library\, The Hollies\, High St\, Midsomer Norton\, BA3 2DT\, Midsomer Norton\, BA3 2DT\, GB
CATEGORIES:Children's Events,Events,Library Events,Midsomer Norton Library
ATTACH;FMTTYPE=image/png:https://baneslibraries.co.uk/wp-content/uploads/2025/10/60742_image.png
END:VEVENT
BEGIN:VEVENT
DTSTART;TZID=Europe/London:20260428T090000
DTEND;TZID=Europe/London:20260428T150000
DTSTAMP:20260424T192642
CREATED:20250923T084831Z
LAST-MODIFIED:20251219T152755Z
UID:56805-1777366800-1777388400@baneslibraries.co.uk
SUMMARY:Reach Housing Advice and Support Service Drop In
DESCRIPTION:Support\, information and advice if you are having difficulty with your accommodation\n\n\nFind out more at: www.dhi-online.org.uk/get-help/housing-advice-support/reach
URL:https://baneslibraries.co.uk/event/reach-housing-advice-and-support-service-drop-in-31/
LOCATION:Library & Information Service\, High Street\, Midsomer Norton\, BA3 2DP\, Midsomer Norton\, BA3 2DP\, GB
CATEGORIES:Adult's Events,Events,Midsomer Norton Library,Partner Events,Support Services
ATTACH;FMTTYPE=image/png:https://baneslibraries.co.uk/wp-content/uploads/2025/09/56742_image.png
END:VEVENT
BEGIN:VEVENT
DTSTART;TZID=Europe/London:20260428T093000
DTEND;TZID=Europe/London:20260428T160000
DTSTAMP:20260424T192642
CREATED:20250922T160800Z
LAST-MODIFIED:20250922T160801Z
UID:56585-1777368600-1777392000@baneslibraries.co.uk
SUMMARY:Housing Options Drop In
DESCRIPTION:Offering help and advice about housing optionsNot available between 12 .00- 1.15pm.
URL:https://baneslibraries.co.uk/event/housing-options-drop-in-21/
LOCATION:Library & Information Service\, High Street\, Midsomer Norton\, BA3 2DP\, Midsomer Norton\, BA3 2DP\, GB
CATEGORIES:Adult's Events,Events,Midsomer Norton Library,Partner Events,Support Services
ATTACH;FMTTYPE=image/png:https://baneslibraries.co.uk/wp-content/uploads/2025/09/56522_image.png
END:VEVENT
BEGIN:VEVENT
DTSTART;TZID=Europe/London:20260428T140000
DTEND;TZID=Europe/London:20260428T150000
DTSTAMP:20260424T192642
CREATED:20260420T113033Z
LAST-MODIFIED:20260420T113034Z
UID:69173-1777384800-1777388400@baneslibraries.co.uk
SUMMARY:The Page Turners
DESCRIPTION:Shared reading group for adults at Midsomer Norton Library.Join us for a shared reading group for adults. Come and enjoy listening to a variety of extracts from a range of reading material.
URL:https://baneslibraries.co.uk/event/the-page-turners-46/
LOCATION:Library & Information Service\, High Street\, Midsomer Norton\, BA3 2DP\, Midsomer Norton\, BA3 2DP\, GB
CATEGORIES:Adult's Events,Book Groups,Events,Library Events,Midsomer Norton Library
ATTACH;FMTTYPE=image/png:https://baneslibraries.co.uk/wp-content/uploads/2025/06/54363_image.png
END:VEVENT
BEGIN:VEVENT
DTSTART;TZID=Europe/London:20260429T093000
DTEND;TZID=Europe/London:20260429T140000
DTSTAMP:20260424T192642
CREATED:20250923T142319Z
LAST-MODIFIED:20250923T142332Z
UID:57229-1777455000-1777471200@baneslibraries.co.uk
SUMMARY:Citizens Advice Drop In
DESCRIPTION:Help with money\, legal\, and consumer problems.
URL:https://baneslibraries.co.uk/event/citizens-advice-drop-in-34/
LOCATION:Library & Information Service\, High Street\, Midsomer Norton\, BA3 2DP\, Midsomer Norton\, BA3 2DP\, GB
CATEGORIES:Adult's Events,Events,Midsomer Norton Library,Partner Events,Support Services
ATTACH;FMTTYPE=image/png:https://baneslibraries.co.uk/wp-content/uploads/2025/09/57164_image.png
END:VEVENT
BEGIN:VEVENT
DTSTART;TZID=Europe/London:20260429T100000
DTEND;TZID=Europe/London:20260429T120000
DTSTAMP:20260424T192642
CREATED:20250923T150028Z
LAST-MODIFIED:20260309T173154Z
UID:57431-1777456800-1777464000@baneslibraries.co.uk
SUMMARY:Drop-in Employment Support Session
DESCRIPTION:One-to-one career coaching\, support and advice about jobs and careers.
URL:https://baneslibraries.co.uk/event/future-bright-drop-in-32/
LOCATION:Library & Information Service\, High Street\, Midsomer Norton\, BA3 2DP\, Midsomer Norton\, BA3 2DP\, GB
CATEGORIES:Adult's Events,Events,Midsomer Norton Library,Partner Events,Support Services,Young Adult's Events
ATTACH;FMTTYPE=image/png:https://baneslibraries.co.uk/wp-content/uploads/2026/03/66739_image.png
END:VEVENT
BEGIN:VEVENT
DTSTART;TZID=Europe/London:20260429T103000
DTEND;TZID=Europe/London:20260429T110000
DTSTAMP:20260424T192642
CREATED:20251014T155517Z
LAST-MODIFIED:20251014T155518Z
UID:61446-1777458600-1777460400@baneslibraries.co.uk
SUMMARY:Storytime at Midsomer Norton Library
DESCRIPTION:Join us for Storytime at Midsomer Norton Library!T﻿his is a drop in event. Free\, drop in Storytime session at Midsomer Norton Library.  Suitable for parents and carers with children aged 0 – 5 years. T﻿erm time only. No booking required.
URL:https://baneslibraries.co.uk/event/storytime-at-midsomer-norton-library-21/
LOCATION:Midsomer Norton Library\, The Hollies\, High St\, Midsomer Norton\, BA3 2DT\, Midsomer Norton\, BA3 2DT\, GB
CATEGORIES:Children's Events,Events,Library Events,Midsomer Norton Library
ATTACH;FMTTYPE=image/png:https://baneslibraries.co.uk/wp-content/uploads/2025/10/61392_image.png
END:VEVENT
BEGIN:VEVENT
DTSTART;TZID=Europe/London:20260430T090000
DTEND;TZID=Europe/London:20260430T150000
DTSTAMP:20260424T192642
CREATED:20251219T105705Z
LAST-MODIFIED:20251219T105707Z
UID:63826-1777539600-1777561200@baneslibraries.co.uk
SUMMARY:Halifax Community Banking Drop-In
DESCRIPTION:Drop-in session with Halifax.The Halifax Community Bankers provide banking services and account support for customers who may not have a local branch. They can help you with: Payments and transfersCard and PIN servicesManaging your accountHelp with Online Banking or using our Mobile Banking appHelp with Telephone BankingFind out more at: www.halifax.co.uk/helpcentre/everyday-banking/banking-near-you/community-bankers.html
URL:https://baneslibraries.co.uk/event/halifax-community-banking-drop-in-20/
LOCATION:Library & Information Service\, High Street\, Midsomer Norton\, BA3 2DP\, Midsomer Norton\, BA3 2DP\, GB
CATEGORIES:Adult's Events,Events,Midsomer Norton Library,Partner Events,Support Services
ATTACH;FMTTYPE=image/png:https://baneslibraries.co.uk/wp-content/uploads/2025/12/63792_image.png
END:VEVENT
END:VCALENDAR