BEGIN:VCALENDAR
VERSION:2.0
PRODID:-//BaNES Virtual Library - ECPv6.15.20//NONSGML v1.0//EN
CALSCALE:GREGORIAN
METHOD:PUBLISH
X-WR-CALNAME:BaNES Virtual Library
X-ORIGINAL-URL:https://baneslibraries.co.uk
X-WR-CALDESC:Events for BaNES Virtual Library
REFRESH-INTERVAL;VALUE=DURATION:PT1H
X-Robots-Tag:noindex
X-PUBLISHED-TTL:PT1H
BEGIN:VTIMEZONE
TZID:Europe/London
BEGIN:DAYLIGHT
TZOFFSETFROM:+0000
TZOFFSETTO:+0100
TZNAME:BST
DTSTART:20250330T010000
END:DAYLIGHT
BEGIN:STANDARD
TZOFFSETFROM:+0100
TZOFFSETTO:+0000
TZNAME:GMT
DTSTART:20251026T010000
END:STANDARD
BEGIN:DAYLIGHT
TZOFFSETFROM:+0000
TZOFFSETTO:+0100
TZNAME:BST
DTSTART:20260329T010000
END:DAYLIGHT
BEGIN:STANDARD
TZOFFSETFROM:+0100
TZOFFSETTO:+0000
TZNAME:GMT
DTSTART:20261025T010000
END:STANDARD
BEGIN:DAYLIGHT
TZOFFSETFROM:+0000
TZOFFSETTO:+0100
TZNAME:BST
DTSTART:20270328T010000
END:DAYLIGHT
BEGIN:STANDARD
TZOFFSETFROM:+0100
TZOFFSETTO:+0000
TZNAME:GMT
DTSTART:20271031T010000
END:STANDARD
END:VTIMEZONE
BEGIN:VEVENT
DTSTART;TZID=Europe/London:20260423T133000
DTEND;TZID=Europe/London:20260423T143000
DTSTAMP:20260424T205720
CREATED:20260121T114657Z
LAST-MODIFIED:20260121T114659Z
UID:64862-1776951000-1776954600@baneslibraries.co.uk
SUMMARY:Book Buddies Home Education Group at Midsomer Norton Library
DESCRIPTION:Is your child home educated and aged between 7 – 14?\nWe’ve set up a home educated group in Midsomer Norton Library and we’d love you to comeThese are drop-in sessions\, no ticket required. We use lots of library resources including our Hublets\, books\, games and crafts to make the sessions fun and interactive with an emphasis on reading\, books and authors. Sessions are informal and relaxed and there are lots of opportunities to chat to other home educated families. Time: 1.30 – 2.30pm
URL:https://baneslibraries.co.uk/event/book-buddies-home-education-group-at-midsomer-norton-library-8/
LOCATION:Library & Information Service\, High Street\, Midsomer Norton\, BA3 2DP\, Midsomer Norton\, BA3 2DP\, GB
CATEGORIES:Book Groups,Children's Events,Events,Library Events,Midsomer Norton Library
ATTACH;FMTTYPE=image/png:https://baneslibraries.co.uk/wp-content/uploads/2026/01/64850_image.png
END:VEVENT
BEGIN:VEVENT
DTSTART;TZID=Europe/London:20260423T090000
DTEND;TZID=Europe/London:20260423T150000
DTSTAMP:20260424T205720
CREATED:20251219T105706Z
LAST-MODIFIED:20251219T105708Z
UID:63824-1776934800-1776956400@baneslibraries.co.uk
SUMMARY:Halifax Community Banking Drop-In
DESCRIPTION:Drop-in session with Halifax.The Halifax Community Bankers provide banking services and account support for customers who may not have a local branch. They can help you with: Payments and transfersCard and PIN servicesManaging your accountHelp with Online Banking or using our Mobile Banking appHelp with Telephone BankingFind out more at: www.halifax.co.uk/helpcentre/everyday-banking/banking-near-you/community-bankers.html
URL:https://baneslibraries.co.uk/event/halifax-community-banking-drop-in-21/
LOCATION:Library & Information Service\, High Street\, Midsomer Norton\, BA3 2DP\, Midsomer Norton\, BA3 2DP\, GB
CATEGORIES:Adult's Events,Events,Midsomer Norton Library,Partner Events,Support Services
ATTACH;FMTTYPE=image/png:https://baneslibraries.co.uk/wp-content/uploads/2025/12/63792_image.png
END:VEVENT
BEGIN:VEVENT
DTSTART;TZID=Europe/London:20260422T103000
DTEND;TZID=Europe/London:20260422T110000
DTSTAMP:20260424T205720
CREATED:20251014T155519Z
LAST-MODIFIED:20251014T155520Z
UID:61444-1776853800-1776855600@baneslibraries.co.uk
SUMMARY:Storytime at Midsomer Norton Library
DESCRIPTION:Join us for Storytime at Midsomer Norton Library!T﻿his is a drop in event. Free\, drop in Storytime session at Midsomer Norton Library.  Suitable for parents and carers with children aged 0 – 5 years. T﻿erm time only. No booking required.
URL:https://baneslibraries.co.uk/event/storytime-at-midsomer-norton-library-22/
LOCATION:Midsomer Norton Library\, The Hollies\, High St\, Midsomer Norton\, BA3 2DT\, Midsomer Norton\, BA3 2DT\, GB
CATEGORIES:Children's Events,Events,Library Events,Midsomer Norton Library
ATTACH;FMTTYPE=image/png:https://baneslibraries.co.uk/wp-content/uploads/2025/10/61392_image.png
END:VEVENT
BEGIN:VEVENT
DTSTART;TZID=Europe/London:20260422T100000
DTEND;TZID=Europe/London:20260422T120000
DTSTAMP:20260424T205720
CREATED:20260122T161723Z
LAST-MODIFIED:20260122T161725Z
UID:64971-1776852000-1776859200@baneslibraries.co.uk
SUMMARY:Wellbeing Drop-In with Bath Mind
DESCRIPTION:Do you need support with your mental health or wellbeing?Wellbeing Drop-In with Bath Mind. Learn about the services Bath Mind offers across Bath and North East Somerset\, and how we can support your mental health.
URL:https://baneslibraries.co.uk/event/wellbeing-drop-in-with-bath-mind-3/
LOCATION:Library & Information Service\, High Street\, Midsomer Norton\, BA3 2DP\, Midsomer Norton\, BA3 2DP\, GB
CATEGORIES:Adult's Events,Events,Midsomer Norton Library,Partner Events,Support Services,Young Adult's Events
ATTACH;FMTTYPE=image/png:https://baneslibraries.co.uk/wp-content/uploads/2026/01/64966_image.png
END:VEVENT
BEGIN:VEVENT
DTSTART;TZID=Europe/London:20260422T100000
DTEND;TZID=Europe/London:20260422T120000
DTSTAMP:20260424T205720
CREATED:20250923T150031Z
LAST-MODIFIED:20260309T173152Z
UID:57429-1776852000-1776859200@baneslibraries.co.uk
SUMMARY:Drop-in Employment Support Session
DESCRIPTION:One-to-one career coaching\, support and advice about jobs and careers.
URL:https://baneslibraries.co.uk/event/future-bright-drop-in-33/
LOCATION:Library & Information Service\, High Street\, Midsomer Norton\, BA3 2DP\, Midsomer Norton\, BA3 2DP\, GB
CATEGORIES:Adult's Events,Events,Midsomer Norton Library,Partner Events,Support Services,Young Adult's Events
ATTACH;FMTTYPE=image/png:https://baneslibraries.co.uk/wp-content/uploads/2026/03/66739_image.png
END:VEVENT
BEGIN:VEVENT
DTSTART;TZID=Europe/London:20260422T093000
DTEND;TZID=Europe/London:20260422T140000
DTSTAMP:20260424T205720
CREATED:20250923T142259Z
LAST-MODIFIED:20250923T142312Z
UID:57227-1776850200-1776866400@baneslibraries.co.uk
SUMMARY:Citizens Advice Drop In
DESCRIPTION:Help with money\, legal\, and consumer problems.
URL:https://baneslibraries.co.uk/event/citizens-advice-drop-in-21/
LOCATION:Library & Information Service\, High Street\, Midsomer Norton\, BA3 2DP\, Midsomer Norton\, BA3 2DP\, GB
CATEGORIES:Adult's Events,Events,Midsomer Norton Library,Partner Events,Support Services
ATTACH;FMTTYPE=image/png:https://baneslibraries.co.uk/wp-content/uploads/2025/09/57164_image.png
END:VEVENT
BEGIN:VEVENT
DTSTART;TZID=Europe/London:20260421T093000
DTEND;TZID=Europe/London:20260421T160000
DTSTAMP:20260424T205720
CREATED:20250922T160802Z
LAST-MODIFIED:20250922T160803Z
UID:56583-1776763800-1776787200@baneslibraries.co.uk
SUMMARY:Housing Options Drop In
DESCRIPTION:Offering help and advice about housing optionsNot available between 12 .00- 1.15pm.
URL:https://baneslibraries.co.uk/event/housing-options-drop-in-22/
LOCATION:Library & Information Service\, High Street\, Midsomer Norton\, BA3 2DP\, Midsomer Norton\, BA3 2DP\, GB
CATEGORIES:Adult's Events,Events,Midsomer Norton Library,Partner Events,Support Services
ATTACH;FMTTYPE=image/png:https://baneslibraries.co.uk/wp-content/uploads/2025/09/56522_image.png
END:VEVENT
BEGIN:VEVENT
DTSTART;TZID=Europe/London:20260421T090000
DTEND;TZID=Europe/London:20260421T150000
DTSTAMP:20260424T205720
CREATED:20250923T084606Z
LAST-MODIFIED:20251219T152807Z
UID:56803-1776762000-1776783600@baneslibraries.co.uk
SUMMARY:Reach Housing Advice and Support Service Drop In
DESCRIPTION:Support\, information and advice if you are having difficulty with your accommodation\n\n\nFind out more at: www.dhi-online.org.uk/get-help/housing-advice-support/reach
URL:https://baneslibraries.co.uk/event/reach-housing-advice-and-support-service-drop-in-24/
LOCATION:Library & Information Service\, High Street\, Midsomer Norton\, BA3 2DP\, Midsomer Norton\, BA3 2DP\, GB
CATEGORIES:Adult's Events,Events,Midsomer Norton Library,Partner Events,Support Services
ATTACH;FMTTYPE=image/png:https://baneslibraries.co.uk/wp-content/uploads/2025/09/56742_image.png
END:VEVENT
BEGIN:VEVENT
DTSTART;TZID=Europe/London:20260420T110000
DTEND;TZID=Europe/London:20260420T113000
DTSTAMP:20260424T205720
CREATED:20251014T091712Z
LAST-MODIFIED:20251014T091714Z
UID:60793-1776682800-1776684600@baneslibraries.co.uk
SUMMARY:Baby Bounce and Rhyme at Midsomer Norton Library
DESCRIPTION:Join us for Baby Bounce and Rhyme at Midsomer Norton Library!T﻿his is a drop in event. Free\, drop in Baby Bounce and Rhyme Session at Midsomer Norton Library.  Suitable for parents and carers with children aged 0 – 5 years. T﻿erm time only\, no booking required.
URL:https://baneslibraries.co.uk/event/baby-bounce-and-rhyme-at-midsomer-norton-library-28/
LOCATION:Midsomer Norton Library\, The Hollies\, High St\, Midsomer Norton\, BA3 2DT\, Midsomer Norton\, BA3 2DT\, GB
CATEGORIES:Children's Events,Events,Library Events,Midsomer Norton Library
ATTACH;FMTTYPE=image/png:https://baneslibraries.co.uk/wp-content/uploads/2025/10/60742_image.png
END:VEVENT
BEGIN:VEVENT
DTSTART;TZID=Europe/London:20260418T100000
DTEND;TZID=Europe/London:20260418T123000
DTSTAMP:20260424T205720
CREATED:20260217T173740Z
LAST-MODIFIED:20260217T173742Z
UID:65978-1776506400-1776515400@baneslibraries.co.uk
SUMMARY:Board Game Saturdays at Midsomer Norton Library
DESCRIPTION:Do you love to play boardgames? This is the perfect event for you!This is a drop in event. Fun for all the family! We have a great selection of boardgames\, suitable for all ages.
URL:https://baneslibraries.co.uk/event/board-game-saturdays-at-midsomer-norton-library-11/
LOCATION:Library & Information Service\, High Street\, Midsomer Norton\, BA3 2DP\, Midsomer Norton\, BA3 2DP\, GB
CATEGORIES:Adult's Events,Events,Library Events,Midsomer Norton Library,Young Adult's Events
ATTACH;FMTTYPE=image/png:https://baneslibraries.co.uk/wp-content/uploads/2026/02/65961_image.png
END:VEVENT
BEGIN:VEVENT
DTSTART;TZID=Europe/London:20260417T100000
DTEND;TZID=Europe/London:20260417T123000
DTSTAMP:20260424T205720
CREATED:20260119T174452Z
LAST-MODIFIED:20260309T173524Z
UID:64759-1776420000-1776429000@baneslibraries.co.uk
SUMMARY:We Work For Everyone Drop In
DESCRIPTION:Employment support and advice for those with autism\, learning difficulties or learning disabilities.
URL:https://baneslibraries.co.uk/event/we-work-for-everyone-drop-in-13/
LOCATION:Library & Information Service\, High Street\, Midsomer Norton\, BA3 2DP\, Midsomer Norton\, BA3 2DP\, GB
CATEGORIES:Adult's Events,Events,Midsomer Norton Library,Partner Events,Support Services,Young Adult's Events
ATTACH;FMTTYPE=image/png:https://baneslibraries.co.uk/wp-content/uploads/2025/12/63736_image.png
END:VEVENT
BEGIN:VEVENT
DTSTART;TZID=Europe/London:20260416T090000
DTEND;TZID=Europe/London:20260416T150000
DTSTAMP:20260424T205720
CREATED:20251219T105515Z
LAST-MODIFIED:20251219T105517Z
UID:63822-1776330000-1776351600@baneslibraries.co.uk
SUMMARY:Halifax Community Banking Drop-In
DESCRIPTION:Drop-in session with Halifax.The Halifax Community Bankers provide banking services and account support for customers who may not have a local branch. They can help you with: Payments and transfersCard and PIN servicesManaging your accountHelp with Online Banking or using our Mobile Banking appHelp with Telephone BankingFind out more at: www.halifax.co.uk/helpcentre/everyday-banking/banking-near-you/community-bankers.html
URL:https://baneslibraries.co.uk/event/halifax-community-banking-drop-in-10/
LOCATION:Library & Information Service\, High Street\, Midsomer Norton\, BA3 2DP\, Midsomer Norton\, BA3 2DP\, GB
CATEGORIES:Adult's Events,Events,Midsomer Norton Library,Partner Events,Support Services
ATTACH;FMTTYPE=image/png:https://baneslibraries.co.uk/wp-content/uploads/2025/12/63792_image.png
END:VEVENT
BEGIN:VEVENT
DTSTART;TZID=Europe/London:20260415T100000
DTEND;TZID=Europe/London:20260415T120000
DTSTAMP:20260424T205720
CREATED:20250923T150032Z
LAST-MODIFIED:20260309T173150Z
UID:57427-1776247200-1776254400@baneslibraries.co.uk
SUMMARY:Drop-in Employment Support Session
DESCRIPTION:One-to-one career coaching\, support and advice about jobs and careers.
URL:https://baneslibraries.co.uk/event/future-bright-drop-in-34/
LOCATION:Library & Information Service\, High Street\, Midsomer Norton\, BA3 2DP\, Midsomer Norton\, BA3 2DP\, GB
CATEGORIES:Adult's Events,Events,Midsomer Norton Library,Partner Events,Support Services,Young Adult's Events
ATTACH;FMTTYPE=image/png:https://baneslibraries.co.uk/wp-content/uploads/2026/03/66739_image.png
END:VEVENT
BEGIN:VEVENT
DTSTART;TZID=Europe/London:20260415T093000
DTEND;TZID=Europe/London:20260415T140000
DTSTAMP:20260424T205720
CREATED:20250923T142302Z
LAST-MODIFIED:20250923T142314Z
UID:57224-1776245400-1776261600@baneslibraries.co.uk
SUMMARY:Citizens Advice Drop In
DESCRIPTION:Help with money\, legal\, and consumer problems.
URL:https://baneslibraries.co.uk/event/citizens-advice-drop-in-23/
LOCATION:Library & Information Service\, High Street\, Midsomer Norton\, BA3 2DP\, Midsomer Norton\, BA3 2DP\, GB
CATEGORIES:Adult's Events,Events,Midsomer Norton Library,Partner Events,Support Services
ATTACH;FMTTYPE=image/png:https://baneslibraries.co.uk/wp-content/uploads/2025/09/57164_image.png
END:VEVENT
BEGIN:VEVENT
DTSTART;TZID=Europe/London:20260414T093000
DTEND;TZID=Europe/London:20260414T160000
DTSTAMP:20260424T205720
CREATED:20250923T134258Z
LAST-MODIFIED:20250923T134310Z
UID:57027-1776159000-1776182400@baneslibraries.co.uk
SUMMARY:DayStop Drop In
DESCRIPTION:Providing help\, support and advice with issues relating to housing\, benefits\, employment and training for any young people aged 16 – 25.
URL:https://baneslibraries.co.uk/event/daystop-drop-in-26/
LOCATION:Library & Information Service\, High Street\, Midsomer Norton\, BA3 2DP\, Midsomer Norton\, BA3 2DP\, GB
CATEGORIES:Adult's Events,Events,Midsomer Norton Library,Partner Events,Support Services,Young Adult's Events
ATTACH;FMTTYPE=image/png:https://baneslibraries.co.uk/wp-content/uploads/2025/09/56966_image.png
END:VEVENT
BEGIN:VEVENT
DTSTART;TZID=Europe/London:20260414T093000
DTEND;TZID=Europe/London:20260414T160000
DTSTAMP:20260424T205720
CREATED:20250922T160804Z
LAST-MODIFIED:20250922T160806Z
UID:56581-1776159000-1776182400@baneslibraries.co.uk
SUMMARY:Housing Options Drop In
DESCRIPTION:Offering help and advice about housing optionsNot available between 12 .00- 1.15pm.
URL:https://baneslibraries.co.uk/event/housing-options-drop-in-23/
LOCATION:Library & Information Service\, High Street\, Midsomer Norton\, BA3 2DP\, Midsomer Norton\, BA3 2DP\, GB
CATEGORIES:Adult's Events,Events,Midsomer Norton Library,Partner Events,Support Services
ATTACH;FMTTYPE=image/png:https://baneslibraries.co.uk/wp-content/uploads/2025/09/56522_image.png
END:VEVENT
BEGIN:VEVENT
DTSTART;TZID=Europe/London:20260414T090000
DTEND;TZID=Europe/London:20260414T150000
DTSTAMP:20260424T205720
CREATED:20250923T084608Z
LAST-MODIFIED:20251219T152824Z
UID:56801-1776157200-1776178800@baneslibraries.co.uk
SUMMARY:Reach Housing Advice and Support Service Drop In
DESCRIPTION:Support\, information and advice if you are having difficulty with your accommodation\n\n\nFind out more at: www.dhi-online.org.uk/get-help/housing-advice-support/reach
URL:https://baneslibraries.co.uk/event/reach-housing-advice-and-support-service-drop-in-25/
LOCATION:Library & Information Service\, High Street\, Midsomer Norton\, BA3 2DP\, Midsomer Norton\, BA3 2DP\, GB
CATEGORIES:Adult's Events,Events,Midsomer Norton Library,Partner Events,Support Services
ATTACH;FMTTYPE=image/png:https://baneslibraries.co.uk/wp-content/uploads/2025/09/56742_image.png
END:VEVENT
BEGIN:VEVENT
DTSTART;TZID=Europe/London:20260411T100000
DTEND;TZID=Europe/London:20260411T123000
DTSTAMP:20260424T205720
CREATED:20260217T173743Z
LAST-MODIFIED:20260217T173744Z
UID:65976-1775901600-1775910600@baneslibraries.co.uk
SUMMARY:Board Game Saturdays at Midsomer Norton Library
DESCRIPTION:Do you love to play boardgames? This is the perfect event for you!This is a drop in event. Fun for all the family! We have a great selection of boardgames\, suitable for all ages.
URL:https://baneslibraries.co.uk/event/board-game-saturdays-at-midsomer-norton-library-12/
LOCATION:Library & Information Service\, High Street\, Midsomer Norton\, BA3 2DP\, Midsomer Norton\, BA3 2DP\, GB
CATEGORIES:Adult's Events,Events,Library Events,Midsomer Norton Library,Young Adult's Events
ATTACH;FMTTYPE=image/png:https://baneslibraries.co.uk/wp-content/uploads/2026/02/65961_image.png
END:VEVENT
BEGIN:VEVENT
DTSTART;TZID=Europe/London:20260409T090000
DTEND;TZID=Europe/London:20260409T150000
DTSTAMP:20260424T205720
CREATED:20251219T105517Z
LAST-MODIFIED:20251219T105519Z
UID:63820-1775725200-1775746800@baneslibraries.co.uk
SUMMARY:Halifax Community Banking Drop-In
DESCRIPTION:Drop-in session with Halifax.The Halifax Community Bankers provide banking services and account support for customers who may not have a local branch. They can help you with: Payments and transfersCard and PIN servicesManaging your accountHelp with Online Banking or using our Mobile Banking appHelp with Telephone BankingFind out more at: www.halifax.co.uk/helpcentre/everyday-banking/banking-near-you/community-bankers.html
URL:https://baneslibraries.co.uk/event/halifax-community-banking-drop-in-11/
LOCATION:Library & Information Service\, High Street\, Midsomer Norton\, BA3 2DP\, Midsomer Norton\, BA3 2DP\, GB
CATEGORIES:Adult's Events,Events,Midsomer Norton Library,Partner Events,Support Services
ATTACH;FMTTYPE=image/png:https://baneslibraries.co.uk/wp-content/uploads/2025/12/63792_image.png
END:VEVENT
BEGIN:VEVENT
DTSTART;TZID=Europe/London:20260408T100000
DTEND;TZID=Europe/London:20260408T120000
DTSTAMP:20260424T205720
CREATED:20250923T150035Z
LAST-MODIFIED:20260309T173147Z
UID:57425-1775642400-1775649600@baneslibraries.co.uk
SUMMARY:Drop-in Employment Support Session
DESCRIPTION:One-to-one career coaching\, support and advice about jobs and careers.
URL:https://baneslibraries.co.uk/event/future-bright-drop-in-35/
LOCATION:Library & Information Service\, High Street\, Midsomer Norton\, BA3 2DP\, Midsomer Norton\, BA3 2DP\, GB
CATEGORIES:Adult's Events,Events,Midsomer Norton Library,Partner Events,Support Services,Young Adult's Events
ATTACH;FMTTYPE=image/png:https://baneslibraries.co.uk/wp-content/uploads/2026/03/66739_image.png
END:VEVENT
BEGIN:VEVENT
DTSTART;TZID=Europe/London:20260408T093000
DTEND;TZID=Europe/London:20260408T140000
DTSTAMP:20260424T205720
CREATED:20250923T142303Z
LAST-MODIFIED:20250923T142322Z
UID:57222-1775640600-1775656800@baneslibraries.co.uk
SUMMARY:Citizens Advice Drop In
DESCRIPTION:Help with money\, legal\, and consumer problems.
URL:https://baneslibraries.co.uk/event/citizens-advice-drop-in-24/
LOCATION:Library & Information Service\, High Street\, Midsomer Norton\, BA3 2DP\, Midsomer Norton\, BA3 2DP\, GB
CATEGORIES:Adult's Events,Events,Midsomer Norton Library,Partner Events,Support Services
ATTACH;FMTTYPE=image/png:https://baneslibraries.co.uk/wp-content/uploads/2025/09/57164_image.png
END:VEVENT
BEGIN:VEVENT
DTSTART;TZID=Europe/London:20260407T093000
DTEND;TZID=Europe/London:20260407T160000
DTSTAMP:20260424T205720
CREATED:20250922T160807Z
LAST-MODIFIED:20250922T160808Z
UID:56579-1775554200-1775577600@baneslibraries.co.uk
SUMMARY:Housing Options Drop In
DESCRIPTION:Offering help and advice about housing optionsNot available between 12 .00- 1.15pm.
URL:https://baneslibraries.co.uk/event/housing-options-drop-in-24/
LOCATION:Library & Information Service\, High Street\, Midsomer Norton\, BA3 2DP\, Midsomer Norton\, BA3 2DP\, GB
CATEGORIES:Adult's Events,Events,Midsomer Norton Library,Partner Events,Support Services
ATTACH;FMTTYPE=image/png:https://baneslibraries.co.uk/wp-content/uploads/2025/09/56522_image.png
END:VEVENT
BEGIN:VEVENT
DTSTART;TZID=Europe/London:20260407T090000
DTEND;TZID=Europe/London:20260407T150000
DTSTAMP:20260424T205720
CREATED:20250923T084901Z
LAST-MODIFIED:20251219T152837Z
UID:56799-1775552400-1775574000@baneslibraries.co.uk
SUMMARY:Reach Housing Advice and Support Service Drop In
DESCRIPTION:Support\, information and advice if you are having difficulty with your accommodation\n\n\nFind out more at: www.dhi-online.org.uk/get-help/housing-advice-support/reach
URL:https://baneslibraries.co.uk/event/reach-housing-advice-and-support-service-drop-in-32/
LOCATION:Library & Information Service\, High Street\, Midsomer Norton\, BA3 2DP\, Midsomer Norton\, BA3 2DP\, GB
CATEGORIES:Adult's Events,Events,Midsomer Norton Library,Partner Events,Support Services
ATTACH;FMTTYPE=image/png:https://baneslibraries.co.uk/wp-content/uploads/2025/09/56742_image.png
END:VEVENT
BEGIN:VEVENT
DTSTART;TZID=Europe/London:20260404T100000
DTEND;TZID=Europe/London:20260404T123000
DTSTAMP:20260424T205720
CREATED:20260217T173714Z
LAST-MODIFIED:20260217T173716Z
UID:65974-1775296800-1775305800@baneslibraries.co.uk
SUMMARY:Board Game Saturdays at Midsomer Norton Library
DESCRIPTION:Do you love to play boardgames? This is the perfect event for you!This is a drop in event. Fun for all the family! We have a great selection of boardgames\, suitable for all ages.
URL:https://baneslibraries.co.uk/event/board-game-saturdays-at-midsomer-norton-library/
LOCATION:Library & Information Service\, High Street\, Midsomer Norton\, BA3 2DP\, Midsomer Norton\, BA3 2DP\, GB
CATEGORIES:Adult's Events,Events,Library Events,Midsomer Norton Library,Young Adult's Events
ATTACH;FMTTYPE=image/png:https://baneslibraries.co.uk/wp-content/uploads/2026/02/65961_image.png
END:VEVENT
BEGIN:VEVENT
DTSTART;TZID=Europe/London:20260402T090000
DTEND;TZID=Europe/London:20260402T150000
DTSTAMP:20260424T205720
CREATED:20251219T105520Z
LAST-MODIFIED:20251219T105521Z
UID:63818-1775120400-1775142000@baneslibraries.co.uk
SUMMARY:Halifax Community Banking Drop-In
DESCRIPTION:Drop-in session with Halifax.The Halifax Community Bankers provide banking services and account support for customers who may not have a local branch. They can help you with: Payments and transfersCard and PIN servicesManaging your accountHelp with Online Banking or using our Mobile Banking appHelp with Telephone BankingFind out more at: www.halifax.co.uk/helpcentre/everyday-banking/banking-near-you/community-bankers.html
URL:https://baneslibraries.co.uk/event/halifax-community-banking-drop-in-12/
LOCATION:Library & Information Service\, High Street\, Midsomer Norton\, BA3 2DP\, Midsomer Norton\, BA3 2DP\, GB
CATEGORIES:Adult's Events,Events,Midsomer Norton Library,Partner Events,Support Services
ATTACH;FMTTYPE=image/png:https://baneslibraries.co.uk/wp-content/uploads/2025/12/63792_image.png
END:VEVENT
BEGIN:VEVENT
DTSTART;TZID=Europe/London:20260401T103000
DTEND;TZID=Europe/London:20260401T110000
DTSTAMP:20260424T205720
CREATED:20260109T162254Z
LAST-MODIFIED:20260109T163056Z
UID:64511-1775039400-1775041200@baneslibraries.co.uk
SUMMARY:BookTrust Storytime
DESCRIPTION:Join us for BookTrust Storytimes at Midsomer Norton LibraryT his is a drop in event. Come to one week or all. Free\, drop in Storytime session at Midsomer Norton Library. Over five weeks we will read a different BookTrust selected story\, voting for our favourite. The final sixth week will recap favourites or missed stories. Come and vote for your favourite book with different crafts and play activities each week! Suitable for parents and carers with children aged 0 – 5 years. Term time only. No booking required.
URL:https://baneslibraries.co.uk/event/booktrust-storytime-7/
LOCATION:Midsomer Norton Library\, The Hollies\, High St\, Midsomer Norton\, BA3 2DT\, Midsomer Norton\, BA3 2DT\, GB
CATEGORIES:Children's Events,Events,Library Events,Midsomer Norton Library
ATTACH;FMTTYPE=image/png:https://baneslibraries.co.uk/wp-content/uploads/2026/01/64499_image.png
END:VEVENT
BEGIN:VEVENT
DTSTART;TZID=Europe/London:20260401T100000
DTEND;TZID=Europe/London:20260401T120000
DTSTAMP:20260424T205720
CREATED:20250923T150009Z
LAST-MODIFIED:20260309T173146Z
UID:57423-1775037600-1775044800@baneslibraries.co.uk
SUMMARY:Drop-in Employment Support Session
DESCRIPTION:One-to-one career coaching\, support and advice about jobs and careers.
URL:https://baneslibraries.co.uk/event/future-bright-drop-in-23/
LOCATION:Library & Information Service\, High Street\, Midsomer Norton\, BA3 2DP\, Midsomer Norton\, BA3 2DP\, GB
CATEGORIES:Adult's Events,Events,Midsomer Norton Library,Partner Events,Support Services,Young Adult's Events
ATTACH;FMTTYPE=image/png:https://baneslibraries.co.uk/wp-content/uploads/2026/03/66739_image.png
END:VEVENT
BEGIN:VEVENT
DTSTART;TZID=Europe/London:20260401T093000
DTEND;TZID=Europe/London:20260401T140000
DTSTAMP:20260424T205720
CREATED:20250923T142316Z
LAST-MODIFIED:20250923T142337Z
UID:57220-1775035800-1775052000@baneslibraries.co.uk
SUMMARY:Citizens Advice Drop In
DESCRIPTION:Help with money\, legal\, and consumer problems.
URL:https://baneslibraries.co.uk/event/citizens-advice-drop-in-31/
LOCATION:Library & Information Service\, High Street\, Midsomer Norton\, BA3 2DP\, Midsomer Norton\, BA3 2DP\, GB
CATEGORIES:Adult's Events,Events,Midsomer Norton Library,Partner Events,Support Services
ATTACH;FMTTYPE=image/png:https://baneslibraries.co.uk/wp-content/uploads/2025/09/57164_image.png
END:VEVENT
BEGIN:VEVENT
DTSTART;TZID=Europe/London:20260331T140000
DTEND;TZID=Europe/London:20260331T150000
DTSTAMP:20260424T205720
CREATED:20251218T095809Z
LAST-MODIFIED:20251218T095810Z
UID:63683-1774965600-1774969200@baneslibraries.co.uk
SUMMARY:The Page Turners
DESCRIPTION:Shared reading group for adults at Midsomer Norton Library.Join us for a shared reading group for adults. Come and enjoy listening to a variety of extracts from a range of reading material.
URL:https://baneslibraries.co.uk/event/the-page-turners-7/
LOCATION:Library & Information Service\, High Street\, Midsomer Norton\, BA3 2DP\, Midsomer Norton\, BA3 2DP\, GB
CATEGORIES:Adult's Events,Book Groups,Events,Library Events,Midsomer Norton Library
ATTACH;FMTTYPE=image/png:https://baneslibraries.co.uk/wp-content/uploads/2025/06/54363_image.png
END:VEVENT
BEGIN:VEVENT
DTSTART;TZID=Europe/London:20260331T093000
DTEND;TZID=Europe/London:20260331T160000
DTSTAMP:20260424T205720
CREATED:20250922T160936Z
LAST-MODIFIED:20250922T160937Z
UID:56577-1774949400-1774972800@baneslibraries.co.uk
SUMMARY:Housing Options Drop In
DESCRIPTION:Offering help and advice about housing optionsNot available between 12 .00- 1.15pm.
URL:https://baneslibraries.co.uk/event/housing-options-drop-in-52/
LOCATION:Library & Information Service\, High Street\, Midsomer Norton\, BA3 2DP\, Midsomer Norton\, BA3 2DP\, GB
CATEGORIES:Adult's Events,Events,Midsomer Norton Library,Partner Events,Support Services
ATTACH;FMTTYPE=image/png:https://baneslibraries.co.uk/wp-content/uploads/2025/09/56522_image.png
END:VEVENT
END:VCALENDAR