BEGIN:VCALENDAR
VERSION:2.0
PRODID:-//BaNES Virtual Library - ECPv6.15.20//NONSGML v1.0//EN
CALSCALE:GREGORIAN
METHOD:PUBLISH
X-WR-CALNAME:BaNES Virtual Library
X-ORIGINAL-URL:https://baneslibraries.co.uk
X-WR-CALDESC:Events for BaNES Virtual Library
REFRESH-INTERVAL;VALUE=DURATION:PT1H
X-Robots-Tag:noindex
X-PUBLISHED-TTL:PT1H
BEGIN:VTIMEZONE
TZID:Europe/London
BEGIN:DAYLIGHT
TZOFFSETFROM:+0000
TZOFFSETTO:+0100
TZNAME:BST
DTSTART:20250330T010000
END:DAYLIGHT
BEGIN:STANDARD
TZOFFSETFROM:+0100
TZOFFSETTO:+0000
TZNAME:GMT
DTSTART:20251026T010000
END:STANDARD
BEGIN:DAYLIGHT
TZOFFSETFROM:+0000
TZOFFSETTO:+0100
TZNAME:BST
DTSTART:20260329T010000
END:DAYLIGHT
BEGIN:STANDARD
TZOFFSETFROM:+0100
TZOFFSETTO:+0000
TZNAME:GMT
DTSTART:20261025T010000
END:STANDARD
BEGIN:DAYLIGHT
TZOFFSETFROM:+0000
TZOFFSETTO:+0100
TZNAME:BST
DTSTART:20270328T010000
END:DAYLIGHT
BEGIN:STANDARD
TZOFFSETFROM:+0100
TZOFFSETTO:+0000
TZNAME:GMT
DTSTART:20271031T010000
END:STANDARD
END:VTIMEZONE
BEGIN:VEVENT
DTSTART;TZID=Europe/London:20260220T100000
DTEND;TZID=Europe/London:20260220T130000
DTSTAMP:20260425T012023
CREATED:20260119T174434Z
LAST-MODIFIED:20260119T174435Z
UID:64751-1771581600-1771592400@baneslibraries.co.uk
SUMMARY:We Work For Everyone Drop In
DESCRIPTION:Employment support and advice for those with autism\, learning difficulties or learning disabilities.
URL:https://baneslibraries.co.uk/event/we-work-for-everyone-drop-in-4/
LOCATION:Library & Information Service\, High Street\, Midsomer Norton\, BA3 2DP\, Midsomer Norton\, BA3 2DP\, GB
CATEGORIES:Adult's Events,Events,Midsomer Norton Library,Partner Events,Support Services,Young Adult's Events
ATTACH;FMTTYPE=image/png:https://baneslibraries.co.uk/wp-content/uploads/2025/12/63736_image.png
END:VEVENT
BEGIN:VEVENT
DTSTART;TZID=Europe/London:20260220T140000
DTEND;TZID=Europe/London:20260220T150000
DTSTAMP:20260425T012023
CREATED:20250626T101543Z
LAST-MODIFIED:20250626T101544Z
UID:54278-1771596000-1771599600@baneslibraries.co.uk
SUMMARY:Friendship Fridays at Midsomer Norton Library
DESCRIPTION:Drop-in to our relaxed social group for adults. Have a go at a wordsearch\, crossword or a board game over a cuppa and a chat.THIS IS A DROP-IN SOCIAL GROUP\, no tickets required. Drop-in to our relaxed social group for adults. Have a go at a wordsearch\, crossword or a board game over a cuppa and a chat. Every Friday 2 – 3pm.
URL:https://baneslibraries.co.uk/event/friendship-fridays-at-midsomer-norton-library-29/
LOCATION:Library & Information Service\, High Street\, Midsomer Norton\, BA3 2DP\, Midsomer Norton\, BA3 2DP\, GB
CATEGORIES:Adult's Events,Events,Library Events,Midsomer Norton Library
ATTACH;FMTTYPE=image/png:https://baneslibraries.co.uk/wp-content/uploads/2025/06/54225_image.png
END:VEVENT
BEGIN:VEVENT
DTSTART;TZID=Europe/London:20260220T140000
DTEND;TZID=Europe/London:20260220T150000
DTSTAMP:20260425T012023
CREATED:20251125T131308Z
LAST-MODIFIED:20251203T170817Z
UID:62932-1771596000-1771599600@baneslibraries.co.uk
SUMMARY:Authors in the Library - S J Richards
DESCRIPTION:Join us at Midsomer Norton Library for an author event with local author S J RichardsJoin us in conversation with Steve Richards. Steve writes a crime thriller series based in Somerset and featuring ex-DCI Luke Sackville. Book 10\, ‘Behind the Ivy’\, was published in December 2025 and sees Luke and his team investigating a conspiracy that reaches into the highest levels of British society. The talk will be followed by a Q&A. Free tea/coffee and biscuits will be provided. Speak to a member of the Midsomer Norton Library team for more information.
URL:https://baneslibraries.co.uk/event/authors-in-the-library-s-j-richards/
LOCATION:Library & Information Service\, High Street\, Midsomer Norton\, BA3 2DP\, Midsomer Norton\, BA3 2DP\, GB
CATEGORIES:Adult's Events,Events,Festival Adults,Festival of Libraries,Library Events,Midsomer Norton Library,Young Adult's Events
ATTACH;FMTTYPE=image/png:https://baneslibraries.co.uk/wp-content/uploads/2025/11/62932_image.png
END:VEVENT
END:VCALENDAR