BEGIN:VCALENDAR
VERSION:2.0
PRODID:-//BaNES Virtual Library - ECPv6.15.20//NONSGML v1.0//EN
CALSCALE:GREGORIAN
METHOD:PUBLISH
X-ORIGINAL-URL:https://baneslibraries.co.uk
X-WR-CALDESC:Events for BaNES Virtual Library
REFRESH-INTERVAL;VALUE=DURATION:PT1H
X-Robots-Tag:noindex
X-PUBLISHED-TTL:PT1H
BEGIN:VTIMEZONE
TZID:Europe/London
BEGIN:DAYLIGHT
TZOFFSETFROM:+0000
TZOFFSETTO:+0100
TZNAME:BST
DTSTART:20250330T010000
END:DAYLIGHT
BEGIN:STANDARD
TZOFFSETFROM:+0100
TZOFFSETTO:+0000
TZNAME:GMT
DTSTART:20251026T010000
END:STANDARD
BEGIN:DAYLIGHT
TZOFFSETFROM:+0000
TZOFFSETTO:+0100
TZNAME:BST
DTSTART:20260329T010000
END:DAYLIGHT
BEGIN:STANDARD
TZOFFSETFROM:+0100
TZOFFSETTO:+0000
TZNAME:GMT
DTSTART:20261025T010000
END:STANDARD
BEGIN:DAYLIGHT
TZOFFSETFROM:+0000
TZOFFSETTO:+0100
TZNAME:BST
DTSTART:20270328T010000
END:DAYLIGHT
BEGIN:STANDARD
TZOFFSETFROM:+0100
TZOFFSETTO:+0000
TZNAME:GMT
DTSTART:20271031T010000
END:STANDARD
END:VTIMEZONE
BEGIN:VEVENT
DTSTART;TZID=Europe/London:20260211T093000
DTEND;TZID=Europe/London:20260211T140000
DTSTAMP:20260425T025206
CREATED:20250923T142254Z
LAST-MODIFIED:20250923T142309Z
UID:57205-1770802200-1770818400@baneslibraries.co.uk
SUMMARY:Citizens Advice Drop In
DESCRIPTION:Help with money\, legal\, and consumer problems.
URL:https://baneslibraries.co.uk/event/citizens-advice-drop-in-18/
LOCATION:Library & Information Service\, High Street\, Midsomer Norton\, BA3 2DP\, Midsomer Norton\, BA3 2DP\, GB
CATEGORIES:Adult's Events,Events,Midsomer Norton Library,Partner Events,Support Services
ATTACH;FMTTYPE=image/png:https://baneslibraries.co.uk/wp-content/uploads/2025/09/57164_image.png
END:VEVENT
BEGIN:VEVENT
DTSTART;TZID=Europe/London:20260211T100000
DTEND;TZID=Europe/London:20260211T120000
DTSTAMP:20260425T025206
CREATED:20250923T145950Z
LAST-MODIFIED:20250923T145951Z
UID:57409-1770804000-1770811200@baneslibraries.co.uk
SUMMARY:Future Bright Drop In
DESCRIPTION:One-to-one career coaching\, support and advice about jobs and careers.
URL:https://baneslibraries.co.uk/event/future-bright-drop-in-16/
LOCATION:Library & Information Service\, High Street\, Midsomer Norton\, BA3 2DP\, Midsomer Norton\, BA3 2DP\, GB
CATEGORIES:Adult's Events,Events,Midsomer Norton Library,Partner Events,Support Services,Young Adult's Events
ATTACH;FMTTYPE=image/png:https://baneslibraries.co.uk/wp-content/uploads/2025/09/57368_image.png
END:VEVENT
BEGIN:VEVENT
DTSTART;TZID=Europe/London:20260211T100000
DTEND;TZID=Europe/London:20260211T120000
DTSTAMP:20260425T025206
CREATED:20260122T161718Z
LAST-MODIFIED:20260204T154548Z
UID:64966-1770804000-1770811200@baneslibraries.co.uk
SUMMARY:Wellbeing Drop-In with Bath Mind
DESCRIPTION:Do you need support with your mental health or wellbeing?\n\n\nWellbeing Drop-In with Bath Mind. \nLearn about the services Bath Mind offers across Bath and North East Somerset\, and how we can support your mental health.
URL:https://baneslibraries.co.uk/event/wellbeing-drop-in-with-bath-mind/
LOCATION:Library & Information Service\, High Street\, Midsomer Norton\, BA3 2DP\, Midsomer Norton\, BA3 2DP\, GB
CATEGORIES:Adult's Events,Events,Midsomer Norton Library,Partner Events,Support Services,Young Adult's Events
ATTACH;FMTTYPE=image/png:https://baneslibraries.co.uk/wp-content/uploads/2026/01/64966_image.png
END:VEVENT
BEGIN:VEVENT
DTSTART;TZID=Europe/London:20260211T103000
DTEND;TZID=Europe/London:20260211T110000
DTSTAMP:20260425T025206
CREATED:20251203T174636Z
LAST-MODIFIED:20251203T174637Z
UID:63436-1770805800-1770807600@baneslibraries.co.uk
SUMMARY:Storytime at Midsomer Norton Library - Festival of Libraries
DESCRIPTION:Free\, drop in Storytime session at Midsomer Norton Library. Suitable for parents and carers with children aged 0 – 5 yearsFree Drop-In Storytime at Midsomer Norton LibraryJoin us for a cozy and fun Storytime session at Midsomer Norton Library! 📚 Hear old favourites and discover new stories in a welcoming space for families. Perfect for sparking imagination and a love of reading. 👶 Who’s it for? Parents and carers with children aged 0–5 years📍 Location: Midsomer Norton Library📅 Date: Wednesday 11 & 18 February🕒 Time: 10:30 – 11:00 am💰 Cost: Free – just drop in! No booking required—come along and enjoy stories together!
URL:https://baneslibraries.co.uk/event/storytime-at-midsomer-norton-library-festival-of-libraries-2/
LOCATION:Midsomer Norton Library\, The Hollies\, High St\, Midsomer Norton\, BA3 2DT\, Midsomer Norton\, BA3 2DT\, GB
CATEGORIES:Children's Events,Events,Festival Kids,Festival of Libraries,Library Events,Midsomer Norton Library
ATTACH;FMTTYPE=image/png:https://baneslibraries.co.uk/wp-content/uploads/2025/12/63304_image.png
END:VEVENT
END:VCALENDAR