BEGIN:VCALENDAR
VERSION:2.0
PRODID:-//BaNES Virtual Library - ECPv6.15.20//NONSGML v1.0//EN
CALSCALE:GREGORIAN
METHOD:PUBLISH
X-ORIGINAL-URL:https://baneslibraries.co.uk
X-WR-CALDESC:Events for BaNES Virtual Library
REFRESH-INTERVAL;VALUE=DURATION:PT1H
X-Robots-Tag:noindex
X-PUBLISHED-TTL:PT1H
BEGIN:VTIMEZONE
TZID:Europe/London
BEGIN:DAYLIGHT
TZOFFSETFROM:+0000
TZOFFSETTO:+0100
TZNAME:BST
DTSTART:20250330T010000
END:DAYLIGHT
BEGIN:STANDARD
TZOFFSETFROM:+0100
TZOFFSETTO:+0000
TZNAME:GMT
DTSTART:20251026T010000
END:STANDARD
BEGIN:DAYLIGHT
TZOFFSETFROM:+0000
TZOFFSETTO:+0100
TZNAME:BST
DTSTART:20260329T010000
END:DAYLIGHT
BEGIN:STANDARD
TZOFFSETFROM:+0100
TZOFFSETTO:+0000
TZNAME:GMT
DTSTART:20261025T010000
END:STANDARD
BEGIN:DAYLIGHT
TZOFFSETFROM:+0000
TZOFFSETTO:+0100
TZNAME:BST
DTSTART:20270328T010000
END:DAYLIGHT
BEGIN:STANDARD
TZOFFSETFROM:+0100
TZOFFSETTO:+0000
TZNAME:GMT
DTSTART:20271031T010000
END:STANDARD
END:VTIMEZONE
BEGIN:VEVENT
DTSTART;TZID=Europe/London:20260203T090000
DTEND;TZID=Europe/London:20260203T150000
DTSTAMP:20260425T025204
CREATED:20250923T084553Z
LAST-MODIFIED:20251219T152012Z
UID:56781-1770109200-1770130800@baneslibraries.co.uk
SUMMARY:Reach Housing Advice and Support Service Drop In
DESCRIPTION:Support\, information and advice if you are having difficulty with your accommodation\n\n\nFind out more at: www.dhi-online.org.uk/get-help/housing-advice-support/reach
URL:https://baneslibraries.co.uk/event/reach-housing-advice-and-support-service-drop-in-17/
LOCATION:Library & Information Service\, High Street\, Midsomer Norton\, BA3 2DP\, Midsomer Norton\, BA3 2DP\, GB
CATEGORIES:Adult's Events,Events,Midsomer Norton Library,Partner Events,Support Services
ATTACH;FMTTYPE=image/png:https://baneslibraries.co.uk/wp-content/uploads/2025/09/56742_image.png
END:VEVENT
BEGIN:VEVENT
DTSTART;TZID=Europe/London:20260203T093000
DTEND;TZID=Europe/London:20260203T160000
DTSTAMP:20260425T025204
CREATED:20250922T160918Z
LAST-MODIFIED:20250922T160920Z
UID:56561-1770111000-1770134400@baneslibraries.co.uk
SUMMARY:Housing Options Drop In
DESCRIPTION:Offering help and advice about housing optionsNot available between 12 .00- 1.15pm.
URL:https://baneslibraries.co.uk/event/housing-options-drop-in-47/
LOCATION:Library & Information Service\, High Street\, Midsomer Norton\, BA3 2DP\, Midsomer Norton\, BA3 2DP\, GB
CATEGORIES:Adult's Events,Events,Midsomer Norton Library,Partner Events,Support Services
ATTACH;FMTTYPE=image/png:https://baneslibraries.co.uk/wp-content/uploads/2025/09/56522_image.png
END:VEVENT
BEGIN:VEVENT
DTSTART;TZID=Europe/London:20260203T093000
DTEND;TZID=Europe/London:20260203T160000
DTSTAMP:20260425T025204
CREATED:20250923T134352Z
LAST-MODIFIED:20250923T134354Z
UID:57007-1770111000-1770134400@baneslibraries.co.uk
SUMMARY:DayStop Drop In
DESCRIPTION:Providing help\, support and advice with issues relating to housing\, benefits\, employment and training for any young people aged 16 – 25.
URL:https://baneslibraries.co.uk/event/daystop-drop-in-46/
LOCATION:Library & Information Service\, High Street\, Midsomer Norton\, BA3 2DP\, Midsomer Norton\, BA3 2DP\, GB
CATEGORIES:Adult's Events,Events,Midsomer Norton Library,Partner Events,Support Services,Young Adult's Events
ATTACH;FMTTYPE=image/png:https://baneslibraries.co.uk/wp-content/uploads/2025/09/56966_image.png
END:VEVENT
BEGIN:VEVENT
DTSTART;TZID=Europe/London:20260203T140000
DTEND;TZID=Europe/London:20260203T150000
DTSTAMP:20260425T025204
CREATED:20251218T095803Z
LAST-MODIFIED:20251218T095804Z
UID:63675-1770127200-1770130800@baneslibraries.co.uk
SUMMARY:The Page Turners
DESCRIPTION:Shared reading group for adults at Midsomer Norton Library.Join us for a shared reading group for adults. Come and enjoy listening to a variety of extracts from a range of reading material.
URL:https://baneslibraries.co.uk/event/the-page-turners-2/
LOCATION:Library & Information Service\, High Street\, Midsomer Norton\, BA3 2DP\, Midsomer Norton\, BA3 2DP\, GB
CATEGORIES:Adult's Events,Book Groups,Events,Library Events,Midsomer Norton Library
ATTACH;FMTTYPE=image/png:https://baneslibraries.co.uk/wp-content/uploads/2025/06/54363_image.png
END:VEVENT
END:VCALENDAR