BEGIN:VCALENDAR
VERSION:2.0
PRODID:-//BaNES Virtual Library - ECPv6.15.20//NONSGML v1.0//EN
CALSCALE:GREGORIAN
METHOD:PUBLISH
X-ORIGINAL-URL:https://baneslibraries.co.uk
X-WR-CALDESC:Events for BaNES Virtual Library
REFRESH-INTERVAL;VALUE=DURATION:PT1H
X-Robots-Tag:noindex
X-PUBLISHED-TTL:PT1H
BEGIN:VTIMEZONE
TZID:Europe/London
BEGIN:DAYLIGHT
TZOFFSETFROM:+0000
TZOFFSETTO:+0100
TZNAME:BST
DTSTART:20250330T010000
END:DAYLIGHT
BEGIN:STANDARD
TZOFFSETFROM:+0100
TZOFFSETTO:+0000
TZNAME:GMT
DTSTART:20251026T010000
END:STANDARD
BEGIN:DAYLIGHT
TZOFFSETFROM:+0000
TZOFFSETTO:+0100
TZNAME:BST
DTSTART:20260329T010000
END:DAYLIGHT
BEGIN:STANDARD
TZOFFSETFROM:+0100
TZOFFSETTO:+0000
TZNAME:GMT
DTSTART:20261025T010000
END:STANDARD
BEGIN:DAYLIGHT
TZOFFSETFROM:+0000
TZOFFSETTO:+0100
TZNAME:BST
DTSTART:20270328T010000
END:DAYLIGHT
BEGIN:STANDARD
TZOFFSETFROM:+0100
TZOFFSETTO:+0000
TZNAME:GMT
DTSTART:20271031T010000
END:STANDARD
END:VTIMEZONE
BEGIN:VEVENT
DTSTART;TZID=Europe/London:20260421T093000
DTEND;TZID=Europe/London:20260421T100000
DTSTAMP:20260421T171022
CREATED:20251014T150748Z
LAST-MODIFIED:20251014T150749Z
UID:61166-1776763800-1776765600@baneslibraries.co.uk
SUMMARY:Baby Bounce and Rhyme at Keynsham Library
DESCRIPTION:Join us for Baby Bounce and Rhyme at Keynsham Library!T﻿his is a drop in event. Sing along to your favourite songs and rhymes at Keynsham Library!  Free\, drop in event suitable for parents/carers with children aged 0 – 5 years. T﻿erm time only\, no booking required.
URL:https://baneslibraries.co.uk/event/baby-bounce-and-rhyme-at-keynsham-library-48/
LOCATION:Keynsham Library & Information Service\, Market Walk\, Keynsham\, BS31 1FS\, Keynsham\, BS31 1FS\, GB
CATEGORIES:Children's Events,Events,Keynsham Library,Library Events
ATTACH;FMTTYPE=image/png:https://baneslibraries.co.uk/wp-content/uploads/2025/10/61064_image.png
END:VEVENT
BEGIN:VEVENT
DTSTART;TZID=Europe/London:20260421T103000
DTEND;TZID=Europe/London:20260421T110000
DTSTAMP:20260421T171022
CREATED:20251014T094137Z
LAST-MODIFIED:20251014T094138Z
UID:60954-1776767400-1776769200@baneslibraries.co.uk
SUMMARY:Bath Central Library Storytime
DESCRIPTION:Join us for Storytime at Bath Central Library!T﻿his is a drop in event. Free\, drop in Storytime session at Bath Central Library.  Suitable for parents and carers with children aged 0 – 5 years. Term time only. No booking required.
URL:https://baneslibraries.co.uk/event/bath-central-library-storytime-29/
LOCATION:Bath Central Library\, 19-23 The Podium\, Bath\, BA1 5AN\, Bath\, BA1 5AN\, GB
CATEGORIES:Bath Central Library,Children's Events,Events,Library Events
ATTACH;FMTTYPE=image/png:https://baneslibraries.co.uk/wp-content/uploads/2025/10/60903_image.png
END:VEVENT
BEGIN:VEVENT
DTSTART;TZID=Europe/London:20260421T103000
DTEND;TZID=Europe/London:20260421T110000
DTSTAMP:20260421T171022
CREATED:20251014T150745Z
LAST-MODIFIED:20251014T150747Z
UID:61168-1776767400-1776769200@baneslibraries.co.uk
SUMMARY:Baby Bounce and Rhyme at Keynsham Library
DESCRIPTION:Join us for Baby Bounce and Rhyme at Keynsham Library!T﻿his is a drop in event. Sing along to your favourite songs and rhymes at Keynsham Library!  Free\, drop in event suitable for parents/carers with children aged 0 – 5 years. T﻿erm time only\, no booking required.
URL:https://baneslibraries.co.uk/event/baby-bounce-and-rhyme-at-keynsham-library-47/
LOCATION:Keynsham Library & Information Service\, Market Walk\, Keynsham\, BS31 1FS\, Keynsham\, BS31 1FS\, GB
CATEGORIES:Children's Events,Events,Keynsham Library,Library Events
ATTACH;FMTTYPE=image/png:https://baneslibraries.co.uk/wp-content/uploads/2025/10/61064_image.png
END:VEVENT
BEGIN:VEVENT
DTSTART;TZID=Europe/London:20260422T100000
DTEND;TZID=Europe/London:20260422T103000
DTSTAMP:20260421T171022
CREATED:20260218T174608Z
LAST-MODIFIED:20260218T174621Z
UID:66196-1776852000-1776853800@baneslibraries.co.uk
SUMMARY:Baby Bounce and Rhyme at Bath Central Library
DESCRIPTION:Join us for Baby Bounce and Rhyme at Bath Central Library!T﻿his is a drop in event. Free\, drop in Baby Bounce and Rhyme session at Bath Central Library.  Suitable for parents and carers with children aged 0 – 5 years. T﻿erm time only\, no booking required.
URL:https://baneslibraries.co.uk/event/baby-bounce-and-rhyme-at-bath-central-library-24/
LOCATION:Bath Central Library\, 19-23 The Podium\, Bath\, BA1 5AN\, Bath\, BA1 5AN\, GB
CATEGORIES:Bath Central Library,Children's Events,Events,Library Events
ATTACH;FMTTYPE=image/png:https://baneslibraries.co.uk/wp-content/uploads/2025/07/55479_image.png
END:VEVENT
BEGIN:VEVENT
DTSTART;TZID=Europe/London:20260422T103000
DTEND;TZID=Europe/London:20260422T110000
DTSTAMP:20260421T171022
CREATED:20251014T155519Z
LAST-MODIFIED:20251014T155520Z
UID:61444-1776853800-1776855600@baneslibraries.co.uk
SUMMARY:Storytime at Midsomer Norton Library
DESCRIPTION:Join us for Storytime at Midsomer Norton Library!T﻿his is a drop in event. Free\, drop in Storytime session at Midsomer Norton Library.  Suitable for parents and carers with children aged 0 – 5 years. T﻿erm time only. No booking required.
URL:https://baneslibraries.co.uk/event/storytime-at-midsomer-norton-library-22/
LOCATION:Midsomer Norton Library\, The Hollies\, High St\, Midsomer Norton\, BA3 2DT\, Midsomer Norton\, BA3 2DT\, GB
CATEGORIES:Children's Events,Events,Library Events,Midsomer Norton Library
ATTACH;FMTTYPE=image/png:https://baneslibraries.co.uk/wp-content/uploads/2025/10/61392_image.png
END:VEVENT
BEGIN:VEVENT
DTSTART;TZID=Europe/London:20260422T110000
DTEND;TZID=Europe/London:20260422T113000
DTSTAMP:20260421T171022
CREATED:20260218T174608Z
LAST-MODIFIED:20260218T174621Z
UID:66198-1776855600-1776857400@baneslibraries.co.uk
SUMMARY:Baby Bounce and Rhyme at Bath Central Library
DESCRIPTION:Join us for Baby Bounce and Rhyme at Bath Central Library!T﻿his is a drop in event. Free\, drop in Baby Bounce and Rhyme session at Bath Central Library.  Suitable for parents and carers with children aged 0 – 5 years. T﻿erm time only\, no booking required.
URL:https://baneslibraries.co.uk/event/baby-bounce-and-rhyme-at-bath-central-library-11/
LOCATION:Bath Central Library\, 19-23 The Podium\, Bath\, BA1 5AN\, Bath\, BA1 5AN\, GB
CATEGORIES:Bath Central Library,Children's Events,Events,Library Events
ATTACH;FMTTYPE=image/png:https://baneslibraries.co.uk/wp-content/uploads/2025/07/55479_image.png
END:VEVENT
BEGIN:VEVENT
DTSTART;TZID=Europe/London:20260423T100000
DTEND;TZID=Europe/London:20260423T120000
DTSTAMP:20260421T171022
CREATED:20260204T145915Z
LAST-MODIFIED:20260330T093010Z
UID:65197-1776938400-1776945600@baneslibraries.co.uk
SUMMARY:Knit Two\, Share One - Knitting and Crochet Group at Bath Central Library
DESCRIPTION:This social group welcomes all ages and abilities\, so come along to share your skills\, learn something new and meet new people.This is a drop in event. No need to book\, sessions are drop in! You’ll find a woolly welcome for all in this friendly group! You can bring along your current projects or join us in making welcome blankets for refugees! Find out more at: https://baneslibraries.co.uk/groups/knit-2-share-1
URL:https://baneslibraries.co.uk/event/knit-two-share-one-knitting-and-crochet-group-at-bath-central-library-17/
LOCATION:Bath Central Library\, 19-23 The Podium\, Bath\, BA1 5AN\, Bath\, BA1 5AN\, GB
CATEGORIES:Adult's Events,Bath Central Library,Children's Events,Craft Events,Events,Library Events,Young Adult's Events
ATTACH;FMTTYPE=image/png:https://baneslibraries.co.uk/wp-content/uploads/2025/10/60237_image.png
END:VEVENT
BEGIN:VEVENT
DTSTART;TZID=Europe/London:20260423T103000
DTEND;TZID=Europe/London:20260423T110000
DTSTAMP:20260421T171022
CREATED:20251014T162918Z
LAST-MODIFIED:20251014T162920Z
UID:61588-1776940200-1776942000@baneslibraries.co.uk
SUMMARY:Keynsham Storytime
DESCRIPTION:Join us for a Storytime session at Keynsham Library!This is a drop in event. Free\, drop in Storytime session at Keynsham Library. Suitable for parents and carers with children aged 0 – 5 years. Term time only. No booking required.
URL:https://baneslibraries.co.uk/event/keynsham-storytime-14/
LOCATION:Keynsham Library & Information Service\, Market Walk\, Keynsham\, BS31 1FS\, Keynsham\, BS31 1FS\, GB
CATEGORIES:Adult's Events,Children's Events,Events,Keynsham Library,Library Events
ATTACH;FMTTYPE=image/png:https://baneslibraries.co.uk/wp-content/uploads/2025/06/54582_image.png
END:VEVENT
BEGIN:VEVENT
DTSTART;TZID=Europe/London:20260423T133000
DTEND;TZID=Europe/London:20260423T143000
DTSTAMP:20260421T171022
CREATED:20260121T114657Z
LAST-MODIFIED:20260121T114659Z
UID:64862-1776951000-1776954600@baneslibraries.co.uk
SUMMARY:Book Buddies Home Education Group at Midsomer Norton Library
DESCRIPTION:Is your child home educated and aged between 7 – 14?\nWe’ve set up a home educated group in Midsomer Norton Library and we’d love you to comeThese are drop-in sessions\, no ticket required. We use lots of library resources including our Hublets\, books\, games and crafts to make the sessions fun and interactive with an emphasis on reading\, books and authors. Sessions are informal and relaxed and there are lots of opportunities to chat to other home educated families. Time: 1.30 – 2.30pm
URL:https://baneslibraries.co.uk/event/book-buddies-home-education-group-at-midsomer-norton-library-8/
LOCATION:Library & Information Service\, High Street\, Midsomer Norton\, BA3 2DP\, Midsomer Norton\, BA3 2DP\, GB
CATEGORIES:Book Groups,Children's Events,Events,Library Events,Midsomer Norton Library
ATTACH;FMTTYPE=image/png:https://baneslibraries.co.uk/wp-content/uploads/2026/01/64850_image.png
END:VEVENT
BEGIN:VEVENT
DTSTART;TZID=Europe/London:20260424T140000
DTEND;TZID=Europe/London:20260424T150000
DTSTAMP:20260421T171022
CREATED:20260420T141622Z
LAST-MODIFIED:20260420T141629Z
UID:69283-1777039200-1777042800@baneslibraries.co.uk
SUMMARY:Friendship Fridays at Midsomer Norton Library
DESCRIPTION:Drop-in to our relaxed social group for adults. Have a go at a wordsearch\, crossword or a board game over a cuppa and a chat.THIS IS A DROP-IN SOCIAL GROUP\, no tickets required. Drop-in to our relaxed social group for adults. Have a go at a wordsearch\, crossword or a board game over a cuppa and a chat. Every Friday 2 – 3pm.
URL:https://baneslibraries.co.uk/event/friendship-fridays-at-midsomer-norton-library-4/
LOCATION:Library & Information Service\, High Street\, Midsomer Norton\, BA3 2DP\, Midsomer Norton\, BA3 2DP\, GB
CATEGORIES:Adult's Events,Events,Keynsham Library,Library Events
ATTACH;FMTTYPE=image/png:https://baneslibraries.co.uk/wp-content/uploads/2025/06/54225_image.png
END:VEVENT
BEGIN:VEVENT
DTSTART;TZID=Europe/London:20260425T100000
DTEND;TZID=Europe/London:20260425T123000
DTSTAMP:20260421T171022
CREATED:20260217T173738Z
LAST-MODIFIED:20260217T173740Z
UID:65980-1777111200-1777120200@baneslibraries.co.uk
SUMMARY:Board Game Saturdays at Midsomer Norton Library
DESCRIPTION:Do you love to play boardgames? This is the perfect event for you!This is a drop in event. Fun for all the family! We have a great selection of boardgames\, suitable for all ages.
URL:https://baneslibraries.co.uk/event/board-game-saturdays-at-midsomer-norton-library-10/
LOCATION:Library & Information Service\, High Street\, Midsomer Norton\, BA3 2DP\, Midsomer Norton\, BA3 2DP\, GB
CATEGORIES:Adult's Events,Events,Library Events,Midsomer Norton Library,Young Adult's Events
ATTACH;FMTTYPE=image/png:https://baneslibraries.co.uk/wp-content/uploads/2026/02/65961_image.png
END:VEVENT
BEGIN:VEVENT
DTSTART;TZID=Europe/London:20260425T120000
DTEND;TZID=Europe/London:20260425T160000
DTSTAMP:20260421T171022
CREATED:20260217T161432Z
LAST-MODIFIED:20260217T162811Z
UID:65641-1777118400-1777132800@baneslibraries.co.uk
SUMMARY:Board Game Saturdays at Bath Central Library
DESCRIPTION:Do you love to play boardgames? This is the perfect event for you!T﻿his is a drop in event. J﻿oin us for an afternoon of fun for all the family! We have a great selection of boardgames\, suitable for all ages.
URL:https://baneslibraries.co.uk/event/board-game-saturdays-at-bath-central-library-5/
LOCATION:Bath Central Library\, 19-23 The Podium\, Bath\, BA1 5AN\, Bath\, BA1 5AN\, GB
CATEGORIES:Adult's Events,Bath Central Library,Children's Events,Events,Library Events,Young Adult's Events
ATTACH;FMTTYPE=image/png:https://baneslibraries.co.uk/wp-content/uploads/2026/02/65619_image.png
END:VEVENT
BEGIN:VEVENT
DTSTART;TZID=Europe/London:20260425T123000
DTEND;TZID=Europe/London:20260425T160000
DTSTAMP:20260421T171022
CREATED:20260217T170742Z
LAST-MODIFIED:20260217T170743Z
UID:65812-1777120200-1777132800@baneslibraries.co.uk
SUMMARY:Board Game Saturdays at Keynsham Library
DESCRIPTION:Do you love to play boardgames? This is the perfect event for you!T﻿his is a drop in event. J﻿oin us for an afternoon of fun for all the family! We have a great selection of boardgames\, suitable for all ages.
URL:https://baneslibraries.co.uk/event/board-game-saturdays-at-keynsham-library-6/
LOCATION:Keynsham Library & Information Service\, Market Walk\, Keynsham\, BS31 1FS\, Keynsham\, BS31 1FS\, GB
CATEGORIES:Adult's Events,Children's Events,Events,Keynsham Library,Library Events,Young Adult's Events
ATTACH;FMTTYPE=image/png:https://baneslibraries.co.uk/wp-content/uploads/2026/02/65793_image.png
END:VEVENT
BEGIN:VEVENT
DTSTART;TZID=Europe/London:20260425T140000
DTEND;TZID=Europe/London:20260425T153000
DTSTAMP:20260421T171022
CREATED:20260309T112145Z
LAST-MODIFIED:20260309T112147Z
UID:66617-1777125600-1777131000@baneslibraries.co.uk
SUMMARY:Words Alive in Libraries: Creative Writing Workshop with Nathan Filer
DESCRIPTION:In this workshop\, Nathan will lead participants through a series of writing exercises that draw on personal experience and narrative techniques. The emphasis is on craft rather than confession: building scenes\, choosing detail\, and shaping lived material into clear\, engaging prose. The session explores how writing from life can raise questions of meaning and wellbeing without reducing experience to simple messages or resolutions. Suitable for writers of all levels. \nNathan Filer is a former mental health nurse. His novel The Shock of the Fall won the Costa Book of the Year\, the Betty Trask Prize and the National Book Award for Popular Fiction. It was translated into thirty languages. His nonfiction book\, The Heartland: Finding and Losing Schizophrenia\, was a Sunday Times Book of the Year and was longlisted for the Rathbones Folio Prize. His other works include the ARIAS prize-winning podcast Why Do I Feel? He holds a PhD in creative writing from Bath Spa University\, where he also teaches and conducts research in mental health and creativity. \nThis event is part of the Words Alive in Libraries tour\, presented by South Western Regional Library Services and Literature Works\, and funded by Arts Council England. More ​tour events can be found here. \nClick here to book your place.
URL:https://baneslibraries.co.uk/event/words-alive-in-libraries-creative-writing-workshop-with-nathan-filer/
LOCATION:Bath Central Library\, 19-23 The Podium\, Bath\, BA1 5AN\, Bath\, BA1 5AN\, GB
CATEGORIES:Adult's Events,Bath Central Library,Events,Library Events,Young Adult's Events
ATTACH;FMTTYPE=image/png:https://baneslibraries.co.uk/wp-content/uploads/2026/03/TEMPLATE-FOR-EVENTBRITE-.png
END:VEVENT
BEGIN:VEVENT
DTSTART;TZID=Europe/London:20260425T163000
DTEND;TZID=Europe/London:20260425T173000
DTSTAMP:20260421T171022
CREATED:20260309T111401Z
LAST-MODIFIED:20260309T112231Z
UID:66621-1777134600-1777138200@baneslibraries.co.uk
SUMMARY:Words Alive in Libraries: Nathan Filer Author Talk
DESCRIPTION:Join us for a Meet the Author talk with Nathan Filer\, former mental health nurse\, award-winning novelist\, and creative writing lecturer. Nathan is the author of The Shock of the Fall and The Heartland: Finding and Losing Schizophrenia. His work explores mental health with insight\, compassion\, and creativity. \nNathan Filer is a former mental health nurse. His novel The Shock of the Fall won the Costa Book of the Year\, the Betty Trask Prize and the National Book Award for Popular Fiction. It was translated into thirty languages. His nonfiction book\, The Heartland: Finding and Losing Schizophrenia\, was a Sunday Times Book of the Year and was longlisted for the Rathbones Folio Prize. His other works include the ARIAS prize-winning podcast Why Do I Feel? He holds a PhD in creative writing from Bath Spa University\, where he also teaches and conducts research in mental health and creativity. \nThis event is part of the Words Alive in Libraries tour\, presented by South Western Regional Library Services and Literature Works\, and funded by Arts Council England. More ​tour events can be found here. \nClick here to book your place.
URL:https://baneslibraries.co.uk/event/words-alive-in-libraries-nathan-filer-author-talk/
LOCATION:Bath Central Library\, 19-23 The Podium\, Bath\, BA1 5AN\, Bath\, BA1 5AN\, GB
CATEGORIES:Adult's Events,Bath Central Library,Events,Library Events,Young Adult's Events
ATTACH;FMTTYPE=image/png:https://baneslibraries.co.uk/wp-content/uploads/2026/03/TEMPLATE-FOR-EVENTBRITE-1.png
END:VEVENT
BEGIN:VEVENT
DTSTART;TZID=Europe/London:20260427T110000
DTEND;TZID=Europe/London:20260427T113000
DTSTAMP:20260421T171022
CREATED:20251014T091710Z
LAST-MODIFIED:20251014T091712Z
UID:60795-1777287600-1777289400@baneslibraries.co.uk
SUMMARY:Baby Bounce and Rhyme at Midsomer Norton Library
DESCRIPTION:Join us for Baby Bounce and Rhyme at Midsomer Norton Library!T﻿his is a drop in event. Free\, drop in Baby Bounce and Rhyme Session at Midsomer Norton Library.  Suitable for parents and carers with children aged 0 – 5 years. T﻿erm time only\, no booking required.
URL:https://baneslibraries.co.uk/event/baby-bounce-and-rhyme-at-midsomer-norton-library-27/
LOCATION:Midsomer Norton Library\, The Hollies\, High St\, Midsomer Norton\, BA3 2DT\, Midsomer Norton\, BA3 2DT\, GB
CATEGORIES:Children's Events,Events,Library Events,Midsomer Norton Library
ATTACH;FMTTYPE=image/png:https://baneslibraries.co.uk/wp-content/uploads/2025/10/60742_image.png
END:VEVENT
BEGIN:VEVENT
DTSTART;TZID=Europe/London:20260428T093000
DTEND;TZID=Europe/London:20260428T100000
DTSTAMP:20260421T171022
CREATED:20251014T150709Z
LAST-MODIFIED:20251014T150735Z
UID:61170-1777368600-1777370400@baneslibraries.co.uk
SUMMARY:Baby Bounce and Rhyme at Keynsham Library
DESCRIPTION:Join us for Baby Bounce and Rhyme at Keynsham Library!T﻿his is a drop in event. Sing along to your favourite songs and rhymes at Keynsham Library!  Free\, drop in event suitable for parents/carers with children aged 0 – 5 years. T﻿erm time only\, no booking required.
URL:https://baneslibraries.co.uk/event/baby-bounce-and-rhyme-at-keynsham-library-46/
LOCATION:Keynsham Library & Information Service\, Market Walk\, Keynsham\, BS31 1FS\, Keynsham\, BS31 1FS\, GB
CATEGORIES:Children's Events,Events,Keynsham Library,Library Events
ATTACH;FMTTYPE=image/png:https://baneslibraries.co.uk/wp-content/uploads/2025/10/61064_image.png
END:VEVENT
BEGIN:VEVENT
DTSTART;TZID=Europe/London:20260428T103000
DTEND;TZID=Europe/London:20260428T110000
DTSTAMP:20260421T171022
CREATED:20251014T094134Z
LAST-MODIFIED:20251014T094136Z
UID:60956-1777372200-1777374000@baneslibraries.co.uk
SUMMARY:Bath Central Library Storytime
DESCRIPTION:Join us for Storytime at Bath Central Library!T﻿his is a drop in event. Free\, drop in Storytime session at Bath Central Library.  Suitable for parents and carers with children aged 0 – 5 years. Term time only. No booking required.
URL:https://baneslibraries.co.uk/event/bath-central-library-storytime-28/
LOCATION:Bath Central Library\, 19-23 The Podium\, Bath\, BA1 5AN\, Bath\, BA1 5AN\, GB
CATEGORIES:Bath Central Library,Children's Events,Events,Library Events
ATTACH;FMTTYPE=image/png:https://baneslibraries.co.uk/wp-content/uploads/2025/10/60903_image.png
END:VEVENT
BEGIN:VEVENT
DTSTART;TZID=Europe/London:20260428T103000
DTEND;TZID=Europe/London:20260428T110000
DTSTAMP:20260421T171022
CREATED:20251014T150812Z
LAST-MODIFIED:20251014T150814Z
UID:61172-1777372200-1777374000@baneslibraries.co.uk
SUMMARY:Baby Bounce and Rhyme at Keynsham Library
DESCRIPTION:Join us for Baby Bounce and Rhyme at Keynsham Library!T﻿his is a drop in event. Sing along to your favourite songs and rhymes at Keynsham Library!  Free\, drop in event suitable for parents/carers with children aged 0 – 5 years. T﻿erm time only\, no booking required.
URL:https://baneslibraries.co.uk/event/baby-bounce-and-rhyme-at-keynsham-library-57/
LOCATION:Keynsham Library & Information Service\, Market Walk\, Keynsham\, BS31 1FS\, Keynsham\, BS31 1FS\, GB
CATEGORIES:Children's Events,Events,Keynsham Library,Library Events
ATTACH;FMTTYPE=image/png:https://baneslibraries.co.uk/wp-content/uploads/2025/10/61064_image.png
END:VEVENT
BEGIN:VEVENT
DTSTART;TZID=Europe/London:20260428T140000
DTEND;TZID=Europe/London:20260428T150000
DTSTAMP:20260421T171022
CREATED:20260420T113033Z
LAST-MODIFIED:20260420T113034Z
UID:69173-1777384800-1777388400@baneslibraries.co.uk
SUMMARY:The Page Turners
DESCRIPTION:Shared reading group for adults at Midsomer Norton Library.Join us for a shared reading group for adults. Come and enjoy listening to a variety of extracts from a range of reading material.
URL:https://baneslibraries.co.uk/event/the-page-turners-46/
LOCATION:Library & Information Service\, High Street\, Midsomer Norton\, BA3 2DP\, Midsomer Norton\, BA3 2DP\, GB
CATEGORIES:Adult's Events,Book Groups,Events,Library Events,Midsomer Norton Library
ATTACH;FMTTYPE=image/png:https://baneslibraries.co.uk/wp-content/uploads/2025/06/54363_image.png
END:VEVENT
BEGIN:VEVENT
DTSTART;TZID=Europe/London:20260429T100000
DTEND;TZID=Europe/London:20260429T103000
DTSTAMP:20260421T171022
CREATED:20260218T174619Z
LAST-MODIFIED:20260218T174640Z
UID:66200-1777456800-1777458600@baneslibraries.co.uk
SUMMARY:Baby Bounce and Rhyme at Bath Central Library
DESCRIPTION:Join us for Baby Bounce and Rhyme at Bath Central Library!T﻿his is a drop in event. Free\, drop in Baby Bounce and Rhyme session at Bath Central Library.  Suitable for parents and carers with children aged 0 – 5 years. T﻿erm time only\, no booking required.
URL:https://baneslibraries.co.uk/event/baby-bounce-and-rhyme-at-bath-central-library-30/
LOCATION:Bath Central Library\, 19-23 The Podium\, Bath\, BA1 5AN\, Bath\, BA1 5AN\, GB
CATEGORIES:Bath Central Library,Children's Events,Events,Library Events
ATTACH;FMTTYPE=image/png:https://baneslibraries.co.uk/wp-content/uploads/2025/07/55479_image.png
END:VEVENT
BEGIN:VEVENT
DTSTART;TZID=Europe/London:20260429T103000
DTEND;TZID=Europe/London:20260429T110000
DTSTAMP:20260421T171022
CREATED:20251014T155517Z
LAST-MODIFIED:20251014T155518Z
UID:61446-1777458600-1777460400@baneslibraries.co.uk
SUMMARY:Storytime at Midsomer Norton Library
DESCRIPTION:Join us for Storytime at Midsomer Norton Library!T﻿his is a drop in event. Free\, drop in Storytime session at Midsomer Norton Library.  Suitable for parents and carers with children aged 0 – 5 years. T﻿erm time only. No booking required.
URL:https://baneslibraries.co.uk/event/storytime-at-midsomer-norton-library-21/
LOCATION:Midsomer Norton Library\, The Hollies\, High St\, Midsomer Norton\, BA3 2DT\, Midsomer Norton\, BA3 2DT\, GB
CATEGORIES:Children's Events,Events,Library Events,Midsomer Norton Library
ATTACH;FMTTYPE=image/png:https://baneslibraries.co.uk/wp-content/uploads/2025/10/61392_image.png
END:VEVENT
BEGIN:VEVENT
DTSTART;TZID=Europe/London:20260429T110000
DTEND;TZID=Europe/London:20260429T113000
DTSTAMP:20260421T171022
CREATED:20260218T174619Z
LAST-MODIFIED:20260218T174640Z
UID:66202-1777460400-1777462200@baneslibraries.co.uk
SUMMARY:Baby Bounce and Rhyme at Bath Central Library
DESCRIPTION:Join us for Baby Bounce and Rhyme at Bath Central Library!T﻿his is a drop in event. Free\, drop in Baby Bounce and Rhyme session at Bath Central Library.  Suitable for parents and carers with children aged 0 – 5 years. T﻿erm time only\, no booking required.
URL:https://baneslibraries.co.uk/event/baby-bounce-and-rhyme-at-bath-central-library-29/
LOCATION:Bath Central Library\, 19-23 The Podium\, Bath\, BA1 5AN\, Bath\, BA1 5AN\, GB
CATEGORIES:Bath Central Library,Children's Events,Events,Library Events
ATTACH;FMTTYPE=image/png:https://baneslibraries.co.uk/wp-content/uploads/2025/07/55479_image.png
END:VEVENT
BEGIN:VEVENT
DTSTART;TZID=Europe/London:20260430T100000
DTEND;TZID=Europe/London:20260430T120000
DTSTAMP:20260421T171022
CREATED:20260204T145926Z
LAST-MODIFIED:20260330T093012Z
UID:65199-1777543200-1777550400@baneslibraries.co.uk
SUMMARY:Knit Two\, Share One - Knitting and Crochet Group at Bath Central Library
DESCRIPTION:This social group welcomes all ages and abilities\, so come along to share your skills\, learn something new and meet new people.This is a drop in event. No need to book\, sessions are drop in! You’ll find a woolly welcome for all in this friendly group! You can bring along your current projects or join us in making welcome blankets for refugees! Find out more at: https://baneslibraries.co.uk/groups/knit-2-share-1
URL:https://baneslibraries.co.uk/event/knit-two-share-one-knitting-and-crochet-group-at-bath-central-library-21/
LOCATION:Bath Central Library\, 19-23 The Podium\, Bath\, BA1 5AN\, Bath\, BA1 5AN\, GB
CATEGORIES:Adult's Events,Bath Central Library,Children's Events,Craft Events,Events,Library Events,Young Adult's Events
ATTACH;FMTTYPE=image/png:https://baneslibraries.co.uk/wp-content/uploads/2025/10/60237_image.png
END:VEVENT
BEGIN:VEVENT
DTSTART;TZID=Europe/London:20260430T103000
DTEND;TZID=Europe/London:20260430T110000
DTSTAMP:20260421T171022
CREATED:20251014T162956Z
LAST-MODIFIED:20251014T162958Z
UID:61590-1777545000-1777546800@baneslibraries.co.uk
SUMMARY:Keynsham Storytime
DESCRIPTION:Join us for a Storytime session at Keynsham Library!This is a drop in event. Free\, drop in Storytime session at Keynsham Library. Suitable for parents and carers with children aged 0 – 5 years. Term time only. No booking required.
URL:https://baneslibraries.co.uk/event/keynsham-storytime-22/
LOCATION:Keynsham Library & Information Service\, Market Walk\, Keynsham\, BS31 1FS\, Keynsham\, BS31 1FS\, GB
CATEGORIES:Adult's Events,Children's Events,Events,Keynsham Library,Library Events
ATTACH;FMTTYPE=image/png:https://baneslibraries.co.uk/wp-content/uploads/2025/06/54582_image.png
END:VEVENT
BEGIN:VEVENT
DTSTART;TZID=Europe/London:20260430T180000
DTEND;TZID=Europe/London:20260430T190000
DTSTAMP:20260421T171022
CREATED:20250430T121421Z
LAST-MODIFIED:20260202T165230Z
UID:52584-1777572000-1777575600@baneslibraries.co.uk
SUMMARY:Bath Bloodhounds Book Group
DESCRIPTION:April Session: All The Colours of the Dark by Chris Whitaker\n \nB&NES Libraries completely free\, online only\, crime reading\, monthly book group!\n\n\nThis event needs to be booked & is held online. \nFrom old-fashioned detectives to modern-day mysteries\nJoin us on the last Thursday of every month at 6pm to discuss our chosen crime book. We’ll send out the link to the secure Teams room a few hours before each meet-up\, so you have plenty of time to make a cuppa and get comfy. \nWe have two wonderful volunteers\, but encourage all members of the group to suggest books and lead sessions. \nVolunteer Rachel Ward is the author of the popular Ant and Bea Mysteries set in Kingsleigh\, a town which bears a remarkable resemblance to Keynsham. Rachel also wrote the YA series Numbers and hosts a fortnightly book group on twitter using the hashtag #CosyCrimeClub. \nOur group is open to all LibrariesWest members. If you don’t yet have a library card\, you register HERE. \nThe group is aimed at adults\, but under 18s can join us if they are accompanied by a responsible adult. \nSign up for the July to June meet-ups. Places are limited\, so reserve your space now! \nYou only need to book one session to be signed up to all! \nIf you have any questions or suggestions feel free to contact us or visit: baneslibraries.co.uk/groups/bath-bloodhounds-book-group \n\n\nUpcoming Sessions\nTo find out about the next book we’re reading\, visit our Events Calendar \nWe decide on books to read 2-3 months in advance\, so you have plenty of time to get reading! We suggest you check if the books are in stock in your local Library in plenty of time\, so you can place a reservation if they’re on loan.
URL:https://baneslibraries.co.uk/event/bath-bloodhounds-book-group-4/
LOCATION:Online Event
CATEGORIES:Adult's Events,Book Groups,Events,Library Events,Online,Young Adult's Events
ATTACH;FMTTYPE=image/png:https://baneslibraries.co.uk/wp-content/uploads/2025/04/52560_image.png
END:VEVENT
END:VCALENDAR