BEGIN:VCALENDAR
VERSION:2.0
PRODID:-//BaNES Virtual Library - ECPv6.15.20//NONSGML v1.0//EN
CALSCALE:GREGORIAN
METHOD:PUBLISH
X-WR-CALNAME:BaNES Virtual Library
X-ORIGINAL-URL:https://baneslibraries.co.uk
X-WR-CALDESC:Events for BaNES Virtual Library
REFRESH-INTERVAL;VALUE=DURATION:PT1H
X-Robots-Tag:noindex
X-PUBLISHED-TTL:PT1H
BEGIN:VTIMEZONE
TZID:Europe/London
BEGIN:DAYLIGHT
TZOFFSETFROM:+0000
TZOFFSETTO:+0100
TZNAME:BST
DTSTART:20250330T010000
END:DAYLIGHT
BEGIN:STANDARD
TZOFFSETFROM:+0100
TZOFFSETTO:+0000
TZNAME:GMT
DTSTART:20251026T010000
END:STANDARD
BEGIN:DAYLIGHT
TZOFFSETFROM:+0000
TZOFFSETTO:+0100
TZNAME:BST
DTSTART:20260329T010000
END:DAYLIGHT
BEGIN:STANDARD
TZOFFSETFROM:+0100
TZOFFSETTO:+0000
TZNAME:GMT
DTSTART:20261025T010000
END:STANDARD
BEGIN:DAYLIGHT
TZOFFSETFROM:+0000
TZOFFSETTO:+0100
TZNAME:BST
DTSTART:20270328T010000
END:DAYLIGHT
BEGIN:STANDARD
TZOFFSETFROM:+0100
TZOFFSETTO:+0000
TZNAME:GMT
DTSTART:20271031T010000
END:STANDARD
END:VTIMEZONE
BEGIN:VEVENT
DTSTART;TZID=Europe/London:20260506T103000
DTEND;TZID=Europe/London:20260506T110000
DTSTAMP:20260425T205253
CREATED:20251014T155538Z
LAST-MODIFIED:20251014T155539Z
UID:61448-1778063400-1778065200@baneslibraries.co.uk
SUMMARY:Storytime at Midsomer Norton Library
DESCRIPTION:Join us for Storytime at Midsomer Norton Library!T﻿his is a drop in event. Free\, drop in Storytime session at Midsomer Norton Library.  Suitable for parents and carers with children aged 0 – 5 years. T﻿erm time only. No booking required.
URL:https://baneslibraries.co.uk/event/storytime-at-midsomer-norton-library-31/
LOCATION:Midsomer Norton Library\, The Hollies\, High St\, Midsomer Norton\, BA3 2DT\, Midsomer Norton\, BA3 2DT\, GB
CATEGORIES:Children's Events,Events,Library Events,Midsomer Norton Library
ATTACH;FMTTYPE=image/png:https://baneslibraries.co.uk/wp-content/uploads/2025/10/61392_image.png
END:VEVENT
BEGIN:VEVENT
DTSTART;TZID=Europe/London:20260506T140000
DTEND;TZID=Europe/London:20260506T150000
DTSTAMP:20260425T205253
CREATED:20260306T171517Z
LAST-MODIFIED:20260306T171520Z
UID:66571-1778076000-1778079600@baneslibraries.co.uk
SUMMARY:Reading Friends Poetry Group
DESCRIPTION:A new poetry group for adults at Bath Central Library.Curious about poetry but not sure where to start? This relaxed and welcoming group is perfect for beginners and poetry lovers alike. Come along to chat\, listen\, and share your favourite poems — or just enjoy the atmosphere. No experience needed\, just an open heart and a love for words!
URL:https://baneslibraries.co.uk/event/reading-friends-poetry-group-10/
LOCATION:Bath Central Library\, 19-23 The Podium\, Bath\, BA1 5AN\, Bath\, BA1 5AN\, GB
CATEGORIES:Adult's Events,Bath Central Library,Book Groups,Events,Library Events
ATTACH;FMTTYPE=image/png:https://baneslibraries.co.uk/wp-content/uploads/2025/10/60224_image.png
END:VEVENT
BEGIN:VEVENT
DTSTART;TZID=Europe/London:20260506T160000
DTEND;TZID=Europe/London:20260506T170000
DTSTAMP:20260425T205253
CREATED:20251125T165008Z
LAST-MODIFIED:20251125T165009Z
UID:62973-1778083200-1778086800@baneslibraries.co.uk
SUMMARY:SASS Community Choir 2025 - 2026
DESCRIPTION:For all autistic young people and their families in B&NESMusic provides a unique way to connect with others with singing having many health and wellbeing benefits\, so join us to enjoy some singing together within a fun\, friendly and supportive environment. For more information or to book a place please email sass@fossewayschool.com or call 01761 412198. Drop ins welcome on the day.
URL:https://baneslibraries.co.uk/event/sass-community-choir-2025-2026/
LOCATION:Midsomer Norton Library\, The Hollies\, High St\, Midsomer Norton\, BA3 2DT\, Midsomer Norton\, BA3 2DT\, GB
CATEGORIES:Adult's Events,Children's Events,Library Events,Midsomer Norton Library,Partner Events,Support Services,Young Adult's Events
ATTACH;FMTTYPE=image/png:https://baneslibraries.co.uk/wp-content/uploads/2025/11/62946_image.png
END:VEVENT
END:VCALENDAR