BEGIN:VCALENDAR
VERSION:2.0
PRODID:-//BaNES Virtual Library - ECPv6.15.20//NONSGML v1.0//EN
CALSCALE:GREGORIAN
METHOD:PUBLISH
X-ORIGINAL-URL:https://baneslibraries.co.uk
X-WR-CALDESC:Events for BaNES Virtual Library
REFRESH-INTERVAL;VALUE=DURATION:PT1H
X-Robots-Tag:noindex
X-PUBLISHED-TTL:PT1H
BEGIN:VTIMEZONE
TZID:Europe/London
BEGIN:DAYLIGHT
TZOFFSETFROM:+0000
TZOFFSETTO:+0100
TZNAME:BST
DTSTART:20250330T010000
END:DAYLIGHT
BEGIN:STANDARD
TZOFFSETFROM:+0100
TZOFFSETTO:+0000
TZNAME:GMT
DTSTART:20251026T010000
END:STANDARD
BEGIN:DAYLIGHT
TZOFFSETFROM:+0000
TZOFFSETTO:+0100
TZNAME:BST
DTSTART:20260329T010000
END:DAYLIGHT
BEGIN:STANDARD
TZOFFSETFROM:+0100
TZOFFSETTO:+0000
TZNAME:GMT
DTSTART:20261025T010000
END:STANDARD
BEGIN:DAYLIGHT
TZOFFSETFROM:+0000
TZOFFSETTO:+0100
TZNAME:BST
DTSTART:20270328T010000
END:DAYLIGHT
BEGIN:STANDARD
TZOFFSETFROM:+0100
TZOFFSETTO:+0000
TZNAME:GMT
DTSTART:20271031T010000
END:STANDARD
END:VTIMEZONE
BEGIN:VEVENT
DTSTART;TZID=Europe/London:20260402T100000
DTEND;TZID=Europe/London:20260402T110000
DTSTAMP:20260423T170858
CREATED:20260311T104049Z
LAST-MODIFIED:20260312T103044Z
UID:66894-1775124000-1775127600@baneslibraries.co.uk
SUMMARY:Relaxed Storytime in the Sensory Space
DESCRIPTION:Relaxed Storytime for children with autism or sensory needs in Bath Central Library’s calming Sensory Space.\n\n\nStorytime in Bath Central Library’s calming Sensory Space\, designed for young children who are autistic\, have sensory needs\, or would simply benefit from a quieter environment. Join us for stories and explore special resources like Story Sacks\, which help spark interest in books. \nBooking is required- one ticket per adult and child\, but the session is fully flexible – families are welcome to come and go whenever they need. As spaces are limited (one ticket per adult and child)\, please cancel your booking if you can no longer attend so others can join. \nFamilies where the parent/carer have their own sensory needs and would also benefit from the quieter environment are welcome with their young children. \nSendias Bathnes will be in the library 9.30-12 – pop along to find out more about their service and how they can support your family.   \nNew to the Sensory Space and Library? Check out our video and picture guides on the Access for All webpage\, where you’ll also find details about our inclusive resources.
URL:https://baneslibraries.co.uk/event/relaxed-storytime-in-the-sensory-space-2/
LOCATION:Bath Central Library\, 19-23 The Podium\, Bath\, BA1 5AN\, Bath\, BA1 5AN\, GB
CATEGORIES:Bath Central Library,Children's Events,Events,Library Events
ATTACH;FMTTYPE=image/png:https://baneslibraries.co.uk/wp-content/uploads/2025/12/64105_image.png
END:VEVENT
BEGIN:VEVENT
DTSTART;TZID=Europe/London:20260402T100000
DTEND;TZID=Europe/London:20260402T120000
DTSTAMP:20260423T170858
CREATED:20260204T145913Z
LAST-MODIFIED:20260330T092958Z
UID:65187-1775124000-1775131200@baneslibraries.co.uk
SUMMARY:Knit Two\, Share One - Knitting and Crochet Group at Bath Central Library
DESCRIPTION:This social group welcomes all ages and abilities\, so come along to share your skills\, learn something new and meet new people.This is a drop in event. No need to book\, sessions are drop in! You’ll find a woolly welcome for all in this friendly group! You can bring along your current projects or join us in making welcome blankets for refugees! Find out more at: https://baneslibraries.co.uk/groups/knit-2-share-1
URL:https://baneslibraries.co.uk/event/knit-two-share-one-knitting-and-crochet-group-at-bath-central-library-16/
LOCATION:Bath Central Library\, 19-23 The Podium\, Bath\, BA1 5AN\, Bath\, BA1 5AN\, GB
CATEGORIES:Adult's Events,Bath Central Library,Children's Events,Craft Events,Events,Library Events,Young Adult's Events
ATTACH;FMTTYPE=image/png:https://baneslibraries.co.uk/wp-content/uploads/2025/10/60237_image.png
END:VEVENT
BEGIN:VEVENT
DTSTART;TZID=Europe/London:20260402T103000
DTEND;TZID=Europe/London:20260402T110000
DTSTAMP:20260423T170858
CREATED:20260109T161422Z
LAST-MODIFIED:20260130T153230Z
UID:64485-1775125800-1775127600@baneslibraries.co.uk
SUMMARY:BookTrust Storytimes
DESCRIPTION:Join us for BookTrust Storytimes at Keynsham Library!\n\n\nT his is a drop in event. Come to one week or all. \nFree\, drop in Storytime session at Keynsham Library. Over five weeks we will read a different BookTrust selected story\, voting for our favourite. The final sixth week will recap favourites or missed stories. \nCome and vote for your favourite book with different crafts and play activities each week! \nSuitable for parents and carers with children aged 0 – 5 years. \nTerm time only. No booking required.
URL:https://baneslibraries.co.uk/event/booktrust-storytimes-5/
LOCATION:Keynsham Library & Information Service\, Market Walk\, Keynsham\, BS31 1FS\, Keynsham\, BS31 1FS\, GB
CATEGORIES:Children's Events,Events,Keynsham Library,Library Events
ATTACH;FMTTYPE=image/png:https://baneslibraries.co.uk/wp-content/uploads/2026/01/64474_image.png
END:VEVENT
END:VCALENDAR