BEGIN:VCALENDAR
VERSION:2.0
PRODID:-//BaNES Virtual Library - ECPv6.15.20//NONSGML v1.0//EN
CALSCALE:GREGORIAN
METHOD:PUBLISH
X-WR-CALNAME:BaNES Virtual Library
X-ORIGINAL-URL:https://baneslibraries.co.uk
X-WR-CALDESC:Events for BaNES Virtual Library
REFRESH-INTERVAL;VALUE=DURATION:PT1H
X-Robots-Tag:noindex
X-PUBLISHED-TTL:PT1H
BEGIN:VTIMEZONE
TZID:Europe/London
BEGIN:DAYLIGHT
TZOFFSETFROM:+0000
TZOFFSETTO:+0100
TZNAME:BST
DTSTART:20250330T010000
END:DAYLIGHT
BEGIN:STANDARD
TZOFFSETFROM:+0100
TZOFFSETTO:+0000
TZNAME:GMT
DTSTART:20251026T010000
END:STANDARD
BEGIN:DAYLIGHT
TZOFFSETFROM:+0000
TZOFFSETTO:+0100
TZNAME:BST
DTSTART:20260329T010000
END:DAYLIGHT
BEGIN:STANDARD
TZOFFSETFROM:+0100
TZOFFSETTO:+0000
TZNAME:GMT
DTSTART:20261025T010000
END:STANDARD
BEGIN:DAYLIGHT
TZOFFSETFROM:+0000
TZOFFSETTO:+0100
TZNAME:BST
DTSTART:20270328T010000
END:DAYLIGHT
BEGIN:STANDARD
TZOFFSETFROM:+0100
TZOFFSETTO:+0000
TZNAME:GMT
DTSTART:20271031T010000
END:STANDARD
END:VTIMEZONE
BEGIN:VEVENT
DTSTART;TZID=Europe/London:20260226T103000
DTEND;TZID=Europe/London:20260226T110000
DTSTAMP:20260423T182357
CREATED:20260109T161417Z
LAST-MODIFIED:20260130T153206Z
UID:64474-1772101800-1772103600@baneslibraries.co.uk
SUMMARY:BookTrust Storytimes
DESCRIPTION:Join us for BookTrust Storytimes at Keynsham Library!\n\n\nT his is a drop in event. Come to one week or all. \nFree\, drop in Storytime session at Keynsham Library. Over five weeks we will read a different BookTrust selected story\, voting for our favourite. The final sixth week will recap favourites or missed stories. \nCome and vote for your favourite book with different crafts and play activities each week! \nSuitable for parents and carers with children aged 0 – 5 years. \nTerm time only. No booking required.
URL:https://baneslibraries.co.uk/event/booktrust-storytimes-4/
LOCATION:Keynsham Library & Information Service\, Market Walk\, Keynsham\, BS31 1FS\, Keynsham\, BS31 1FS\, GB
CATEGORIES:Children's Events,Events,Keynsham Library,Library Events
ATTACH;FMTTYPE=image/png:https://baneslibraries.co.uk/wp-content/uploads/2026/01/64474_image.png
END:VEVENT
BEGIN:VEVENT
DTSTART;TZID=Europe/London:20260226T133000
DTEND;TZID=Europe/London:20260226T143000
DTSTAMP:20260423T182357
CREATED:20260121T114642Z
LAST-MODIFIED:20260121T114643Z
UID:64856-1772112600-1772116200@baneslibraries.co.uk
SUMMARY:Book Buddies Home Education Group at Midsomer Norton Library
DESCRIPTION:Is your child home educated and aged between 7 – 14?\nWe’ve set up a home educated group in Midsomer Norton Library and we’d love you to comeThese are drop-in sessions\, no ticket required. We use lots of library resources including our Hublets\, books\, games and crafts to make the sessions fun and interactive with an emphasis on reading\, books and authors. Sessions are informal and relaxed and there are lots of opportunities to chat to other home educated families. Time: 1.30 – 2.30pm
URL:https://baneslibraries.co.uk/event/book-buddies-home-education-group-at-midsomer-norton-library/
LOCATION:Library & Information Service\, High Street\, Midsomer Norton\, BA3 2DP\, Midsomer Norton\, BA3 2DP\, GB
CATEGORIES:Book Groups,Children's Events,Events,Library Events,Midsomer Norton Library
ATTACH;FMTTYPE=image/png:https://baneslibraries.co.uk/wp-content/uploads/2026/01/64850_image.png
END:VEVENT
BEGIN:VEVENT
DTSTART;TZID=Europe/London:20260226T180000
DTEND;TZID=Europe/London:20260226T190000
DTSTAMP:20260423T182357
CREATED:20250430T121422Z
LAST-MODIFIED:20251219T162513Z
UID:52580-1772128800-1772132400@baneslibraries.co.uk
SUMMARY:Bath Bloodhounds Book Group
DESCRIPTION:February Session: Three Hours by Rosamund Lupton\n \nB&NES Libraries completely free\, online only\, crime reading\, monthly book group!\n\n\nThis event needs to be booked & is held online. \nFrom old-fashioned detectives to modern-day mysteries\nJoin us on the last Thursday of every month at 6pm to discuss our chosen crime book. We’ll send out the link to the secure Teams room a few hours before each meet-up\, so you have plenty of time to make a cuppa and get comfy. \nWe have two wonderful volunteers\, but encourage all members of the group to suggest books and lead sessions. \nVolunteer Rachel Ward is the author of the popular Ant and Bea Mysteries set in Kingsleigh\, a town which bears a remarkable resemblance to Keynsham. Rachel also wrote the YA series Numbers and hosts a fortnightly book group on twitter using the hashtag #CosyCrimeClub. \nOur group is open to all LibrariesWest members. If you don’t yet have a library card\, you register HERE. \nThe group is aimed at adults\, but under 18s can join us if they are accompanied by a responsible adult. \nSign up for the July to June meet-ups. Places are limited\, so reserve your space now! \nYou only need to book one session to be signed up to all! \nIf you have any questions or suggestions feel free to contact us or visit: baneslibraries.co.uk/groups/bath-bloodhounds-book-group \n\n\nUpcoming Sessions\nTo find out about the next book we’re reading\, visit our Events Calendar \nWe decide on books to read 2-3 months in advance\, so you have plenty of time to get reading! We suggest you check if the books are in stock in your local Library in plenty of time\, so you can place a reservation if they’re on loan.
URL:https://baneslibraries.co.uk/event/bath-bloodhounds-book-group-6/
LOCATION:Online Event
CATEGORIES:Adult's Events,Book Groups,Events,Library Events,Online,Young Adult's Events
ATTACH;FMTTYPE=image/png:https://baneslibraries.co.uk/wp-content/uploads/2025/04/52560_image.png
END:VEVENT
END:VCALENDAR