BEGIN:VCALENDAR
VERSION:2.0
PRODID:-//BaNES Virtual Library - ECPv6.15.20//NONSGML v1.0//EN
CALSCALE:GREGORIAN
METHOD:PUBLISH
X-ORIGINAL-URL:https://baneslibraries.co.uk
X-WR-CALDESC:Events for BaNES Virtual Library
REFRESH-INTERVAL;VALUE=DURATION:PT1H
X-Robots-Tag:noindex
X-PUBLISHED-TTL:PT1H
BEGIN:VTIMEZONE
TZID:Europe/London
BEGIN:DAYLIGHT
TZOFFSETFROM:+0000
TZOFFSETTO:+0100
TZNAME:BST
DTSTART:20250330T010000
END:DAYLIGHT
BEGIN:STANDARD
TZOFFSETFROM:+0100
TZOFFSETTO:+0000
TZNAME:GMT
DTSTART:20251026T010000
END:STANDARD
BEGIN:DAYLIGHT
TZOFFSETFROM:+0000
TZOFFSETTO:+0100
TZNAME:BST
DTSTART:20260329T010000
END:DAYLIGHT
BEGIN:STANDARD
TZOFFSETFROM:+0100
TZOFFSETTO:+0000
TZNAME:GMT
DTSTART:20261025T010000
END:STANDARD
BEGIN:DAYLIGHT
TZOFFSETFROM:+0000
TZOFFSETTO:+0100
TZNAME:BST
DTSTART:20270328T010000
END:DAYLIGHT
BEGIN:STANDARD
TZOFFSETFROM:+0100
TZOFFSETTO:+0000
TZNAME:GMT
DTSTART:20271031T010000
END:STANDARD
END:VTIMEZONE
BEGIN:VEVENT
DTSTART;TZID=Europe/London:20260618T130000
DTEND;TZID=Europe/London:20260618T163000
DTSTAMP:20260425T131721
CREATED:20250923T160944Z
LAST-MODIFIED:20250923T160956Z
UID:58025-1781787600-1781800200@baneslibraries.co.uk
SUMMARY:Everyone Health - Stop Smoking Clinic
DESCRIPTION:Want to quit smoking? It doesn’t have to be a dragYour local Bath & North East Somerset Stop Smoking service offers FREE support to local people who are thinking of and wanting to take positive steps towards stopping smoking. No matter how long you’ve smoked\, quitting benefits your health right away. In just a few days\, your sense of taste and smell will get better. Your lungs will start to clear\, so breathing feels easier. You’ll also keep your loved ones safe from second-hand smoke and save money.  Find out more: https://banes.everyonehealth.co.uk/services/stop-smoking-service/
URL:https://baneslibraries.co.uk/event/everyone-health-stop-smoking-clinic-41/
LOCATION:Keynsham Library & Information Service\, Market Walk\, Keynsham\, BS31 1FS\, Keynsham\, BS31 1FS\, GB
CATEGORIES:Adult's Events,Events,Keynsham Library,Partner Events,Support Services
ATTACH;FMTTYPE=image/png:https://baneslibraries.co.uk/wp-content/uploads/2025/06/54646_image.png
END:VEVENT
BEGIN:VEVENT
DTSTART;TZID=Europe/London:20260618T140000
DTEND;TZID=Europe/London:20260618T160000
DTSTAMP:20260425T131721
CREATED:20250923T152341Z
LAST-MODIFIED:20250923T152347Z
UID:57643-1781791200-1781798400@baneslibraries.co.uk
SUMMARY:Lace Making Group
DESCRIPTION:Drop in group for all ages.
URL:https://baneslibraries.co.uk/event/lace-making-group-38/
LOCATION:Keynsham Library & Information Service\, Market Walk\, Keynsham\, BS31 1FS\, Keynsham\, BS31 1FS\, GB
CATEGORIES:Adult's Events,Events,Keynsham Library,Partner Events
ATTACH;FMTTYPE=image/png:https://baneslibraries.co.uk/wp-content/uploads/2025/09/57567_image.png
END:VEVENT
BEGIN:VEVENT
DTSTART;TZID=Europe/London:20260619T140000
DTEND;TZID=Europe/London:20260619T150000
DTSTAMP:20260425T131721
CREATED:20260420T141728Z
LAST-MODIFIED:20260420T141731Z
UID:69300-1781877600-1781881200@baneslibraries.co.uk
SUMMARY:Friendship Fridays at Midsomer Norton Library
DESCRIPTION:Drop-in to our relaxed social group for adults. Have a go at a wordsearch\, crossword or a board game over a cuppa and a chat.THIS IS A DROP-IN SOCIAL GROUP\, no tickets required. Drop-in to our relaxed social group for adults. Have a go at a wordsearch\, crossword or a board game over a cuppa and a chat. Every Friday 2 – 3pm.
URL:https://baneslibraries.co.uk/event/friendship-fridays-at-midsomer-norton-library-9/
LOCATION:Library & Information Service\, High Street\, Midsomer Norton\, BA3 2DP\, Midsomer Norton\, BA3 2DP\, GB
CATEGORIES:Adult's Events,Events,Keynsham Library,Library Events
ATTACH;FMTTYPE=image/png:https://baneslibraries.co.uk/wp-content/uploads/2025/06/54225_image.png
END:VEVENT
BEGIN:VEVENT
DTSTART;TZID=Europe/London:20260619T140000
DTEND;TZID=Europe/London:20260619T160000
DTSTAMP:20260425T131721
CREATED:20260204T152222Z
LAST-MODIFIED:20260204T152224Z
UID:65353-1781877600-1781884800@baneslibraries.co.uk
SUMMARY:Sight Support West Drop In
DESCRIPTION:Worried about your vision? Get support with your sight.Visit the Sight Support website or call 01225 477277 and choose Option 2.  Appointments 1.00pm – 2.00pm & 3.00pm – 4.00pm Drop in for advice 2.00pm – 3.00pm Social group 2.00pm – 4.00pm
URL:https://baneslibraries.co.uk/event/sight-support-west-drop-in-6/
LOCATION:Keynsham Library & Information Service\, Market Walk\, Keynsham\, BS31 1FS\, Keynsham\, BS31 1FS\, GB
CATEGORIES:Adult's Events,Events,Keynsham Library,Partner Events,Support Services
ATTACH;FMTTYPE=image/png:https://baneslibraries.co.uk/wp-content/uploads/2026/02/65344_image.png
END:VEVENT
BEGIN:VEVENT
DTSTART;TZID=Europe/London:20260620T123000
DTEND;TZID=Europe/London:20260620T160000
DTSTAMP:20260425T131721
CREATED:20260217T170820Z
LAST-MODIFIED:20260217T170822Z
UID:65829-1781958600-1781971200@baneslibraries.co.uk
SUMMARY:Board Game Saturdays at Keynsham Library
DESCRIPTION:Do you love to play boardgames? This is the perfect event for you!T﻿his is a drop in event. J﻿oin us for an afternoon of fun for all the family! We have a great selection of boardgames\, suitable for all ages.
URL:https://baneslibraries.co.uk/event/board-game-saturdays-at-keynsham-library-20/
LOCATION:Keynsham Library & Information Service\, Market Walk\, Keynsham\, BS31 1FS\, Keynsham\, BS31 1FS\, GB
CATEGORIES:Adult's Events,Children's Events,Events,Keynsham Library,Library Events,Young Adult's Events
ATTACH;FMTTYPE=image/png:https://baneslibraries.co.uk/wp-content/uploads/2026/02/65793_image.png
END:VEVENT
BEGIN:VEVENT
DTSTART;TZID=Europe/London:20260622T093000
DTEND;TZID=Europe/London:20260622T130000
DTSTAMP:20260425T131721
CREATED:20251016T142942Z
LAST-MODIFIED:20251016T142944Z
UID:61772-1782120600-1782133200@baneslibraries.co.uk
SUMMARY:Citizens Advice Drop In
DESCRIPTION:Help with money\, legal\, and consumer problems.
URL:https://baneslibraries.co.uk/event/citizens-advice-drop-in-90/
LOCATION:Keynsham Library & Information Service\, Market Walk\, Keynsham\, BS31 1FS\, Keynsham\, BS31 1FS\, GB
CATEGORIES:Adult's Events,Events,Keynsham Library,Partner Events,Support Services
ATTACH;FMTTYPE=image/png:https://baneslibraries.co.uk/wp-content/uploads/2025/10/61700_image.png
END:VEVENT
BEGIN:VEVENT
DTSTART;TZID=Europe/London:20260622T093000
DTEND;TZID=Europe/London:20260622T163000
DTSTAMP:20260425T131721
CREATED:20251017T102509Z
LAST-MODIFIED:20260414T153854Z
UID:62062-1782120600-1782145800@baneslibraries.co.uk
SUMMARY:Reach Housing Advice and Support Service Drop In
DESCRIPTION:Support\, information and advice if you are having difficulty with your accommodation
URL:https://baneslibraries.co.uk/event/reach-housing-advice-and-support-service-drop-in-89/
LOCATION:Keynsham Library & Information Service\, Market Walk\, Keynsham\, BS31 1FS\, Keynsham\, BS31 1FS\, GB
CATEGORIES:Adult's Events,Events,Keynsham Library,Partner Events,Support Services
ATTACH;FMTTYPE=image/png:https://baneslibraries.co.uk/wp-content/uploads/2025/10/61996_image.png
END:VEVENT
BEGIN:VEVENT
DTSTART;TZID=Europe/London:20260623T093000
DTEND;TZID=Europe/London:20260623T100000
DTSTAMP:20260425T131721
CREATED:20251014T150829Z
LAST-MODIFIED:20251014T150831Z
UID:61203-1782207000-1782208800@baneslibraries.co.uk
SUMMARY:Baby Bounce and Rhyme at Keynsham Library
DESCRIPTION:Join us for Baby Bounce and Rhyme at Keynsham Library!T﻿his is a drop in event. Sing along to your favourite songs and rhymes at Keynsham Library!  Free\, drop in event suitable for parents/carers with children aged 0 – 5 years. T﻿erm time only\, no booking required.
URL:https://baneslibraries.co.uk/event/baby-bounce-and-rhyme-at-keynsham-library-64/
LOCATION:Keynsham Library & Information Service\, Market Walk\, Keynsham\, BS31 1FS\, Keynsham\, BS31 1FS\, GB
CATEGORIES:Children's Events,Events,Keynsham Library,Library Events
ATTACH;FMTTYPE=image/png:https://baneslibraries.co.uk/wp-content/uploads/2025/10/61064_image.png
END:VEVENT
BEGIN:VEVENT
DTSTART;TZID=Europe/London:20260623T103000
DTEND;TZID=Europe/London:20260623T110000
DTSTAMP:20260425T131721
CREATED:20251014T150846Z
LAST-MODIFIED:20251014T150848Z
UID:61205-1782210600-1782212400@baneslibraries.co.uk
SUMMARY:Baby Bounce and Rhyme at Keynsham Library
DESCRIPTION:Join us for Baby Bounce and Rhyme at Keynsham Library!T﻿his is a drop in event. Sing along to your favourite songs and rhymes at Keynsham Library!  Free\, drop in event suitable for parents/carers with children aged 0 – 5 years. T﻿erm time only\, no booking required.
URL:https://baneslibraries.co.uk/event/baby-bounce-and-rhyme-at-keynsham-library-72/
LOCATION:Keynsham Library & Information Service\, Market Walk\, Keynsham\, BS31 1FS\, Keynsham\, BS31 1FS\, GB
CATEGORIES:Children's Events,Events,Keynsham Library,Library Events
ATTACH;FMTTYPE=image/png:https://baneslibraries.co.uk/wp-content/uploads/2025/10/61064_image.png
END:VEVENT
BEGIN:VEVENT
DTSTART;TZID=Europe/London:20260624T100000
DTEND;TZID=Europe/London:20260624T130000
DTSTAMP:20260425T131721
CREATED:20260106T115749Z
LAST-MODIFIED:20260106T115753Z
UID:64320-1782295200-1782306000@baneslibraries.co.uk
SUMMARY:Freeways Floating Support Service Drop In
DESCRIPTION:Do you have a learning Disability or are you over 18 years of age and have Neuro-Divergence?We can provide FREE support with the following: •	Applying for grants or welfare support •	Support with finding new accommodation •	Contacting Homesearch to help with your account •	Tenancy support with your landlord or reporting repairs •	Budgeting advice •	Paying for your rent or bills •	Managing any bills or letters •	Contacting utility companies for your water\, gas or electric •	Support with dealing with debts •	Claiming housing or council tax benefits •	PIP and other benefit applications 	 Please come along to the free drop in and our friendly staff can offer information and support. No need to book an appointment.  Email info@freeways.org.ukCall 01225 830416Text 07879423791
URL:https://baneslibraries.co.uk/event/freeways-floating-support-service-drop-in-8/
LOCATION:Keynsham Library & Information Service\, Market Walk\, Keynsham\, BS31 1FS\, Keynsham\, BS31 1FS\, GB
CATEGORIES:Events,Keynsham Library,Partner Events,Support Services,Young Adult's Events
ATTACH;FMTTYPE=image/png:https://baneslibraries.co.uk/wp-content/uploads/2026/01/64308_image.png
END:VEVENT
BEGIN:VEVENT
DTSTART;TZID=Europe/London:20260625T090000
DTEND;TZID=Europe/London:20260625T163000
DTSTAMP:20260425T131721
CREATED:20250923T154751Z
LAST-MODIFIED:20250923T154759Z
UID:57839-1782378000-1782405000@baneslibraries.co.uk
SUMMARY:Private Rented Advice Drop In
DESCRIPTION:Are you looking for a private rented home?Our Private Rented Officer will be available to offer guidance on how to find a home in the private rented sector\, including advice on relationship building with landlords and letting agents. Contact 01225 396296.  Closed 12.30 – 1.30pm.
URL:https://baneslibraries.co.uk/event/private-rented-advice-drop-in-37/
LOCATION:Keynsham Library & Information Service\, Market Walk\, Keynsham\, BS31 1FS\, Keynsham\, BS31 1FS\, GB
CATEGORIES:Adult's Events,Events,Keynsham Library,Partner Events,Support Services
ATTACH;FMTTYPE=image/png:https://baneslibraries.co.uk/wp-content/uploads/2025/09/57760_image.png
END:VEVENT
BEGIN:VEVENT
DTSTART;TZID=Europe/London:20260625T093000
DTEND;TZID=Europe/London:20260625T123000
DTSTAMP:20260425T131721
CREATED:20250917T152743Z
LAST-MODIFIED:20260402T085453Z
UID:56340-1782379800-1782390600@baneslibraries.co.uk
SUMMARY:HomeSearch Drop In
DESCRIPTION:Homesearch is the register for social rent homes and low cost home ownership in Bath & North East Somerset.\n\n\nFind out more at: homesearchbathnes.org.uk
URL:https://baneslibraries.co.uk/event/homesearch-drop-in-43/
LOCATION:Keynsham Library & Information Service\, Market Walk\, Keynsham\, BS31 1FS\, Keynsham\, BS31 1FS\, GB
CATEGORIES:Adult's Events,Events,Keynsham Library,Partner Events,Support Services
ATTACH;FMTTYPE=image/png:https://baneslibraries.co.uk/wp-content/uploads/2025/09/56263_image.png
END:VEVENT
BEGIN:VEVENT
DTSTART;TZID=Europe/London:20260625T103000
DTEND;TZID=Europe/London:20260625T110000
DTSTAMP:20260425T131721
CREATED:20251014T162958Z
LAST-MODIFIED:20251014T163000Z
UID:61606-1782383400-1782385200@baneslibraries.co.uk
SUMMARY:Keynsham Storytime
DESCRIPTION:Join us for a Storytime session at Keynsham Library!This is a drop in event. Free\, drop in Storytime session at Keynsham Library. Suitable for parents and carers with children aged 0 – 5 years. Term time only. No booking required.
URL:https://baneslibraries.co.uk/event/keynsham-storytime-23/
LOCATION:Keynsham Library & Information Service\, Market Walk\, Keynsham\, BS31 1FS\, Keynsham\, BS31 1FS\, GB
CATEGORIES:Adult's Events,Children's Events,Events,Keynsham Library,Library Events
ATTACH;FMTTYPE=image/png:https://baneslibraries.co.uk/wp-content/uploads/2025/06/54582_image.png
END:VEVENT
BEGIN:VEVENT
DTSTART;TZID=Europe/London:20260625T130000
DTEND;TZID=Europe/London:20260625T163000
DTSTAMP:20260425T131721
CREATED:20250923T160924Z
LAST-MODIFIED:20250923T160944Z
UID:58027-1782392400-1782405000@baneslibraries.co.uk
SUMMARY:Everyone Health - Stop Smoking Clinic
DESCRIPTION:Want to quit smoking? It doesn’t have to be a dragYour local Bath & North East Somerset Stop Smoking service offers FREE support to local people who are thinking of and wanting to take positive steps towards stopping smoking. No matter how long you’ve smoked\, quitting benefits your health right away. In just a few days\, your sense of taste and smell will get better. Your lungs will start to clear\, so breathing feels easier. You’ll also keep your loved ones safe from second-hand smoke and save money.  Find out more: https://banes.everyonehealth.co.uk/services/stop-smoking-service/
URL:https://baneslibraries.co.uk/event/everyone-health-stop-smoking-clinic-33/
LOCATION:Keynsham Library & Information Service\, Market Walk\, Keynsham\, BS31 1FS\, Keynsham\, BS31 1FS\, GB
CATEGORIES:Adult's Events,Events,Keynsham Library,Partner Events,Support Services
ATTACH;FMTTYPE=image/png:https://baneslibraries.co.uk/wp-content/uploads/2025/06/54646_image.png
END:VEVENT
BEGIN:VEVENT
DTSTART;TZID=Europe/London:20260625T140000
DTEND;TZID=Europe/London:20260625T160000
DTSTAMP:20260425T131721
CREATED:20250923T152340Z
LAST-MODIFIED:20250923T152349Z
UID:57645-1782396000-1782403200@baneslibraries.co.uk
SUMMARY:Lace Making Group
DESCRIPTION:Drop in group for all ages.
URL:https://baneslibraries.co.uk/event/lace-making-group-37/
LOCATION:Keynsham Library & Information Service\, Market Walk\, Keynsham\, BS31 1FS\, Keynsham\, BS31 1FS\, GB
CATEGORIES:Adult's Events,Events,Keynsham Library,Partner Events
ATTACH;FMTTYPE=image/png:https://baneslibraries.co.uk/wp-content/uploads/2025/09/57567_image.png
END:VEVENT
BEGIN:VEVENT
DTSTART;TZID=Europe/London:20260626T140000
DTEND;TZID=Europe/London:20260626T150000
DTSTAMP:20260425T131721
CREATED:20260420T141726Z
LAST-MODIFIED:20260420T141728Z
UID:69302-1782482400-1782486000@baneslibraries.co.uk
SUMMARY:Friendship Fridays at Midsomer Norton Library
DESCRIPTION:Drop-in to our relaxed social group for adults. Have a go at a wordsearch\, crossword or a board game over a cuppa and a chat.THIS IS A DROP-IN SOCIAL GROUP\, no tickets required. Drop-in to our relaxed social group for adults. Have a go at a wordsearch\, crossword or a board game over a cuppa and a chat. Every Friday 2 – 3pm.
URL:https://baneslibraries.co.uk/event/friendship-fridays-at-midsomer-norton-library-8/
LOCATION:Library & Information Service\, High Street\, Midsomer Norton\, BA3 2DP\, Midsomer Norton\, BA3 2DP\, GB
CATEGORIES:Adult's Events,Events,Keynsham Library,Library Events
ATTACH;FMTTYPE=image/png:https://baneslibraries.co.uk/wp-content/uploads/2025/06/54225_image.png
END:VEVENT
BEGIN:VEVENT
DTSTART;TZID=Europe/London:20260627T123000
DTEND;TZID=Europe/London:20260627T160000
DTSTAMP:20260425T131721
CREATED:20260217T170818Z
LAST-MODIFIED:20260217T170820Z
UID:65831-1782563400-1782576000@baneslibraries.co.uk
SUMMARY:Board Game Saturdays at Keynsham Library
DESCRIPTION:Do you love to play boardgames? This is the perfect event for you!T﻿his is a drop in event. J﻿oin us for an afternoon of fun for all the family! We have a great selection of boardgames\, suitable for all ages.
URL:https://baneslibraries.co.uk/event/board-game-saturdays-at-keynsham-library-19/
LOCATION:Keynsham Library & Information Service\, Market Walk\, Keynsham\, BS31 1FS\, Keynsham\, BS31 1FS\, GB
CATEGORIES:Adult's Events,Children's Events,Events,Keynsham Library,Library Events,Young Adult's Events
ATTACH;FMTTYPE=image/png:https://baneslibraries.co.uk/wp-content/uploads/2026/02/65793_image.png
END:VEVENT
BEGIN:VEVENT
DTSTART;TZID=Europe/London:20260629T093000
DTEND;TZID=Europe/London:20260629T130000
DTSTAMP:20260425T131721
CREATED:20251016T142941Z
LAST-MODIFIED:20251016T142943Z
UID:61774-1782725400-1782738000@baneslibraries.co.uk
SUMMARY:Citizens Advice Drop In
DESCRIPTION:Help with money\, legal\, and consumer problems.
URL:https://baneslibraries.co.uk/event/citizens-advice-drop-in-89/
LOCATION:Keynsham Library & Information Service\, Market Walk\, Keynsham\, BS31 1FS\, Keynsham\, BS31 1FS\, GB
CATEGORIES:Adult's Events,Events,Keynsham Library,Partner Events,Support Services
ATTACH;FMTTYPE=image/png:https://baneslibraries.co.uk/wp-content/uploads/2025/10/61700_image.png
END:VEVENT
BEGIN:VEVENT
DTSTART;TZID=Europe/London:20260629T093000
DTEND;TZID=Europe/London:20260629T163000
DTSTAMP:20260425T131721
CREATED:20251017T102510Z
LAST-MODIFIED:20260414T153856Z
UID:62064-1782725400-1782750600@baneslibraries.co.uk
SUMMARY:Reach Housing Advice and Support Service Drop In
DESCRIPTION:Support\, information and advice if you are having difficulty with your accommodation
URL:https://baneslibraries.co.uk/event/reach-housing-advice-and-support-service-drop-in-90/
LOCATION:Keynsham Library & Information Service\, Market Walk\, Keynsham\, BS31 1FS\, Keynsham\, BS31 1FS\, GB
CATEGORIES:Adult's Events,Events,Keynsham Library,Partner Events,Support Services
ATTACH;FMTTYPE=image/png:https://baneslibraries.co.uk/wp-content/uploads/2025/10/61996_image.png
END:VEVENT
BEGIN:VEVENT
DTSTART;TZID=Europe/London:20260630T093000
DTEND;TZID=Europe/London:20260630T100000
DTSTAMP:20260425T131722
CREATED:20251014T150844Z
LAST-MODIFIED:20251014T150846Z
UID:61207-1782811800-1782813600@baneslibraries.co.uk
SUMMARY:Baby Bounce and Rhyme at Keynsham Library
DESCRIPTION:Join us for Baby Bounce and Rhyme at Keynsham Library!T﻿his is a drop in event. Sing along to your favourite songs and rhymes at Keynsham Library!  Free\, drop in event suitable for parents/carers with children aged 0 – 5 years. T﻿erm time only\, no booking required.
URL:https://baneslibraries.co.uk/event/baby-bounce-and-rhyme-at-keynsham-library-71/
LOCATION:Keynsham Library & Information Service\, Market Walk\, Keynsham\, BS31 1FS\, Keynsham\, BS31 1FS\, GB
CATEGORIES:Children's Events,Events,Keynsham Library,Library Events
ATTACH;FMTTYPE=image/png:https://baneslibraries.co.uk/wp-content/uploads/2025/10/61064_image.png
END:VEVENT
BEGIN:VEVENT
DTSTART;TZID=Europe/London:20260630T103000
DTEND;TZID=Europe/London:20260630T110000
DTSTAMP:20260425T131722
CREATED:20251014T150842Z
LAST-MODIFIED:20251014T150843Z
UID:61209-1782815400-1782817200@baneslibraries.co.uk
SUMMARY:Baby Bounce and Rhyme at Keynsham Library
DESCRIPTION:Join us for Baby Bounce and Rhyme at Keynsham Library!T﻿his is a drop in event. Sing along to your favourite songs and rhymes at Keynsham Library!  Free\, drop in event suitable for parents/carers with children aged 0 – 5 years. T﻿erm time only\, no booking required.
URL:https://baneslibraries.co.uk/event/baby-bounce-and-rhyme-at-keynsham-library-70/
LOCATION:Keynsham Library & Information Service\, Market Walk\, Keynsham\, BS31 1FS\, Keynsham\, BS31 1FS\, GB
CATEGORIES:Children's Events,Events,Keynsham Library,Library Events
ATTACH;FMTTYPE=image/png:https://baneslibraries.co.uk/wp-content/uploads/2025/10/61064_image.png
END:VEVENT
BEGIN:VEVENT
DTSTART;TZID=Europe/London:20260701T140000
DTEND;TZID=Europe/London:20260701T160000
DTSTAMP:20260425T131722
CREATED:20260306T165107Z
LAST-MODIFIED:20260306T165109Z
UID:66539-1782914400-1782921600@baneslibraries.co.uk
SUMMARY:Click Cafe at Keynsham Library
DESCRIPTION:Supporting older people aged 55+  in Keynsham to get online – staying in touch\, involved and independent.No matter your level\, Age Uk Bath and North East Somerset is here to help\, with 1-1 sessions so you can learn at your own pace\, quick fix troubleshooting sessions\, and even a free device loan scheme (with data!).  To find out more or to book your spot\, contact us: digital@ageukbanes.co.uk 07552 744 025 or 07552 774 914
URL:https://baneslibraries.co.uk/event/click-cafe-at-keynsham-library-2/
LOCATION:Keynsham Library & Information Service\, Market Walk\, Keynsham\, BS31 1FS\, Keynsham\, BS31 1FS\, GB
CATEGORIES:Adult's Events,Events,Keynsham Library,Partner Events,Support Services
ATTACH;FMTTYPE=image/png:https://baneslibraries.co.uk/wp-content/uploads/2026/03/66532_image.png
END:VEVENT
BEGIN:VEVENT
DTSTART;TZID=Europe/London:20260702T090000
DTEND;TZID=Europe/London:20260702T163000
DTSTAMP:20260425T131722
CREATED:20250923T154742Z
LAST-MODIFIED:20250923T154753Z
UID:57841-1782982800-1783009800@baneslibraries.co.uk
SUMMARY:Private Rented Advice Drop In
DESCRIPTION:Are you looking for a private rented home?Our Private Rented Officer will be available to offer guidance on how to find a home in the private rented sector\, including advice on relationship building with landlords and letting agents. Contact 01225 396296.  Closed 12.30 – 1.30pm.
URL:https://baneslibraries.co.uk/event/private-rented-advice-drop-in-32/
LOCATION:Keynsham Library & Information Service\, Market Walk\, Keynsham\, BS31 1FS\, Keynsham\, BS31 1FS\, GB
CATEGORIES:Adult's Events,Events,Keynsham Library,Partner Events,Support Services
ATTACH;FMTTYPE=image/png:https://baneslibraries.co.uk/wp-content/uploads/2025/09/57760_image.png
END:VEVENT
BEGIN:VEVENT
DTSTART;TZID=Europe/London:20260702T093000
DTEND;TZID=Europe/London:20260702T123000
DTSTAMP:20260425T131722
CREATED:20250917T152741Z
LAST-MODIFIED:20260402T085455Z
UID:56342-1782984600-1782995400@baneslibraries.co.uk
SUMMARY:HomeSearch Drop In
DESCRIPTION:Homesearch is the register for social rent homes and low cost home ownership in Bath & North East Somerset.\n\n\nFind out more at: homesearchbathnes.org.uk
URL:https://baneslibraries.co.uk/event/homesearch-drop-in-42/
LOCATION:Keynsham Library & Information Service\, Market Walk\, Keynsham\, BS31 1FS\, Keynsham\, BS31 1FS\, GB
CATEGORIES:Adult's Events,Events,Keynsham Library,Partner Events,Support Services
ATTACH;FMTTYPE=image/png:https://baneslibraries.co.uk/wp-content/uploads/2025/09/56263_image.png
END:VEVENT
BEGIN:VEVENT
DTSTART;TZID=Europe/London:20260702T103000
DTEND;TZID=Europe/London:20260702T110000
DTSTAMP:20260425T131722
CREATED:20251014T163112Z
LAST-MODIFIED:20251014T163114Z
UID:61608-1782988200-1782990000@baneslibraries.co.uk
SUMMARY:Keynsham Storytime
DESCRIPTION:Join us for a Storytime session at Keynsham Library!This is a drop in event. Free\, drop in Storytime session at Keynsham Library. Suitable for parents and carers with children aged 0 – 5 years. Term time only. No booking required.
URL:https://baneslibraries.co.uk/event/keynsham-storytime-32/
LOCATION:Keynsham Library & Information Service\, Market Walk\, Keynsham\, BS31 1FS\, Keynsham\, BS31 1FS\, GB
CATEGORIES:Adult's Events,Children's Events,Events,Keynsham Library,Library Events
ATTACH;FMTTYPE=image/png:https://baneslibraries.co.uk/wp-content/uploads/2025/06/54582_image.png
END:VEVENT
BEGIN:VEVENT
DTSTART;TZID=Europe/London:20260702T130000
DTEND;TZID=Europe/London:20260702T163000
DTSTAMP:20260425T131722
CREATED:20250923T160940Z
LAST-MODIFIED:20250923T161000Z
UID:58029-1782997200-1783009800@baneslibraries.co.uk
SUMMARY:Everyone Health - Stop Smoking Clinic
DESCRIPTION:Want to quit smoking? It doesn’t have to be a dragYour local Bath & North East Somerset Stop Smoking service offers FREE support to local people who are thinking of and wanting to take positive steps towards stopping smoking. No matter how long you’ve smoked\, quitting benefits your health right away. In just a few days\, your sense of taste and smell will get better. Your lungs will start to clear\, so breathing feels easier. You’ll also keep your loved ones safe from second-hand smoke and save money.  Find out more: https://banes.everyonehealth.co.uk/services/stop-smoking-service/
URL:https://baneslibraries.co.uk/event/everyone-health-stop-smoking-clinic-38/
LOCATION:Keynsham Library & Information Service\, Market Walk\, Keynsham\, BS31 1FS\, Keynsham\, BS31 1FS\, GB
CATEGORIES:Adult's Events,Events,Keynsham Library,Partner Events,Support Services
ATTACH;FMTTYPE=image/png:https://baneslibraries.co.uk/wp-content/uploads/2025/06/54646_image.png
END:VEVENT
BEGIN:VEVENT
DTSTART;TZID=Europe/London:20260702T140000
DTEND;TZID=Europe/London:20260702T160000
DTSTAMP:20260425T131722
CREATED:20250923T152344Z
LAST-MODIFIED:20250923T152350Z
UID:57647-1783000800-1783008000@baneslibraries.co.uk
SUMMARY:Lace Making Group
DESCRIPTION:Drop in group for all ages.
URL:https://baneslibraries.co.uk/event/lace-making-group-40/
LOCATION:Keynsham Library & Information Service\, Market Walk\, Keynsham\, BS31 1FS\, Keynsham\, BS31 1FS\, GB
CATEGORIES:Adult's Events,Events,Keynsham Library,Partner Events
ATTACH;FMTTYPE=image/png:https://baneslibraries.co.uk/wp-content/uploads/2025/09/57567_image.png
END:VEVENT
BEGIN:VEVENT
DTSTART;TZID=Europe/London:20260703T140000
DTEND;TZID=Europe/London:20260703T150000
DTSTAMP:20260425T131722
CREATED:20260416T162204Z
LAST-MODIFIED:20260416T162205Z
UID:69100-1783087200-1783090800@baneslibraries.co.uk
SUMMARY:The Page Turners
DESCRIPTION:Join us for a shared reading group for adults at Keynsham Library.Come and enjoy listening to a variety of extracts from a range of reading material. No obligation to join in or contribute. Just sit back and enjoy the stories. Free Tea & Coffee available. We meet monthly.
URL:https://baneslibraries.co.uk/event/the-page-turners-8/
LOCATION:Keynsham Library & Information Service\, Market Walk\, Keynsham\, BS31 1FS\, Keynsham\, BS31 1FS\, GB
CATEGORIES:Adult's Events,Book Groups,Events,Keynsham Library,Library Events
ATTACH;FMTTYPE=image/jpeg:https://baneslibraries.co.uk/wp-content/uploads/2025/06/54434_image.jpg
END:VEVENT
BEGIN:VEVENT
DTSTART;TZID=Europe/London:20260703T140000
DTEND;TZID=Europe/London:20260703T150000
DTSTAMP:20260425T131722
CREATED:20260420T141723Z
LAST-MODIFIED:20260420T141724Z
UID:69304-1783087200-1783090800@baneslibraries.co.uk
SUMMARY:Friendship Fridays at Midsomer Norton Library
DESCRIPTION:Drop-in to our relaxed social group for adults. Have a go at a wordsearch\, crossword or a board game over a cuppa and a chat.THIS IS A DROP-IN SOCIAL GROUP\, no tickets required. Drop-in to our relaxed social group for adults. Have a go at a wordsearch\, crossword or a board game over a cuppa and a chat. Every Friday 2 – 3pm.
URL:https://baneslibraries.co.uk/event/friendship-fridays-at-midsomer-norton-library-7/
LOCATION:Library & Information Service\, High Street\, Midsomer Norton\, BA3 2DP\, Midsomer Norton\, BA3 2DP\, GB
CATEGORIES:Adult's Events,Events,Keynsham Library,Library Events
ATTACH;FMTTYPE=image/png:https://baneslibraries.co.uk/wp-content/uploads/2025/06/54225_image.png
END:VEVENT
BEGIN:VEVENT
DTSTART;TZID=Europe/London:20260704T123000
DTEND;TZID=Europe/London:20260704T160000
DTSTAMP:20260425T131722
CREATED:20260217T170815Z
LAST-MODIFIED:20260217T170817Z
UID:65833-1783168200-1783180800@baneslibraries.co.uk
SUMMARY:Board Game Saturdays at Keynsham Library
DESCRIPTION:Do you love to play boardgames? This is the perfect event for you!T﻿his is a drop in event. J﻿oin us for an afternoon of fun for all the family! We have a great selection of boardgames\, suitable for all ages.
URL:https://baneslibraries.co.uk/event/board-game-saturdays-at-keynsham-library-18/
LOCATION:Keynsham Library & Information Service\, Market Walk\, Keynsham\, BS31 1FS\, Keynsham\, BS31 1FS\, GB
CATEGORIES:Adult's Events,Children's Events,Events,Keynsham Library,Library Events,Young Adult's Events
ATTACH;FMTTYPE=image/png:https://baneslibraries.co.uk/wp-content/uploads/2026/02/65793_image.png
END:VEVENT
END:VCALENDAR