BEGIN:VCALENDAR
VERSION:2.0
PRODID:-//BaNES Virtual Library - ECPv6.15.20//NONSGML v1.0//EN
CALSCALE:GREGORIAN
METHOD:PUBLISH
X-ORIGINAL-URL:https://baneslibraries.co.uk
X-WR-CALDESC:Events for BaNES Virtual Library
REFRESH-INTERVAL;VALUE=DURATION:PT1H
X-Robots-Tag:noindex
X-PUBLISHED-TTL:PT1H
BEGIN:VTIMEZONE
TZID:Europe/London
BEGIN:DAYLIGHT
TZOFFSETFROM:+0000
TZOFFSETTO:+0100
TZNAME:BST
DTSTART:20250330T010000
END:DAYLIGHT
BEGIN:STANDARD
TZOFFSETFROM:+0100
TZOFFSETTO:+0000
TZNAME:GMT
DTSTART:20251026T010000
END:STANDARD
BEGIN:DAYLIGHT
TZOFFSETFROM:+0000
TZOFFSETTO:+0100
TZNAME:BST
DTSTART:20260329T010000
END:DAYLIGHT
BEGIN:STANDARD
TZOFFSETFROM:+0100
TZOFFSETTO:+0000
TZNAME:GMT
DTSTART:20261025T010000
END:STANDARD
BEGIN:DAYLIGHT
TZOFFSETFROM:+0000
TZOFFSETTO:+0100
TZNAME:BST
DTSTART:20270328T010000
END:DAYLIGHT
BEGIN:STANDARD
TZOFFSETFROM:+0100
TZOFFSETTO:+0000
TZNAME:GMT
DTSTART:20271031T010000
END:STANDARD
END:VTIMEZONE
BEGIN:VEVENT
DTSTART;TZID=Europe/London:20260702T093000
DTEND;TZID=Europe/London:20260702T123000
DTSTAMP:20260424T180549
CREATED:20250917T152741Z
LAST-MODIFIED:20260402T085455Z
UID:56342-1782984600-1782995400@baneslibraries.co.uk
SUMMARY:HomeSearch Drop In
DESCRIPTION:Homesearch is the register for social rent homes and low cost home ownership in Bath & North East Somerset.\n\n\nFind out more at: homesearchbathnes.org.uk
URL:https://baneslibraries.co.uk/event/homesearch-drop-in-42/
LOCATION:Keynsham Library & Information Service\, Market Walk\, Keynsham\, BS31 1FS\, Keynsham\, BS31 1FS\, GB
CATEGORIES:Adult's Events,Events,Keynsham Library,Partner Events,Support Services
ATTACH;FMTTYPE=image/png:https://baneslibraries.co.uk/wp-content/uploads/2025/09/56263_image.png
END:VEVENT
BEGIN:VEVENT
DTSTART;TZID=Europe/London:20260709T093000
DTEND;TZID=Europe/London:20260709T123000
DTSTAMP:20260424T180549
CREATED:20250917T152739Z
LAST-MODIFIED:20260402T085457Z
UID:56344-1783589400-1783600200@baneslibraries.co.uk
SUMMARY:HomeSearch Drop In
DESCRIPTION:Homesearch is the register for social rent homes and low cost home ownership in Bath & North East Somerset.\n\n\nFind out more at: homesearchbathnes.org.uk
URL:https://baneslibraries.co.uk/event/homesearch-drop-in-41/
LOCATION:Keynsham Library & Information Service\, Market Walk\, Keynsham\, BS31 1FS\, Keynsham\, BS31 1FS\, GB
CATEGORIES:Adult's Events,Events,Keynsham Library,Partner Events,Support Services
ATTACH;FMTTYPE=image/png:https://baneslibraries.co.uk/wp-content/uploads/2025/09/56263_image.png
END:VEVENT
BEGIN:VEVENT
DTSTART;TZID=Europe/London:20260716T093000
DTEND;TZID=Europe/London:20260716T123000
DTSTAMP:20260424T180549
CREATED:20250917T152738Z
LAST-MODIFIED:20260402T085459Z
UID:56346-1784194200-1784205000@baneslibraries.co.uk
SUMMARY:HomeSearch Drop In
DESCRIPTION:Homesearch is the register for social rent homes and low cost home ownership in Bath & North East Somerset.\n\n\nFind out more at: homesearchbathnes.org.uk
URL:https://baneslibraries.co.uk/event/homesearch-drop-in-40/
LOCATION:Keynsham Library & Information Service\, Market Walk\, Keynsham\, BS31 1FS\, Keynsham\, BS31 1FS\, GB
CATEGORIES:Adult's Events,Events,Keynsham Library,Partner Events,Support Services
ATTACH;FMTTYPE=image/png:https://baneslibraries.co.uk/wp-content/uploads/2025/09/56263_image.png
END:VEVENT
BEGIN:VEVENT
DTSTART;TZID=Europe/London:20260723T093000
DTEND;TZID=Europe/London:20260723T123000
DTSTAMP:20260424T180549
CREATED:20250917T152736Z
LAST-MODIFIED:20260402T085500Z
UID:56348-1784799000-1784809800@baneslibraries.co.uk
SUMMARY:HomeSearch Drop In
DESCRIPTION:Homesearch is the register for social rent homes and low cost home ownership in Bath & North East Somerset.\n\n\nFind out more at: homesearchbathnes.org.uk
URL:https://baneslibraries.co.uk/event/homesearch-drop-in-39/
LOCATION:Keynsham Library & Information Service\, Market Walk\, Keynsham\, BS31 1FS\, Keynsham\, BS31 1FS\, GB
CATEGORIES:Adult's Events,Events,Keynsham Library,Partner Events,Support Services
ATTACH;FMTTYPE=image/png:https://baneslibraries.co.uk/wp-content/uploads/2025/09/56263_image.png
END:VEVENT
BEGIN:VEVENT
DTSTART;TZID=Europe/London:20260729T100000
DTEND;TZID=Europe/London:20260729T130000
DTSTAMP:20260424T180549
CREATED:20260106T115806Z
LAST-MODIFIED:20260106T115808Z
UID:64322-1785319200-1785330000@baneslibraries.co.uk
SUMMARY:Freeways Floating Support Service Drop In
DESCRIPTION:Do you have a learning Disability or are you over 18 years of age and have Neuro-Divergence?We can provide FREE support with the following: •	Applying for grants or welfare support •	Support with finding new accommodation •	Contacting Homesearch to help with your account •	Tenancy support with your landlord or reporting repairs •	Budgeting advice •	Paying for your rent or bills •	Managing any bills or letters •	Contacting utility companies for your water\, gas or electric •	Support with dealing with debts •	Claiming housing or council tax benefits •	PIP and other benefit applications 	 Please come along to the free drop in and our friendly staff can offer information and support. No need to book an appointment.  Email info@freeways.org.ukCall 01225 830416Text 07879423791
URL:https://baneslibraries.co.uk/event/freeways-floating-support-service-drop-in-13/
LOCATION:Keynsham Library & Information Service\, Market Walk\, Keynsham\, BS31 1FS\, Keynsham\, BS31 1FS\, GB
CATEGORIES:Events,Keynsham Library,Partner Events,Support Services,Young Adult's Events
ATTACH;FMTTYPE=image/png:https://baneslibraries.co.uk/wp-content/uploads/2026/01/64308_image.png
END:VEVENT
BEGIN:VEVENT
DTSTART;TZID=Europe/London:20260730T093000
DTEND;TZID=Europe/London:20260730T123000
DTSTAMP:20260424T180549
CREATED:20250917T152733Z
LAST-MODIFIED:20260402T085501Z
UID:56350-1785403800-1785414600@baneslibraries.co.uk
SUMMARY:HomeSearch Drop In
DESCRIPTION:Homesearch is the register for social rent homes and low cost home ownership in Bath & North East Somerset.\n\n\nFind out more at: homesearchbathnes.org.uk
URL:https://baneslibraries.co.uk/event/homesearch-drop-in-38/
LOCATION:Keynsham Library & Information Service\, Market Walk\, Keynsham\, BS31 1FS\, Keynsham\, BS31 1FS\, GB
CATEGORIES:Adult's Events,Events,Keynsham Library,Partner Events,Support Services
ATTACH;FMTTYPE=image/png:https://baneslibraries.co.uk/wp-content/uploads/2025/09/56263_image.png
END:VEVENT
BEGIN:VEVENT
DTSTART;TZID=Europe/London:20260806T093000
DTEND;TZID=Europe/London:20260806T123000
DTSTAMP:20260424T180549
CREATED:20250917T152800Z
LAST-MODIFIED:20260402T085503Z
UID:56352-1786008600-1786019400@baneslibraries.co.uk
SUMMARY:HomeSearch Drop In
DESCRIPTION:Homesearch is the register for social rent homes and low cost home ownership in Bath & North East Somerset.\n\n\nFind out more at: homesearchbathnes.org.uk
URL:https://baneslibraries.co.uk/event/homesearch-drop-in-49/
LOCATION:Keynsham Library & Information Service\, Market Walk\, Keynsham\, BS31 1FS\, Keynsham\, BS31 1FS\, GB
CATEGORIES:Adult's Events,Events,Keynsham Library,Partner Events,Support Services
ATTACH;FMTTYPE=image/png:https://baneslibraries.co.uk/wp-content/uploads/2025/09/56263_image.png
END:VEVENT
BEGIN:VEVENT
DTSTART;TZID=Europe/London:20260813T093000
DTEND;TZID=Europe/London:20260813T123000
DTSTAMP:20260424T180549
CREATED:20250917T152800Z
LAST-MODIFIED:20260402T085505Z
UID:56354-1786613400-1786624200@baneslibraries.co.uk
SUMMARY:HomeSearch Drop In
DESCRIPTION:Homesearch is the register for social rent homes and low cost home ownership in Bath & North East Somerset.\n\n\nFind out more at: homesearchbathnes.org.uk
URL:https://baneslibraries.co.uk/event/homesearch-drop-in-50/
LOCATION:Keynsham Library & Information Service\, Market Walk\, Keynsham\, BS31 1FS\, Keynsham\, BS31 1FS\, GB
CATEGORIES:Adult's Events,Events,Keynsham Library,Partner Events,Support Services
ATTACH;FMTTYPE=image/png:https://baneslibraries.co.uk/wp-content/uploads/2025/09/56263_image.png
END:VEVENT
BEGIN:VEVENT
DTSTART;TZID=Europe/London:20260820T093000
DTEND;TZID=Europe/London:20260820T123000
DTSTAMP:20260424T180549
CREATED:20250917T152759Z
LAST-MODIFIED:20260402T085506Z
UID:56356-1787218200-1787229000@baneslibraries.co.uk
SUMMARY:HomeSearch Drop In
DESCRIPTION:Homesearch is the register for social rent homes and low cost home ownership in Bath & North East Somerset.\n\n\nFind out more at: homesearchbathnes.org.uk
URL:https://baneslibraries.co.uk/event/homesearch-drop-in-48/
LOCATION:Keynsham Library & Information Service\, Market Walk\, Keynsham\, BS31 1FS\, Keynsham\, BS31 1FS\, GB
CATEGORIES:Adult's Events,Events,Keynsham Library,Partner Events,Support Services
ATTACH;FMTTYPE=image/png:https://baneslibraries.co.uk/wp-content/uploads/2025/09/56263_image.png
END:VEVENT
BEGIN:VEVENT
DTSTART;TZID=Europe/London:20260826T100000
DTEND;TZID=Europe/London:20260826T130000
DTSTAMP:20260424T180549
CREATED:20260106T115748Z
LAST-MODIFIED:20260106T115752Z
UID:64324-1787738400-1787749200@baneslibraries.co.uk
SUMMARY:Freeways Floating Support Service Drop In
DESCRIPTION:Do you have a learning Disability or are you over 18 years of age and have Neuro-Divergence?We can provide FREE support with the following: •	Applying for grants or welfare support •	Support with finding new accommodation •	Contacting Homesearch to help with your account •	Tenancy support with your landlord or reporting repairs •	Budgeting advice •	Paying for your rent or bills •	Managing any bills or letters •	Contacting utility companies for your water\, gas or electric •	Support with dealing with debts •	Claiming housing or council tax benefits •	PIP and other benefit applications 	 Please come along to the free drop in and our friendly staff can offer information and support. No need to book an appointment.  Email info@freeways.org.ukCall 01225 830416Text 07879423791
URL:https://baneslibraries.co.uk/event/freeways-floating-support-service-drop-in-7/
LOCATION:Keynsham Library & Information Service\, Market Walk\, Keynsham\, BS31 1FS\, Keynsham\, BS31 1FS\, GB
CATEGORIES:Events,Keynsham Library,Partner Events,Support Services,Young Adult's Events
ATTACH;FMTTYPE=image/png:https://baneslibraries.co.uk/wp-content/uploads/2026/01/64308_image.png
END:VEVENT
BEGIN:VEVENT
DTSTART;TZID=Europe/London:20260827T093000
DTEND;TZID=Europe/London:20260827T123000
DTSTAMP:20260424T180549
CREATED:20250917T152752Z
LAST-MODIFIED:20260402T085508Z
UID:56358-1787823000-1787833800@baneslibraries.co.uk
SUMMARY:HomeSearch Drop In
DESCRIPTION:Homesearch is the register for social rent homes and low cost home ownership in Bath & North East Somerset.\n\n\nFind out more at: homesearchbathnes.org.uk
URL:https://baneslibraries.co.uk/event/homesearch-drop-in-47/
LOCATION:Keynsham Library & Information Service\, Market Walk\, Keynsham\, BS31 1FS\, Keynsham\, BS31 1FS\, GB
CATEGORIES:Adult's Events,Events,Keynsham Library,Partner Events,Support Services
ATTACH;FMTTYPE=image/png:https://baneslibraries.co.uk/wp-content/uploads/2025/09/56263_image.png
END:VEVENT
BEGIN:VEVENT
DTSTART;TZID=Europe/London:20260903T093000
DTEND;TZID=Europe/London:20260903T123000
DTSTAMP:20260424T180549
CREATED:20250917T152751Z
LAST-MODIFIED:20260402T085509Z
UID:56360-1788427800-1788438600@baneslibraries.co.uk
SUMMARY:HomeSearch Drop In
DESCRIPTION:Homesearch is the register for social rent homes and low cost home ownership in Bath & North East Somerset.\n\n\nFind out more at: homesearchbathnes.org.uk
URL:https://baneslibraries.co.uk/event/homesearch-drop-in-46/
LOCATION:Keynsham Library & Information Service\, Market Walk\, Keynsham\, BS31 1FS\, Keynsham\, BS31 1FS\, GB
CATEGORIES:Adult's Events,Events,Keynsham Library,Partner Events,Support Services
ATTACH;FMTTYPE=image/png:https://baneslibraries.co.uk/wp-content/uploads/2025/09/56263_image.png
END:VEVENT
BEGIN:VEVENT
DTSTART;TZID=Europe/London:20260910T093000
DTEND;TZID=Europe/London:20260910T123000
DTSTAMP:20260424T180549
CREATED:20250917T152750Z
LAST-MODIFIED:20260402T085511Z
UID:56362-1789032600-1789043400@baneslibraries.co.uk
SUMMARY:HomeSearch Drop In
DESCRIPTION:Homesearch is the register for social rent homes and low cost home ownership in Bath & North East Somerset.\n\n\nFind out more at: homesearchbathnes.org.uk
URL:https://baneslibraries.co.uk/event/homesearch-drop-in-45/
LOCATION:Keynsham Library & Information Service\, Market Walk\, Keynsham\, BS31 1FS\, Keynsham\, BS31 1FS\, GB
CATEGORIES:Adult's Events,Events,Keynsham Library,Partner Events,Support Services
ATTACH;FMTTYPE=image/png:https://baneslibraries.co.uk/wp-content/uploads/2025/09/56263_image.png
END:VEVENT
BEGIN:VEVENT
DTSTART;TZID=Europe/London:20260917T093000
DTEND;TZID=Europe/London:20260917T123000
DTSTAMP:20260424T180549
CREATED:20250917T152802Z
LAST-MODIFIED:20260402T085513Z
UID:56366-1789637400-1789648200@baneslibraries.co.uk
SUMMARY:HomeSearch Drop In
DESCRIPTION:Homesearch is the register for social rent homes and low cost home ownership in Bath & North East Somerset.\n\n\nFind out more at: homesearchbathnes.org.uk
URL:https://baneslibraries.co.uk/event/homesearch-drop-in-51/
LOCATION:Keynsham Library & Information Service\, Market Walk\, Keynsham\, BS31 1FS\, Keynsham\, BS31 1FS\, GB
CATEGORIES:Adult's Events,Events,Keynsham Library,Partner Events,Support Services
ATTACH;FMTTYPE=image/png:https://baneslibraries.co.uk/wp-content/uploads/2025/09/56263_image.png
END:VEVENT
BEGIN:VEVENT
DTSTART;TZID=Europe/London:20260924T093000
DTEND;TZID=Europe/London:20260924T123000
DTSTAMP:20260424T180549
CREATED:20250917T152802Z
LAST-MODIFIED:20260402T085515Z
UID:56369-1790242200-1790253000@baneslibraries.co.uk
SUMMARY:HomeSearch Drop In
DESCRIPTION:Homesearch is the register for social rent homes and low cost home ownership in Bath & North East Somerset.\n\n\nFind out more at: homesearchbathnes.org.uk
URL:https://baneslibraries.co.uk/event/homesearch-drop-in-52/
LOCATION:Keynsham Library & Information Service\, Market Walk\, Keynsham\, BS31 1FS\, Keynsham\, BS31 1FS\, GB
CATEGORIES:Adult's Events,Events,Keynsham Library,Partner Events,Support Services
ATTACH;FMTTYPE=image/png:https://baneslibraries.co.uk/wp-content/uploads/2025/09/56263_image.png
END:VEVENT
BEGIN:VEVENT
DTSTART;TZID=Europe/London:20260930T100000
DTEND;TZID=Europe/London:20260930T130000
DTSTAMP:20260424T180549
CREATED:20260106T115744Z
LAST-MODIFIED:20260106T115753Z
UID:64326-1790762400-1790773200@baneslibraries.co.uk
SUMMARY:Freeways Floating Support Service Drop In
DESCRIPTION:Do you have a learning Disability or are you over 18 years of age and have Neuro-Divergence?We can provide FREE support with the following: •	Applying for grants or welfare support •	Support with finding new accommodation •	Contacting Homesearch to help with your account •	Tenancy support with your landlord or reporting repairs •	Budgeting advice •	Paying for your rent or bills •	Managing any bills or letters •	Contacting utility companies for your water\, gas or electric •	Support with dealing with debts •	Claiming housing or council tax benefits •	PIP and other benefit applications 	 Please come along to the free drop in and our friendly staff can offer information and support. No need to book an appointment.  Email info@freeways.org.ukCall 01225 830416Text 07879423791
URL:https://baneslibraries.co.uk/event/freeways-floating-support-service-drop-in-6/
LOCATION:Keynsham Library & Information Service\, Market Walk\, Keynsham\, BS31 1FS\, Keynsham\, BS31 1FS\, GB
CATEGORIES:Events,Keynsham Library,Partner Events,Support Services,Young Adult's Events
ATTACH;FMTTYPE=image/png:https://baneslibraries.co.uk/wp-content/uploads/2026/01/64308_image.png
END:VEVENT
BEGIN:VEVENT
DTSTART;TZID=Europe/London:20261028T100000
DTEND;TZID=Europe/London:20261028T130000
DTSTAMP:20260424T180549
CREATED:20260106T115801Z
LAST-MODIFIED:20260106T115804Z
UID:64328-1793181600-1793192400@baneslibraries.co.uk
SUMMARY:Freeways Floating Support Service Drop In
DESCRIPTION:Do you have a learning Disability or are you over 18 years of age and have Neuro-Divergence?We can provide FREE support with the following: •	Applying for grants or welfare support •	Support with finding new accommodation •	Contacting Homesearch to help with your account •	Tenancy support with your landlord or reporting repairs •	Budgeting advice •	Paying for your rent or bills •	Managing any bills or letters •	Contacting utility companies for your water\, gas or electric •	Support with dealing with debts •	Claiming housing or council tax benefits •	PIP and other benefit applications 	 Please come along to the free drop in and our friendly staff can offer information and support. No need to book an appointment.  Email info@freeways.org.ukCall 01225 830416Text 07879423791
URL:https://baneslibraries.co.uk/event/freeways-floating-support-service-drop-in-12/
LOCATION:Keynsham Library & Information Service\, Market Walk\, Keynsham\, BS31 1FS\, Keynsham\, BS31 1FS\, GB
CATEGORIES:Events,Keynsham Library,Partner Events,Support Services,Young Adult's Events
ATTACH;FMTTYPE=image/png:https://baneslibraries.co.uk/wp-content/uploads/2026/01/64308_image.png
END:VEVENT
BEGIN:VEVENT
DTSTART;TZID=Europe/London:20261125T100000
DTEND;TZID=Europe/London:20261125T130000
DTSTAMP:20260424T180549
CREATED:20260106T115815Z
LAST-MODIFIED:20260106T115816Z
UID:64330-1795600800-1795611600@baneslibraries.co.uk
SUMMARY:Freeways Floating Support Service Drop In
DESCRIPTION:Do you have a learning Disability or are you over 18 years of age and have Neuro-Divergence?We can provide FREE support with the following: •	Applying for grants or welfare support •	Support with finding new accommodation •	Contacting Homesearch to help with your account •	Tenancy support with your landlord or reporting repairs •	Budgeting advice •	Paying for your rent or bills •	Managing any bills or letters •	Contacting utility companies for your water\, gas or electric •	Support with dealing with debts •	Claiming housing or council tax benefits •	PIP and other benefit applications 	 Please come along to the free drop in and our friendly staff can offer information and support. No need to book an appointment.  Email info@freeways.org.ukCall 01225 830416Text 07879423791
URL:https://baneslibraries.co.uk/event/freeways-floating-support-service-drop-in-15/
LOCATION:Keynsham Library & Information Service\, Market Walk\, Keynsham\, BS31 1FS\, Keynsham\, BS31 1FS\, GB
CATEGORIES:Events,Keynsham Library,Partner Events,Support Services,Young Adult's Events
ATTACH;FMTTYPE=image/png:https://baneslibraries.co.uk/wp-content/uploads/2026/01/64308_image.png
END:VEVENT
BEGIN:VEVENT
DTSTART;TZID=Europe/London:20261230T100000
DTEND;TZID=Europe/London:20261230T130000
DTSTAMP:20260424T180549
CREATED:20260106T115809Z
LAST-MODIFIED:20260106T115811Z
UID:64332-1798624800-1798635600@baneslibraries.co.uk
SUMMARY:Freeways Floating Support Service Drop In
DESCRIPTION:Do you have a learning Disability or are you over 18 years of age and have Neuro-Divergence?We can provide FREE support with the following: •	Applying for grants or welfare support •	Support with finding new accommodation •	Contacting Homesearch to help with your account •	Tenancy support with your landlord or reporting repairs •	Budgeting advice •	Paying for your rent or bills •	Managing any bills or letters •	Contacting utility companies for your water\, gas or electric •	Support with dealing with debts •	Claiming housing or council tax benefits •	PIP and other benefit applications 	 Please come along to the free drop in and our friendly staff can offer information and support. No need to book an appointment.  Email info@freeways.org.ukCall 01225 830416Text 07879423791
URL:https://baneslibraries.co.uk/event/freeways-floating-support-service-drop-in-14/
LOCATION:Keynsham Library & Information Service\, Market Walk\, Keynsham\, BS31 1FS\, Keynsham\, BS31 1FS\, GB
CATEGORIES:Events,Keynsham Library,Partner Events,Support Services,Young Adult's Events
ATTACH;FMTTYPE=image/png:https://baneslibraries.co.uk/wp-content/uploads/2026/01/64308_image.png
END:VEVENT
END:VCALENDAR