BEGIN:VCALENDAR
VERSION:2.0
PRODID:-//BaNES Virtual Library - ECPv6.15.20//NONSGML v1.0//EN
CALSCALE:GREGORIAN
METHOD:PUBLISH
X-WR-CALNAME:BaNES Virtual Library
X-ORIGINAL-URL:https://baneslibraries.co.uk
X-WR-CALDESC:Events for BaNES Virtual Library
REFRESH-INTERVAL;VALUE=DURATION:PT1H
X-Robots-Tag:noindex
X-PUBLISHED-TTL:PT1H
BEGIN:VTIMEZONE
TZID:Europe/London
BEGIN:DAYLIGHT
TZOFFSETFROM:+0000
TZOFFSETTO:+0100
TZNAME:BST
DTSTART:20250330T010000
END:DAYLIGHT
BEGIN:STANDARD
TZOFFSETFROM:+0100
TZOFFSETTO:+0000
TZNAME:GMT
DTSTART:20251026T010000
END:STANDARD
BEGIN:DAYLIGHT
TZOFFSETFROM:+0000
TZOFFSETTO:+0100
TZNAME:BST
DTSTART:20260329T010000
END:DAYLIGHT
BEGIN:STANDARD
TZOFFSETFROM:+0100
TZOFFSETTO:+0000
TZNAME:GMT
DTSTART:20261025T010000
END:STANDARD
BEGIN:DAYLIGHT
TZOFFSETFROM:+0000
TZOFFSETTO:+0100
TZNAME:BST
DTSTART:20270328T010000
END:DAYLIGHT
BEGIN:STANDARD
TZOFFSETFROM:+0100
TZOFFSETTO:+0000
TZNAME:GMT
DTSTART:20271031T010000
END:STANDARD
END:VTIMEZONE
BEGIN:VEVENT
DTSTART;TZID=Europe/London:20260723T093000
DTEND;TZID=Europe/London:20260723T123000
DTSTAMP:20260425T173204
CREATED:20250917T152736Z
LAST-MODIFIED:20260402T085500Z
UID:56348-1784799000-1784809800@baneslibraries.co.uk
SUMMARY:HomeSearch Drop In
DESCRIPTION:Homesearch is the register for social rent homes and low cost home ownership in Bath & North East Somerset.\n\n\nFind out more at: homesearchbathnes.org.uk
URL:https://baneslibraries.co.uk/event/homesearch-drop-in-39/
LOCATION:Keynsham Library & Information Service\, Market Walk\, Keynsham\, BS31 1FS\, Keynsham\, BS31 1FS\, GB
CATEGORIES:Adult's Events,Events,Keynsham Library,Partner Events,Support Services
ATTACH;FMTTYPE=image/png:https://baneslibraries.co.uk/wp-content/uploads/2025/09/56263_image.png
END:VEVENT
BEGIN:VEVENT
DTSTART;TZID=Europe/London:20260723T103000
DTEND;TZID=Europe/London:20260723T110000
DTSTAMP:20260425T173204
CREATED:20251014T163014Z
LAST-MODIFIED:20251014T163015Z
UID:61614-1784802600-1784804400@baneslibraries.co.uk
SUMMARY:Keynsham Storytime
DESCRIPTION:Join us for a Storytime session at Keynsham Library!This is a drop in event. Free\, drop in Storytime session at Keynsham Library. Suitable for parents and carers with children aged 0 – 5 years. Term time only. No booking required.
URL:https://baneslibraries.co.uk/event/keynsham-storytime-29/
LOCATION:Keynsham Library & Information Service\, Market Walk\, Keynsham\, BS31 1FS\, Keynsham\, BS31 1FS\, GB
CATEGORIES:Adult's Events,Children's Events,Events,Keynsham Library,Library Events
ATTACH;FMTTYPE=image/png:https://baneslibraries.co.uk/wp-content/uploads/2025/06/54582_image.png
END:VEVENT
BEGIN:VEVENT
DTSTART;TZID=Europe/London:20260723T130000
DTEND;TZID=Europe/London:20260723T163000
DTSTAMP:20260425T173204
CREATED:20250923T160952Z
LAST-MODIFIED:20250923T161000Z
UID:58035-1784811600-1784824200@baneslibraries.co.uk
SUMMARY:Everyone Health - Stop Smoking Clinic
DESCRIPTION:Want to quit smoking? It doesn’t have to be a dragYour local Bath & North East Somerset Stop Smoking service offers FREE support to local people who are thinking of and wanting to take positive steps towards stopping smoking. No matter how long you’ve smoked\, quitting benefits your health right away. In just a few days\, your sense of taste and smell will get better. Your lungs will start to clear\, so breathing feels easier. You’ll also keep your loved ones safe from second-hand smoke and save money.  Find out more: https://banes.everyonehealth.co.uk/services/stop-smoking-service/
URL:https://baneslibraries.co.uk/event/everyone-health-stop-smoking-clinic-44/
LOCATION:Keynsham Library & Information Service\, Market Walk\, Keynsham\, BS31 1FS\, Keynsham\, BS31 1FS\, GB
CATEGORIES:Adult's Events,Events,Keynsham Library,Partner Events,Support Services
ATTACH;FMTTYPE=image/png:https://baneslibraries.co.uk/wp-content/uploads/2025/06/54646_image.png
END:VEVENT
BEGIN:VEVENT
DTSTART;TZID=Europe/London:20260723T140000
DTEND;TZID=Europe/London:20260723T160000
DTSTAMP:20260425T173204
CREATED:20250923T152354Z
LAST-MODIFIED:20250923T152359Z
UID:57653-1784815200-1784822400@baneslibraries.co.uk
SUMMARY:Lace Making Group
DESCRIPTION:Drop in group for all ages.
URL:https://baneslibraries.co.uk/event/lace-making-group-46/
LOCATION:Keynsham Library & Information Service\, Market Walk\, Keynsham\, BS31 1FS\, Keynsham\, BS31 1FS\, GB
CATEGORIES:Adult's Events,Events,Keynsham Library,Partner Events
ATTACH;FMTTYPE=image/png:https://baneslibraries.co.uk/wp-content/uploads/2025/09/57567_image.png
END:VEVENT
BEGIN:VEVENT
DTSTART;TZID=Europe/London:20260724T140000
DTEND;TZID=Europe/London:20260724T150000
DTSTAMP:20260425T173204
CREATED:20260420T141817Z
LAST-MODIFIED:20260420T141819Z
UID:69311-1784901600-1784905200@baneslibraries.co.uk
SUMMARY:Friendship Fridays at Midsomer Norton Library
DESCRIPTION:Drop-in to our relaxed social group for adults. Have a go at a wordsearch\, crossword or a board game over a cuppa and a chat.THIS IS A DROP-IN SOCIAL GROUP\, no tickets required. Drop-in to our relaxed social group for adults. Have a go at a wordsearch\, crossword or a board game over a cuppa and a chat. Every Friday 2 – 3pm.
URL:https://baneslibraries.co.uk/event/friendship-fridays-at-midsomer-norton-library-32/
LOCATION:Library & Information Service\, High Street\, Midsomer Norton\, BA3 2DP\, Midsomer Norton\, BA3 2DP\, GB
CATEGORIES:Adult's Events,Events,Keynsham Library,Library Events
ATTACH;FMTTYPE=image/png:https://baneslibraries.co.uk/wp-content/uploads/2025/06/54225_image.png
END:VEVENT
BEGIN:VEVENT
DTSTART;TZID=Europe/London:20260725T123000
DTEND;TZID=Europe/London:20260725T160000
DTSTAMP:20260425T173204
CREATED:20260217T170839Z
LAST-MODIFIED:20260217T170841Z
UID:65839-1784982600-1784995200@baneslibraries.co.uk
SUMMARY:Board Game Saturdays at Keynsham Library
DESCRIPTION:Do you love to play boardgames? This is the perfect event for you!T﻿his is a drop in event. J﻿oin us for an afternoon of fun for all the family! We have a great selection of boardgames\, suitable for all ages.
URL:https://baneslibraries.co.uk/event/board-game-saturdays-at-keynsham-library-27/
LOCATION:Keynsham Library & Information Service\, Market Walk\, Keynsham\, BS31 1FS\, Keynsham\, BS31 1FS\, GB
CATEGORIES:Adult's Events,Children's Events,Events,Keynsham Library,Library Events,Young Adult's Events
ATTACH;FMTTYPE=image/png:https://baneslibraries.co.uk/wp-content/uploads/2026/02/65793_image.png
END:VEVENT
BEGIN:VEVENT
DTSTART;TZID=Europe/London:20260727T093000
DTEND;TZID=Europe/London:20260727T130000
DTSTAMP:20260425T173204
CREATED:20251016T142948Z
LAST-MODIFIED:20251016T142950Z
UID:61782-1785144600-1785157200@baneslibraries.co.uk
SUMMARY:Citizens Advice Drop In
DESCRIPTION:Help with money\, legal\, and consumer problems.
URL:https://baneslibraries.co.uk/event/citizens-advice-drop-in-93/
LOCATION:Keynsham Library & Information Service\, Market Walk\, Keynsham\, BS31 1FS\, Keynsham\, BS31 1FS\, GB
CATEGORIES:Adult's Events,Events,Keynsham Library,Partner Events,Support Services
ATTACH;FMTTYPE=image/png:https://baneslibraries.co.uk/wp-content/uploads/2025/10/61700_image.png
END:VEVENT
BEGIN:VEVENT
DTSTART;TZID=Europe/London:20260728T093000
DTEND;TZID=Europe/London:20260728T100000
DTSTAMP:20260425T173204
CREATED:20251014T150849Z
LAST-MODIFIED:20251014T150852Z
UID:61223-1785231000-1785232800@baneslibraries.co.uk
SUMMARY:Baby Bounce and Rhyme at Keynsham Library
DESCRIPTION:Join us for Baby Bounce and Rhyme at Keynsham Library!T﻿his is a drop in event. Sing along to your favourite songs and rhymes at Keynsham Library!  Free\, drop in event suitable for parents/carers with children aged 0 – 5 years. T﻿erm time only\, no booking required.
URL:https://baneslibraries.co.uk/event/baby-bounce-and-rhyme-at-keynsham-library-74/
LOCATION:Keynsham Library & Information Service\, Market Walk\, Keynsham\, BS31 1FS\, Keynsham\, BS31 1FS\, GB
CATEGORIES:Children's Events,Events,Keynsham Library,Library Events
ATTACH;FMTTYPE=image/png:https://baneslibraries.co.uk/wp-content/uploads/2025/10/61064_image.png
END:VEVENT
BEGIN:VEVENT
DTSTART;TZID=Europe/London:20260728T103000
DTEND;TZID=Europe/London:20260728T110000
DTSTAMP:20260425T173204
CREATED:20251014T150848Z
LAST-MODIFIED:20251014T150850Z
UID:61225-1785234600-1785236400@baneslibraries.co.uk
SUMMARY:Baby Bounce and Rhyme at Keynsham Library
DESCRIPTION:Join us for Baby Bounce and Rhyme at Keynsham Library!T﻿his is a drop in event. Sing along to your favourite songs and rhymes at Keynsham Library!  Free\, drop in event suitable for parents/carers with children aged 0 – 5 years. T﻿erm time only\, no booking required.
URL:https://baneslibraries.co.uk/event/baby-bounce-and-rhyme-at-keynsham-library-73/
LOCATION:Keynsham Library & Information Service\, Market Walk\, Keynsham\, BS31 1FS\, Keynsham\, BS31 1FS\, GB
CATEGORIES:Children's Events,Events,Keynsham Library,Library Events
ATTACH;FMTTYPE=image/png:https://baneslibraries.co.uk/wp-content/uploads/2025/10/61064_image.png
END:VEVENT
BEGIN:VEVENT
DTSTART;TZID=Europe/London:20260729T100000
DTEND;TZID=Europe/London:20260729T130000
DTSTAMP:20260425T173204
CREATED:20260106T115806Z
LAST-MODIFIED:20260106T115808Z
UID:64322-1785319200-1785330000@baneslibraries.co.uk
SUMMARY:Freeways Floating Support Service Drop In
DESCRIPTION:Do you have a learning Disability or are you over 18 years of age and have Neuro-Divergence?We can provide FREE support with the following: •	Applying for grants or welfare support •	Support with finding new accommodation •	Contacting Homesearch to help with your account •	Tenancy support with your landlord or reporting repairs •	Budgeting advice •	Paying for your rent or bills •	Managing any bills or letters •	Contacting utility companies for your water\, gas or electric •	Support with dealing with debts •	Claiming housing or council tax benefits •	PIP and other benefit applications 	 Please come along to the free drop in and our friendly staff can offer information and support. No need to book an appointment.  Email info@freeways.org.ukCall 01225 830416Text 07879423791
URL:https://baneslibraries.co.uk/event/freeways-floating-support-service-drop-in-13/
LOCATION:Keynsham Library & Information Service\, Market Walk\, Keynsham\, BS31 1FS\, Keynsham\, BS31 1FS\, GB
CATEGORIES:Events,Keynsham Library,Partner Events,Support Services,Young Adult's Events
ATTACH;FMTTYPE=image/png:https://baneslibraries.co.uk/wp-content/uploads/2026/01/64308_image.png
END:VEVENT
BEGIN:VEVENT
DTSTART;TZID=Europe/London:20260730T090000
DTEND;TZID=Europe/London:20260730T163000
DTSTAMP:20260425T173204
CREATED:20250923T154737Z
LAST-MODIFIED:20250923T154748Z
UID:57849-1785402000-1785429000@baneslibraries.co.uk
SUMMARY:Private Rented Advice Drop In
DESCRIPTION:Are you looking for a private rented home?Our Private Rented Officer will be available to offer guidance on how to find a home in the private rented sector\, including advice on relationship building with landlords and letting agents. Contact 01225 396296.  Closed 12.30 – 1.30pm.
URL:https://baneslibraries.co.uk/event/private-rented-advice-drop-in-31/
LOCATION:Keynsham Library & Information Service\, Market Walk\, Keynsham\, BS31 1FS\, Keynsham\, BS31 1FS\, GB
CATEGORIES:Adult's Events,Events,Keynsham Library,Partner Events,Support Services
ATTACH;FMTTYPE=image/png:https://baneslibraries.co.uk/wp-content/uploads/2025/09/57760_image.png
END:VEVENT
BEGIN:VEVENT
DTSTART;TZID=Europe/London:20260730T093000
DTEND;TZID=Europe/London:20260730T123000
DTSTAMP:20260425T173204
CREATED:20250917T152733Z
LAST-MODIFIED:20260402T085501Z
UID:56350-1785403800-1785414600@baneslibraries.co.uk
SUMMARY:HomeSearch Drop In
DESCRIPTION:Homesearch is the register for social rent homes and low cost home ownership in Bath & North East Somerset.\n\n\nFind out more at: homesearchbathnes.org.uk
URL:https://baneslibraries.co.uk/event/homesearch-drop-in-38/
LOCATION:Keynsham Library & Information Service\, Market Walk\, Keynsham\, BS31 1FS\, Keynsham\, BS31 1FS\, GB
CATEGORIES:Adult's Events,Events,Keynsham Library,Partner Events,Support Services
ATTACH;FMTTYPE=image/png:https://baneslibraries.co.uk/wp-content/uploads/2025/09/56263_image.png
END:VEVENT
BEGIN:VEVENT
DTSTART;TZID=Europe/London:20260730T103000
DTEND;TZID=Europe/London:20260730T110000
DTSTAMP:20260425T173204
CREATED:20251014T163012Z
LAST-MODIFIED:20251014T163014Z
UID:61616-1785407400-1785409200@baneslibraries.co.uk
SUMMARY:Keynsham Storytime
DESCRIPTION:Join us for a Storytime session at Keynsham Library!This is a drop in event. Free\, drop in Storytime session at Keynsham Library. Suitable for parents and carers with children aged 0 – 5 years. Term time only. No booking required.
URL:https://baneslibraries.co.uk/event/keynsham-storytime-28/
LOCATION:Keynsham Library & Information Service\, Market Walk\, Keynsham\, BS31 1FS\, Keynsham\, BS31 1FS\, GB
CATEGORIES:Adult's Events,Children's Events,Events,Keynsham Library,Library Events
ATTACH;FMTTYPE=image/png:https://baneslibraries.co.uk/wp-content/uploads/2025/06/54582_image.png
END:VEVENT
BEGIN:VEVENT
DTSTART;TZID=Europe/London:20260730T130000
DTEND;TZID=Europe/London:20260730T163000
DTSTAMP:20260425T173204
CREATED:20250923T160941Z
LAST-MODIFIED:20250923T160953Z
UID:58037-1785416400-1785429000@baneslibraries.co.uk
SUMMARY:Everyone Health - Stop Smoking Clinic
DESCRIPTION:Want to quit smoking? It doesn’t have to be a dragYour local Bath & North East Somerset Stop Smoking service offers FREE support to local people who are thinking of and wanting to take positive steps towards stopping smoking. No matter how long you’ve smoked\, quitting benefits your health right away. In just a few days\, your sense of taste and smell will get better. Your lungs will start to clear\, so breathing feels easier. You’ll also keep your loved ones safe from second-hand smoke and save money.  Find out more: https://banes.everyonehealth.co.uk/services/stop-smoking-service/
URL:https://baneslibraries.co.uk/event/everyone-health-stop-smoking-clinic-39/
LOCATION:Keynsham Library & Information Service\, Market Walk\, Keynsham\, BS31 1FS\, Keynsham\, BS31 1FS\, GB
CATEGORIES:Adult's Events,Events,Keynsham Library,Partner Events,Support Services
ATTACH;FMTTYPE=image/png:https://baneslibraries.co.uk/wp-content/uploads/2025/06/54646_image.png
END:VEVENT
BEGIN:VEVENT
DTSTART;TZID=Europe/London:20260730T140000
DTEND;TZID=Europe/London:20260730T160000
DTSTAMP:20260425T173204
CREATED:20250923T152356Z
LAST-MODIFIED:20250923T152400Z
UID:57655-1785420000-1785427200@baneslibraries.co.uk
SUMMARY:Lace Making Group
DESCRIPTION:Drop in group for all ages.
URL:https://baneslibraries.co.uk/event/lace-making-group-47/
LOCATION:Keynsham Library & Information Service\, Market Walk\, Keynsham\, BS31 1FS\, Keynsham\, BS31 1FS\, GB
CATEGORIES:Adult's Events,Events,Keynsham Library,Partner Events
ATTACH;FMTTYPE=image/png:https://baneslibraries.co.uk/wp-content/uploads/2025/09/57567_image.png
END:VEVENT
BEGIN:VEVENT
DTSTART;TZID=Europe/London:20260731T140000
DTEND;TZID=Europe/London:20260731T150000
DTSTAMP:20260425T173204
CREATED:20260420T141747Z
LAST-MODIFIED:20260420T141749Z
UID:69313-1785506400-1785510000@baneslibraries.co.uk
SUMMARY:Friendship Fridays at Midsomer Norton Library
DESCRIPTION:Drop-in to our relaxed social group for adults. Have a go at a wordsearch\, crossword or a board game over a cuppa and a chat.THIS IS A DROP-IN SOCIAL GROUP\, no tickets required. Drop-in to our relaxed social group for adults. Have a go at a wordsearch\, crossword or a board game over a cuppa and a chat. Every Friday 2 – 3pm.
URL:https://baneslibraries.co.uk/event/friendship-fridays-at-midsomer-norton-library-16/
LOCATION:Library & Information Service\, High Street\, Midsomer Norton\, BA3 2DP\, Midsomer Norton\, BA3 2DP\, GB
CATEGORIES:Adult's Events,Events,Keynsham Library,Library Events
ATTACH;FMTTYPE=image/png:https://baneslibraries.co.uk/wp-content/uploads/2025/06/54225_image.png
END:VEVENT
BEGIN:VEVENT
DTSTART;TZID=Europe/London:20260801T123000
DTEND;TZID=Europe/London:20260801T160000
DTSTAMP:20260425T173204
CREATED:20260217T170838Z
LAST-MODIFIED:20260217T170840Z
UID:65841-1785587400-1785600000@baneslibraries.co.uk
SUMMARY:Board Game Saturdays at Keynsham Library
DESCRIPTION:Do you love to play boardgames? This is the perfect event for you!T﻿his is a drop in event. J﻿oin us for an afternoon of fun for all the family! We have a great selection of boardgames\, suitable for all ages.
URL:https://baneslibraries.co.uk/event/board-game-saturdays-at-keynsham-library-26/
LOCATION:Keynsham Library & Information Service\, Market Walk\, Keynsham\, BS31 1FS\, Keynsham\, BS31 1FS\, GB
CATEGORIES:Adult's Events,Children's Events,Events,Keynsham Library,Library Events,Young Adult's Events
ATTACH;FMTTYPE=image/png:https://baneslibraries.co.uk/wp-content/uploads/2026/02/65793_image.png
END:VEVENT
BEGIN:VEVENT
DTSTART;TZID=Europe/London:20260805T140000
DTEND;TZID=Europe/London:20260805T160000
DTSTAMP:20260425T173204
CREATED:20260306T165109Z
LAST-MODIFIED:20260306T165111Z
UID:66541-1785938400-1785945600@baneslibraries.co.uk
SUMMARY:Click Cafe at Keynsham Library
DESCRIPTION:Supporting older people aged 55+  in Keynsham to get online – staying in touch\, involved and independent.No matter your level\, Age Uk Bath and North East Somerset is here to help\, with 1-1 sessions so you can learn at your own pace\, quick fix troubleshooting sessions\, and even a free device loan scheme (with data!).  To find out more or to book your spot\, contact us: digital@ageukbanes.co.uk 07552 744 025 or 07552 774 914
URL:https://baneslibraries.co.uk/event/click-cafe-at-keynsham-library-3/
LOCATION:Keynsham Library & Information Service\, Market Walk\, Keynsham\, BS31 1FS\, Keynsham\, BS31 1FS\, GB
CATEGORIES:Adult's Events,Events,Keynsham Library,Partner Events,Support Services
ATTACH;FMTTYPE=image/png:https://baneslibraries.co.uk/wp-content/uploads/2026/03/66532_image.png
END:VEVENT
BEGIN:VEVENT
DTSTART;TZID=Europe/London:20260806T090000
DTEND;TZID=Europe/London:20260806T163000
DTSTAMP:20260425T173204
CREATED:20250923T154734Z
LAST-MODIFIED:20250923T154755Z
UID:57851-1786006800-1786033800@baneslibraries.co.uk
SUMMARY:Private Rented Advice Drop In
DESCRIPTION:Are you looking for a private rented home?Our Private Rented Officer will be available to offer guidance on how to find a home in the private rented sector\, including advice on relationship building with landlords and letting agents. Contact 01225 396296.  Closed 12.30 – 1.30pm.
URL:https://baneslibraries.co.uk/event/private-rented-advice-drop-in-30/
LOCATION:Keynsham Library & Information Service\, Market Walk\, Keynsham\, BS31 1FS\, Keynsham\, BS31 1FS\, GB
CATEGORIES:Adult's Events,Events,Keynsham Library,Partner Events,Support Services
ATTACH;FMTTYPE=image/png:https://baneslibraries.co.uk/wp-content/uploads/2025/09/57760_image.png
END:VEVENT
BEGIN:VEVENT
DTSTART;TZID=Europe/London:20260806T093000
DTEND;TZID=Europe/London:20260806T123000
DTSTAMP:20260425T173204
CREATED:20250917T152800Z
LAST-MODIFIED:20260402T085503Z
UID:56352-1786008600-1786019400@baneslibraries.co.uk
SUMMARY:HomeSearch Drop In
DESCRIPTION:Homesearch is the register for social rent homes and low cost home ownership in Bath & North East Somerset.\n\n\nFind out more at: homesearchbathnes.org.uk
URL:https://baneslibraries.co.uk/event/homesearch-drop-in-49/
LOCATION:Keynsham Library & Information Service\, Market Walk\, Keynsham\, BS31 1FS\, Keynsham\, BS31 1FS\, GB
CATEGORIES:Adult's Events,Events,Keynsham Library,Partner Events,Support Services
ATTACH;FMTTYPE=image/png:https://baneslibraries.co.uk/wp-content/uploads/2025/09/56263_image.png
END:VEVENT
BEGIN:VEVENT
DTSTART;TZID=Europe/London:20260806T130000
DTEND;TZID=Europe/London:20260806T163000
DTSTAMP:20260425T173204
CREATED:20250923T160958Z
LAST-MODIFIED:20250923T161005Z
UID:58039-1786021200-1786033800@baneslibraries.co.uk
SUMMARY:Everyone Health - Stop Smoking Clinic
DESCRIPTION:Want to quit smoking? It doesn’t have to be a dragYour local Bath & North East Somerset Stop Smoking service offers FREE support to local people who are thinking of and wanting to take positive steps towards stopping smoking. No matter how long you’ve smoked\, quitting benefits your health right away. In just a few days\, your sense of taste and smell will get better. Your lungs will start to clear\, so breathing feels easier. You’ll also keep your loved ones safe from second-hand smoke and save money.  Find out more: https://banes.everyonehealth.co.uk/services/stop-smoking-service/
URL:https://baneslibraries.co.uk/event/everyone-health-stop-smoking-clinic-48/
LOCATION:Keynsham Library & Information Service\, Market Walk\, Keynsham\, BS31 1FS\, Keynsham\, BS31 1FS\, GB
CATEGORIES:Adult's Events,Events,Keynsham Library,Partner Events,Support Services
ATTACH;FMTTYPE=image/png:https://baneslibraries.co.uk/wp-content/uploads/2025/06/54646_image.png
END:VEVENT
BEGIN:VEVENT
DTSTART;TZID=Europe/London:20260806T140000
DTEND;TZID=Europe/London:20260806T160000
DTSTAMP:20260425T173204
CREATED:20250923T152354Z
LAST-MODIFIED:20250923T152359Z
UID:57657-1786024800-1786032000@baneslibraries.co.uk
SUMMARY:Lace Making Group
DESCRIPTION:Drop in group for all ages.
URL:https://baneslibraries.co.uk/event/lace-making-group-45/
LOCATION:Keynsham Library & Information Service\, Market Walk\, Keynsham\, BS31 1FS\, Keynsham\, BS31 1FS\, GB
CATEGORIES:Adult's Events,Events,Keynsham Library,Partner Events
ATTACH;FMTTYPE=image/png:https://baneslibraries.co.uk/wp-content/uploads/2025/09/57567_image.png
END:VEVENT
BEGIN:VEVENT
DTSTART;TZID=Europe/London:20260807T140000
DTEND;TZID=Europe/London:20260807T150000
DTSTAMP:20260425T173204
CREATED:20260416T162202Z
LAST-MODIFIED:20260416T162203Z
UID:69102-1786111200-1786114800@baneslibraries.co.uk
SUMMARY:The Page Turners
DESCRIPTION:Join us for a shared reading group for adults at Keynsham Library.Come and enjoy listening to a variety of extracts from a range of reading material. No obligation to join in or contribute. Just sit back and enjoy the stories. Free Tea & Coffee available. We meet monthly.
URL:https://baneslibraries.co.uk/event/the-page-turners-6/
LOCATION:Keynsham Library & Information Service\, Market Walk\, Keynsham\, BS31 1FS\, Keynsham\, BS31 1FS\, GB
CATEGORIES:Adult's Events,Book Groups,Events,Keynsham Library,Library Events
ATTACH;FMTTYPE=image/jpeg:https://baneslibraries.co.uk/wp-content/uploads/2025/06/54434_image.jpg
END:VEVENT
BEGIN:VEVENT
DTSTART;TZID=Europe/London:20260807T140000
DTEND;TZID=Europe/London:20260807T150000
DTSTAMP:20260425T173204
CREATED:20260420T141744Z
LAST-MODIFIED:20260420T141746Z
UID:69316-1786111200-1786114800@baneslibraries.co.uk
SUMMARY:Friendship Fridays at Midsomer Norton Library
DESCRIPTION:Drop-in to our relaxed social group for adults. Have a go at a wordsearch\, crossword or a board game over a cuppa and a chat.THIS IS A DROP-IN SOCIAL GROUP\, no tickets required. Drop-in to our relaxed social group for adults. Have a go at a wordsearch\, crossword or a board game over a cuppa and a chat. Every Friday 2 – 3pm.
URL:https://baneslibraries.co.uk/event/friendship-fridays-at-midsomer-norton-library-15/
LOCATION:Library & Information Service\, High Street\, Midsomer Norton\, BA3 2DP\, Midsomer Norton\, BA3 2DP\, GB
CATEGORIES:Adult's Events,Events,Keynsham Library,Library Events
ATTACH;FMTTYPE=image/png:https://baneslibraries.co.uk/wp-content/uploads/2025/06/54225_image.png
END:VEVENT
BEGIN:VEVENT
DTSTART;TZID=Europe/London:20260808T123000
DTEND;TZID=Europe/London:20260808T160000
DTSTAMP:20260425T173204
CREATED:20260217T170835Z
LAST-MODIFIED:20260217T170836Z
UID:65843-1786192200-1786204800@baneslibraries.co.uk
SUMMARY:Board Game Saturdays at Keynsham Library
DESCRIPTION:Do you love to play boardgames? This is the perfect event for you!T﻿his is a drop in event. J﻿oin us for an afternoon of fun for all the family! We have a great selection of boardgames\, suitable for all ages.
URL:https://baneslibraries.co.uk/event/board-game-saturdays-at-keynsham-library-25/
LOCATION:Keynsham Library & Information Service\, Market Walk\, Keynsham\, BS31 1FS\, Keynsham\, BS31 1FS\, GB
CATEGORIES:Adult's Events,Children's Events,Events,Keynsham Library,Library Events,Young Adult's Events
ATTACH;FMTTYPE=image/png:https://baneslibraries.co.uk/wp-content/uploads/2026/02/65793_image.png
END:VEVENT
BEGIN:VEVENT
DTSTART;TZID=Europe/London:20260813T090000
DTEND;TZID=Europe/London:20260813T163000
DTSTAMP:20260425T173204
CREATED:20250923T154743Z
LAST-MODIFIED:20250923T154755Z
UID:57853-1786611600-1786638600@baneslibraries.co.uk
SUMMARY:Private Rented Advice Drop In
DESCRIPTION:Are you looking for a private rented home?Our Private Rented Officer will be available to offer guidance on how to find a home in the private rented sector\, including advice on relationship building with landlords and letting agents. Contact 01225 396296.  Closed 12.30 – 1.30pm.
URL:https://baneslibraries.co.uk/event/private-rented-advice-drop-in-34/
LOCATION:Keynsham Library & Information Service\, Market Walk\, Keynsham\, BS31 1FS\, Keynsham\, BS31 1FS\, GB
CATEGORIES:Adult's Events,Events,Keynsham Library,Partner Events,Support Services
ATTACH;FMTTYPE=image/png:https://baneslibraries.co.uk/wp-content/uploads/2025/09/57760_image.png
END:VEVENT
BEGIN:VEVENT
DTSTART;TZID=Europe/London:20260813T093000
DTEND;TZID=Europe/London:20260813T123000
DTSTAMP:20260425T173204
CREATED:20250917T152800Z
LAST-MODIFIED:20260402T085505Z
UID:56354-1786613400-1786624200@baneslibraries.co.uk
SUMMARY:HomeSearch Drop In
DESCRIPTION:Homesearch is the register for social rent homes and low cost home ownership in Bath & North East Somerset.\n\n\nFind out more at: homesearchbathnes.org.uk
URL:https://baneslibraries.co.uk/event/homesearch-drop-in-50/
LOCATION:Keynsham Library & Information Service\, Market Walk\, Keynsham\, BS31 1FS\, Keynsham\, BS31 1FS\, GB
CATEGORIES:Adult's Events,Events,Keynsham Library,Partner Events,Support Services
ATTACH;FMTTYPE=image/png:https://baneslibraries.co.uk/wp-content/uploads/2025/09/56263_image.png
END:VEVENT
BEGIN:VEVENT
DTSTART;TZID=Europe/London:20260813T130000
DTEND;TZID=Europe/London:20260813T163000
DTSTAMP:20260425T173204
CREATED:20250923T160957Z
LAST-MODIFIED:20250923T161004Z
UID:58041-1786626000-1786638600@baneslibraries.co.uk
SUMMARY:Everyone Health - Stop Smoking Clinic
DESCRIPTION:Want to quit smoking? It doesn’t have to be a dragYour local Bath & North East Somerset Stop Smoking service offers FREE support to local people who are thinking of and wanting to take positive steps towards stopping smoking. No matter how long you’ve smoked\, quitting benefits your health right away. In just a few days\, your sense of taste and smell will get better. Your lungs will start to clear\, so breathing feels easier. You’ll also keep your loved ones safe from second-hand smoke and save money.  Find out more: https://banes.everyonehealth.co.uk/services/stop-smoking-service/
URL:https://baneslibraries.co.uk/event/everyone-health-stop-smoking-clinic-47/
LOCATION:Keynsham Library & Information Service\, Market Walk\, Keynsham\, BS31 1FS\, Keynsham\, BS31 1FS\, GB
CATEGORIES:Adult's Events,Events,Keynsham Library,Partner Events,Support Services
ATTACH;FMTTYPE=image/png:https://baneslibraries.co.uk/wp-content/uploads/2025/06/54646_image.png
END:VEVENT
BEGIN:VEVENT
DTSTART;TZID=Europe/London:20260813T140000
DTEND;TZID=Europe/London:20260813T160000
DTSTAMP:20260425T173204
CREATED:20250923T152351Z
LAST-MODIFIED:20250923T152359Z
UID:57659-1786629600-1786636800@baneslibraries.co.uk
SUMMARY:Lace Making Group
DESCRIPTION:Drop in group for all ages.
URL:https://baneslibraries.co.uk/event/lace-making-group-44/
LOCATION:Keynsham Library & Information Service\, Market Walk\, Keynsham\, BS31 1FS\, Keynsham\, BS31 1FS\, GB
CATEGORIES:Adult's Events,Events,Keynsham Library,Partner Events
ATTACH;FMTTYPE=image/png:https://baneslibraries.co.uk/wp-content/uploads/2025/09/57567_image.png
END:VEVENT
BEGIN:VEVENT
DTSTART;TZID=Europe/London:20260814T140000
DTEND;TZID=Europe/London:20260814T150000
DTSTAMP:20260425T173204
CREATED:20260420T141742Z
LAST-MODIFIED:20260420T141744Z
UID:69318-1786716000-1786719600@baneslibraries.co.uk
SUMMARY:Friendship Fridays at Midsomer Norton Library
DESCRIPTION:Drop-in to our relaxed social group for adults. Have a go at a wordsearch\, crossword or a board game over a cuppa and a chat.THIS IS A DROP-IN SOCIAL GROUP\, no tickets required. Drop-in to our relaxed social group for adults. Have a go at a wordsearch\, crossword or a board game over a cuppa and a chat. Every Friday 2 – 3pm.
URL:https://baneslibraries.co.uk/event/friendship-fridays-at-midsomer-norton-library-14/
LOCATION:Library & Information Service\, High Street\, Midsomer Norton\, BA3 2DP\, Midsomer Norton\, BA3 2DP\, GB
CATEGORIES:Adult's Events,Events,Keynsham Library,Library Events
ATTACH;FMTTYPE=image/png:https://baneslibraries.co.uk/wp-content/uploads/2025/06/54225_image.png
END:VEVENT
END:VCALENDAR