BEGIN:VCALENDAR
VERSION:2.0
PRODID:-//BaNES Virtual Library - ECPv6.15.20//NONSGML v1.0//EN
CALSCALE:GREGORIAN
METHOD:PUBLISH
X-ORIGINAL-URL:https://baneslibraries.co.uk
X-WR-CALDESC:Events for BaNES Virtual Library
REFRESH-INTERVAL;VALUE=DURATION:PT1H
X-Robots-Tag:noindex
X-PUBLISHED-TTL:PT1H
BEGIN:VTIMEZONE
TZID:Europe/London
BEGIN:DAYLIGHT
TZOFFSETFROM:+0000
TZOFFSETTO:+0100
TZNAME:BST
DTSTART:20250330T010000
END:DAYLIGHT
BEGIN:STANDARD
TZOFFSETFROM:+0100
TZOFFSETTO:+0000
TZNAME:GMT
DTSTART:20251026T010000
END:STANDARD
BEGIN:DAYLIGHT
TZOFFSETFROM:+0000
TZOFFSETTO:+0100
TZNAME:BST
DTSTART:20260329T010000
END:DAYLIGHT
BEGIN:STANDARD
TZOFFSETFROM:+0100
TZOFFSETTO:+0000
TZNAME:GMT
DTSTART:20261025T010000
END:STANDARD
BEGIN:DAYLIGHT
TZOFFSETFROM:+0000
TZOFFSETTO:+0100
TZNAME:BST
DTSTART:20270328T010000
END:DAYLIGHT
BEGIN:STANDARD
TZOFFSETFROM:+0100
TZOFFSETTO:+0000
TZNAME:GMT
DTSTART:20271031T010000
END:STANDARD
END:VTIMEZONE
BEGIN:VEVENT
DTSTART;TZID=Europe/London:20260515T140000
DTEND;TZID=Europe/London:20260515T160000
DTSTAMP:20260424T092831
CREATED:20260204T152224Z
LAST-MODIFIED:20260204T152226Z
UID:65351-1778853600-1778860800@baneslibraries.co.uk
SUMMARY:Sight Support West Drop In
DESCRIPTION:Worried about your vision? Get support with your sight.Visit the Sight Support website or call 01225 477277 and choose Option 2.  Appointments 1.00pm – 2.00pm & 3.00pm – 4.00pm Drop in for advice 2.00pm – 3.00pm Social group 2.00pm – 4.00pm
URL:https://baneslibraries.co.uk/event/sight-support-west-drop-in-7/
LOCATION:Keynsham Library & Information Service\, Market Walk\, Keynsham\, BS31 1FS\, Keynsham\, BS31 1FS\, GB
CATEGORIES:Adult's Events,Events,Keynsham Library,Partner Events,Support Services
ATTACH;FMTTYPE=image/png:https://baneslibraries.co.uk/wp-content/uploads/2026/02/65344_image.png
END:VEVENT
BEGIN:VEVENT
DTSTART;TZID=Europe/London:20260619T140000
DTEND;TZID=Europe/London:20260619T160000
DTSTAMP:20260424T092831
CREATED:20260204T152222Z
LAST-MODIFIED:20260204T152224Z
UID:65353-1781877600-1781884800@baneslibraries.co.uk
SUMMARY:Sight Support West Drop In
DESCRIPTION:Worried about your vision? Get support with your sight.Visit the Sight Support website or call 01225 477277 and choose Option 2.  Appointments 1.00pm – 2.00pm & 3.00pm – 4.00pm Drop in for advice 2.00pm – 3.00pm Social group 2.00pm – 4.00pm
URL:https://baneslibraries.co.uk/event/sight-support-west-drop-in-6/
LOCATION:Keynsham Library & Information Service\, Market Walk\, Keynsham\, BS31 1FS\, Keynsham\, BS31 1FS\, GB
CATEGORIES:Adult's Events,Events,Keynsham Library,Partner Events,Support Services
ATTACH;FMTTYPE=image/png:https://baneslibraries.co.uk/wp-content/uploads/2026/02/65344_image.png
END:VEVENT
BEGIN:VEVENT
DTSTART;TZID=Europe/London:20260717T140000
DTEND;TZID=Europe/London:20260717T160000
DTSTAMP:20260424T092831
CREATED:20260204T152220Z
LAST-MODIFIED:20260204T152222Z
UID:65355-1784296800-1784304000@baneslibraries.co.uk
SUMMARY:Sight Support West Drop In
DESCRIPTION:Worried about your vision? Get support with your sight.Visit the Sight Support website or call 01225 477277 and choose Option 2.  Appointments 1.00pm – 2.00pm & 3.00pm – 4.00pm Drop in for advice 2.00pm – 3.00pm Social group 2.00pm – 4.00pm
URL:https://baneslibraries.co.uk/event/sight-support-west-drop-in-5/
LOCATION:Keynsham Library & Information Service\, Market Walk\, Keynsham\, BS31 1FS\, Keynsham\, BS31 1FS\, GB
CATEGORIES:Adult's Events,Events,Keynsham Library,Partner Events,Support Services
ATTACH;FMTTYPE=image/png:https://baneslibraries.co.uk/wp-content/uploads/2026/02/65344_image.png
END:VEVENT
BEGIN:VEVENT
DTSTART;TZID=Europe/London:20260821T140000
DTEND;TZID=Europe/London:20260821T160000
DTSTAMP:20260424T092831
CREATED:20260204T152218Z
LAST-MODIFIED:20260204T152220Z
UID:65357-1787320800-1787328000@baneslibraries.co.uk
SUMMARY:Sight Support West Drop In
DESCRIPTION:Worried about your vision? Get support with your sight.Visit the Sight Support website or call 01225 477277 and choose Option 2.  Appointments 1.00pm – 2.00pm & 3.00pm – 4.00pm Drop in for advice 2.00pm – 3.00pm Social group 2.00pm – 4.00pm
URL:https://baneslibraries.co.uk/event/sight-support-west-drop-in-4/
LOCATION:Keynsham Library & Information Service\, Market Walk\, Keynsham\, BS31 1FS\, Keynsham\, BS31 1FS\, GB
CATEGORIES:Adult's Events,Events,Keynsham Library,Partner Events,Support Services
ATTACH;FMTTYPE=image/png:https://baneslibraries.co.uk/wp-content/uploads/2026/02/65344_image.png
END:VEVENT
BEGIN:VEVENT
DTSTART;TZID=Europe/London:20260918T140000
DTEND;TZID=Europe/London:20260918T160000
DTSTAMP:20260424T092831
CREATED:20260204T152216Z
LAST-MODIFIED:20260204T152218Z
UID:65359-1789740000-1789747200@baneslibraries.co.uk
SUMMARY:Sight Support West Drop In
DESCRIPTION:Worried about your vision? Get support with your sight.Visit the Sight Support website or call 01225 477277 and choose Option 2.  Appointments 1.00pm – 2.00pm & 3.00pm – 4.00pm Drop in for advice 2.00pm – 3.00pm Social group 2.00pm – 4.00pm
URL:https://baneslibraries.co.uk/event/sight-support-west-drop-in-3/
LOCATION:Keynsham Library & Information Service\, Market Walk\, Keynsham\, BS31 1FS\, Keynsham\, BS31 1FS\, GB
CATEGORIES:Adult's Events,Events,Keynsham Library,Partner Events,Support Services
ATTACH;FMTTYPE=image/png:https://baneslibraries.co.uk/wp-content/uploads/2026/02/65344_image.png
END:VEVENT
BEGIN:VEVENT
DTSTART;TZID=Europe/London:20261016T140000
DTEND;TZID=Europe/London:20261016T160000
DTSTAMP:20260424T092831
CREATED:20260204T152230Z
LAST-MODIFIED:20260204T152231Z
UID:65361-1792159200-1792166400@baneslibraries.co.uk
SUMMARY:Sight Support West Drop In
DESCRIPTION:Worried about your vision? Get support with your sight.Visit the Sight Support website or call 01225 477277 and choose Option 2.  Appointments 1.00pm – 2.00pm & 3.00pm – 4.00pm Drop in for advice 2.00pm – 3.00pm Social group 2.00pm – 4.00pm
URL:https://baneslibraries.co.uk/event/sight-support-west-drop-in-12/
LOCATION:Keynsham Library & Information Service\, Market Walk\, Keynsham\, BS31 1FS\, Keynsham\, BS31 1FS\, GB
CATEGORIES:Adult's Events,Events,Keynsham Library,Partner Events,Support Services
ATTACH;FMTTYPE=image/png:https://baneslibraries.co.uk/wp-content/uploads/2026/02/65344_image.png
END:VEVENT
BEGIN:VEVENT
DTSTART;TZID=Europe/London:20261120T140000
DTEND;TZID=Europe/London:20261120T160000
DTSTAMP:20260424T092831
CREATED:20260204T152228Z
LAST-MODIFIED:20260204T152230Z
UID:65363-1795183200-1795190400@baneslibraries.co.uk
SUMMARY:Sight Support West Drop In
DESCRIPTION:Worried about your vision? Get support with your sight.Visit the Sight Support website or call 01225 477277 and choose Option 2.  Appointments 1.00pm – 2.00pm & 3.00pm – 4.00pm Drop in for advice 2.00pm – 3.00pm Social group 2.00pm – 4.00pm
URL:https://baneslibraries.co.uk/event/sight-support-west-drop-in-9/
LOCATION:Keynsham Library & Information Service\, Market Walk\, Keynsham\, BS31 1FS\, Keynsham\, BS31 1FS\, GB
CATEGORIES:Adult's Events,Events,Keynsham Library,Partner Events,Support Services
ATTACH;FMTTYPE=image/png:https://baneslibraries.co.uk/wp-content/uploads/2026/02/65344_image.png
END:VEVENT
END:VCALENDAR