BEGIN:VCALENDAR
VERSION:2.0
PRODID:-//BaNES Virtual Library - ECPv6.15.20//NONSGML v1.0//EN
CALSCALE:GREGORIAN
METHOD:PUBLISH
X-WR-CALNAME:BaNES Virtual Library
X-ORIGINAL-URL:https://baneslibraries.co.uk
X-WR-CALDESC:Events for BaNES Virtual Library
REFRESH-INTERVAL;VALUE=DURATION:PT1H
X-Robots-Tag:noindex
X-PUBLISHED-TTL:PT1H
BEGIN:VTIMEZONE
TZID:Europe/London
BEGIN:DAYLIGHT
TZOFFSETFROM:+0000
TZOFFSETTO:+0100
TZNAME:BST
DTSTART:20250330T010000
END:DAYLIGHT
BEGIN:STANDARD
TZOFFSETFROM:+0100
TZOFFSETTO:+0000
TZNAME:GMT
DTSTART:20251026T010000
END:STANDARD
BEGIN:DAYLIGHT
TZOFFSETFROM:+0000
TZOFFSETTO:+0100
TZNAME:BST
DTSTART:20260329T010000
END:DAYLIGHT
BEGIN:STANDARD
TZOFFSETFROM:+0100
TZOFFSETTO:+0000
TZNAME:GMT
DTSTART:20261025T010000
END:STANDARD
BEGIN:DAYLIGHT
TZOFFSETFROM:+0000
TZOFFSETTO:+0100
TZNAME:BST
DTSTART:20270328T010000
END:DAYLIGHT
BEGIN:STANDARD
TZOFFSETFROM:+0100
TZOFFSETTO:+0000
TZNAME:GMT
DTSTART:20271031T010000
END:STANDARD
END:VTIMEZONE
BEGIN:VEVENT
DTSTART;TZID=Europe/London:20260427T093000
DTEND;TZID=Europe/London:20260427T130000
DTSTAMP:20260422T154646
CREATED:20251016T142914Z
LAST-MODIFIED:20251016T142916Z
UID:61756-1777282200-1777294800@baneslibraries.co.uk
SUMMARY:Citizens Advice Drop In
DESCRIPTION:Help with money\, legal\, and consumer problems.
URL:https://baneslibraries.co.uk/event/citizens-advice-drop-in-74/
LOCATION:Keynsham Library & Information Service\, Market Walk\, Keynsham\, BS31 1FS\, Keynsham\, BS31 1FS\, GB
CATEGORIES:Adult's Events,Events,Keynsham Library,Partner Events,Support Services
ATTACH;FMTTYPE=image/png:https://baneslibraries.co.uk/wp-content/uploads/2025/10/61700_image.png
END:VEVENT
BEGIN:VEVENT
DTSTART;TZID=Europe/London:20260504T093000
DTEND;TZID=Europe/London:20260504T130000
DTSTAMP:20260422T154646
CREATED:20251016T142935Z
LAST-MODIFIED:20251016T142937Z
UID:61758-1777887000-1777899600@baneslibraries.co.uk
SUMMARY:Citizens Advice Drop In
DESCRIPTION:Help with money\, legal\, and consumer problems.
URL:https://baneslibraries.co.uk/event/citizens-advice-drop-in-86/
LOCATION:Keynsham Library & Information Service\, Market Walk\, Keynsham\, BS31 1FS\, Keynsham\, BS31 1FS\, GB
CATEGORIES:Adult's Events,Events,Keynsham Library,Partner Events,Support Services
ATTACH;FMTTYPE=image/png:https://baneslibraries.co.uk/wp-content/uploads/2025/10/61700_image.png
END:VEVENT
BEGIN:VEVENT
DTSTART;TZID=Europe/London:20260511T093000
DTEND;TZID=Europe/London:20260511T130000
DTSTAMP:20260422T154646
CREATED:20251016T142933Z
LAST-MODIFIED:20251016T142935Z
UID:61760-1778491800-1778504400@baneslibraries.co.uk
SUMMARY:Citizens Advice Drop In
DESCRIPTION:Help with money\, legal\, and consumer problems.
URL:https://baneslibraries.co.uk/event/citizens-advice-drop-in-84/
LOCATION:Keynsham Library & Information Service\, Market Walk\, Keynsham\, BS31 1FS\, Keynsham\, BS31 1FS\, GB
CATEGORIES:Adult's Events,Events,Keynsham Library,Partner Events,Support Services
ATTACH;FMTTYPE=image/png:https://baneslibraries.co.uk/wp-content/uploads/2025/10/61700_image.png
END:VEVENT
BEGIN:VEVENT
DTSTART;TZID=Europe/London:20260518T093000
DTEND;TZID=Europe/London:20260518T130000
DTSTAMP:20260422T154646
CREATED:20251016T142930Z
LAST-MODIFIED:20251016T142931Z
UID:61762-1779096600-1779109200@baneslibraries.co.uk
SUMMARY:Citizens Advice Drop In
DESCRIPTION:Help with money\, legal\, and consumer problems.
URL:https://baneslibraries.co.uk/event/citizens-advice-drop-in-81/
LOCATION:Keynsham Library & Information Service\, Market Walk\, Keynsham\, BS31 1FS\, Keynsham\, BS31 1FS\, GB
CATEGORIES:Adult's Events,Events,Keynsham Library,Partner Events,Support Services
ATTACH;FMTTYPE=image/png:https://baneslibraries.co.uk/wp-content/uploads/2025/10/61700_image.png
END:VEVENT
BEGIN:VEVENT
DTSTART;TZID=Europe/London:20260525T093000
DTEND;TZID=Europe/London:20260525T130000
DTSTAMP:20260422T154646
CREATED:20251016T142927Z
LAST-MODIFIED:20251016T142929Z
UID:61764-1779701400-1779714000@baneslibraries.co.uk
SUMMARY:Citizens Advice Drop In
DESCRIPTION:Help with money\, legal\, and consumer problems.
URL:https://baneslibraries.co.uk/event/citizens-advice-drop-in-80/
LOCATION:Keynsham Library & Information Service\, Market Walk\, Keynsham\, BS31 1FS\, Keynsham\, BS31 1FS\, GB
CATEGORIES:Adult's Events,Events,Keynsham Library,Partner Events,Support Services
ATTACH;FMTTYPE=image/png:https://baneslibraries.co.uk/wp-content/uploads/2025/10/61700_image.png
END:VEVENT
BEGIN:VEVENT
DTSTART;TZID=Europe/London:20260601T093000
DTEND;TZID=Europe/London:20260601T130000
DTSTAMP:20260422T154646
CREATED:20251016T142925Z
LAST-MODIFIED:20251016T142927Z
UID:61766-1780306200-1780318800@baneslibraries.co.uk
SUMMARY:Citizens Advice Drop In
DESCRIPTION:Help with money\, legal\, and consumer problems.
URL:https://baneslibraries.co.uk/event/citizens-advice-drop-in-79/
LOCATION:Keynsham Library & Information Service\, Market Walk\, Keynsham\, BS31 1FS\, Keynsham\, BS31 1FS\, GB
CATEGORIES:Adult's Events,Events,Keynsham Library,Partner Events,Support Services
ATTACH;FMTTYPE=image/png:https://baneslibraries.co.uk/wp-content/uploads/2025/10/61700_image.png
END:VEVENT
BEGIN:VEVENT
DTSTART;TZID=Europe/London:20260608T093000
DTEND;TZID=Europe/London:20260608T130000
DTSTAMP:20260422T154646
CREATED:20251016T142946Z
LAST-MODIFIED:20251016T142948Z
UID:61768-1780911000-1780923600@baneslibraries.co.uk
SUMMARY:Citizens Advice Drop In
DESCRIPTION:Help with money\, legal\, and consumer problems.
URL:https://baneslibraries.co.uk/event/citizens-advice-drop-in-92/
LOCATION:Keynsham Library & Information Service\, Market Walk\, Keynsham\, BS31 1FS\, Keynsham\, BS31 1FS\, GB
CATEGORIES:Adult's Events,Events,Keynsham Library,Partner Events,Support Services
ATTACH;FMTTYPE=image/png:https://baneslibraries.co.uk/wp-content/uploads/2025/10/61700_image.png
END:VEVENT
BEGIN:VEVENT
DTSTART;TZID=Europe/London:20260615T093000
DTEND;TZID=Europe/London:20260615T130000
DTSTAMP:20260422T154646
CREATED:20251016T142944Z
LAST-MODIFIED:20251016T142946Z
UID:61770-1781515800-1781528400@baneslibraries.co.uk
SUMMARY:Citizens Advice Drop In
DESCRIPTION:Help with money\, legal\, and consumer problems.
URL:https://baneslibraries.co.uk/event/citizens-advice-drop-in-91/
LOCATION:Keynsham Library & Information Service\, Market Walk\, Keynsham\, BS31 1FS\, Keynsham\, BS31 1FS\, GB
CATEGORIES:Adult's Events,Events,Keynsham Library,Partner Events,Support Services
ATTACH;FMTTYPE=image/png:https://baneslibraries.co.uk/wp-content/uploads/2025/10/61700_image.png
END:VEVENT
BEGIN:VEVENT
DTSTART;TZID=Europe/London:20260622T093000
DTEND;TZID=Europe/London:20260622T130000
DTSTAMP:20260422T154646
CREATED:20251016T142942Z
LAST-MODIFIED:20251016T142944Z
UID:61772-1782120600-1782133200@baneslibraries.co.uk
SUMMARY:Citizens Advice Drop In
DESCRIPTION:Help with money\, legal\, and consumer problems.
URL:https://baneslibraries.co.uk/event/citizens-advice-drop-in-90/
LOCATION:Keynsham Library & Information Service\, Market Walk\, Keynsham\, BS31 1FS\, Keynsham\, BS31 1FS\, GB
CATEGORIES:Adult's Events,Events,Keynsham Library,Partner Events,Support Services
ATTACH;FMTTYPE=image/png:https://baneslibraries.co.uk/wp-content/uploads/2025/10/61700_image.png
END:VEVENT
BEGIN:VEVENT
DTSTART;TZID=Europe/London:20260629T093000
DTEND;TZID=Europe/London:20260629T130000
DTSTAMP:20260422T154646
CREATED:20251016T142941Z
LAST-MODIFIED:20251016T142943Z
UID:61774-1782725400-1782738000@baneslibraries.co.uk
SUMMARY:Citizens Advice Drop In
DESCRIPTION:Help with money\, legal\, and consumer problems.
URL:https://baneslibraries.co.uk/event/citizens-advice-drop-in-89/
LOCATION:Keynsham Library & Information Service\, Market Walk\, Keynsham\, BS31 1FS\, Keynsham\, BS31 1FS\, GB
CATEGORIES:Adult's Events,Events,Keynsham Library,Partner Events,Support Services
ATTACH;FMTTYPE=image/png:https://baneslibraries.co.uk/wp-content/uploads/2025/10/61700_image.png
END:VEVENT
BEGIN:VEVENT
DTSTART;TZID=Europe/London:20260706T093000
DTEND;TZID=Europe/London:20260706T130000
DTSTAMP:20260422T154646
CREATED:20251016T142939Z
LAST-MODIFIED:20251016T142941Z
UID:61776-1783330200-1783342800@baneslibraries.co.uk
SUMMARY:Citizens Advice Drop In
DESCRIPTION:Help with money\, legal\, and consumer problems.
URL:https://baneslibraries.co.uk/event/citizens-advice-drop-in-88/
LOCATION:Keynsham Library & Information Service\, Market Walk\, Keynsham\, BS31 1FS\, Keynsham\, BS31 1FS\, GB
CATEGORIES:Adult's Events,Events,Keynsham Library,Partner Events,Support Services
ATTACH;FMTTYPE=image/png:https://baneslibraries.co.uk/wp-content/uploads/2025/10/61700_image.png
END:VEVENT
BEGIN:VEVENT
DTSTART;TZID=Europe/London:20260713T093000
DTEND;TZID=Europe/London:20260713T130000
DTSTAMP:20260422T154646
CREATED:20251016T142937Z
LAST-MODIFIED:20251016T142939Z
UID:61778-1783935000-1783947600@baneslibraries.co.uk
SUMMARY:Citizens Advice Drop In
DESCRIPTION:Help with money\, legal\, and consumer problems.
URL:https://baneslibraries.co.uk/event/citizens-advice-drop-in-87/
LOCATION:Keynsham Library & Information Service\, Market Walk\, Keynsham\, BS31 1FS\, Keynsham\, BS31 1FS\, GB
CATEGORIES:Adult's Events,Events,Keynsham Library,Partner Events,Support Services
ATTACH;FMTTYPE=image/png:https://baneslibraries.co.uk/wp-content/uploads/2025/10/61700_image.png
END:VEVENT
BEGIN:VEVENT
DTSTART;TZID=Europe/London:20260720T093000
DTEND;TZID=Europe/London:20260720T130000
DTSTAMP:20260422T154646
CREATED:20251016T142949Z
LAST-MODIFIED:20251016T142951Z
UID:61780-1784539800-1784552400@baneslibraries.co.uk
SUMMARY:Citizens Advice Drop In
DESCRIPTION:Help with money\, legal\, and consumer problems.
URL:https://baneslibraries.co.uk/event/citizens-advice-drop-in-94/
LOCATION:Keynsham Library & Information Service\, Market Walk\, Keynsham\, BS31 1FS\, Keynsham\, BS31 1FS\, GB
CATEGORIES:Adult's Events,Events,Keynsham Library,Partner Events,Support Services
ATTACH;FMTTYPE=image/png:https://baneslibraries.co.uk/wp-content/uploads/2025/10/61700_image.png
END:VEVENT
BEGIN:VEVENT
DTSTART;TZID=Europe/London:20260727T093000
DTEND;TZID=Europe/London:20260727T130000
DTSTAMP:20260422T154646
CREATED:20251016T142948Z
LAST-MODIFIED:20251016T142950Z
UID:61782-1785144600-1785157200@baneslibraries.co.uk
SUMMARY:Citizens Advice Drop In
DESCRIPTION:Help with money\, legal\, and consumer problems.
URL:https://baneslibraries.co.uk/event/citizens-advice-drop-in-93/
LOCATION:Keynsham Library & Information Service\, Market Walk\, Keynsham\, BS31 1FS\, Keynsham\, BS31 1FS\, GB
CATEGORIES:Adult's Events,Events,Keynsham Library,Partner Events,Support Services
ATTACH;FMTTYPE=image/png:https://baneslibraries.co.uk/wp-content/uploads/2025/10/61700_image.png
END:VEVENT
END:VCALENDAR