BEGIN:VCALENDAR
VERSION:2.0
PRODID:-//BaNES Virtual Library - ECPv6.15.20//NONSGML v1.0//EN
CALSCALE:GREGORIAN
METHOD:PUBLISH
X-ORIGINAL-URL:https://baneslibraries.co.uk
X-WR-CALDESC:Events for BaNES Virtual Library
REFRESH-INTERVAL;VALUE=DURATION:PT1H
X-Robots-Tag:noindex
X-PUBLISHED-TTL:PT1H
BEGIN:VTIMEZONE
TZID:Europe/London
BEGIN:DAYLIGHT
TZOFFSETFROM:+0000
TZOFFSETTO:+0100
TZNAME:BST
DTSTART:20250330T010000
END:DAYLIGHT
BEGIN:STANDARD
TZOFFSETFROM:+0100
TZOFFSETTO:+0000
TZNAME:GMT
DTSTART:20251026T010000
END:STANDARD
BEGIN:DAYLIGHT
TZOFFSETFROM:+0000
TZOFFSETTO:+0100
TZNAME:BST
DTSTART:20260329T010000
END:DAYLIGHT
BEGIN:STANDARD
TZOFFSETFROM:+0100
TZOFFSETTO:+0000
TZNAME:GMT
DTSTART:20261025T010000
END:STANDARD
BEGIN:DAYLIGHT
TZOFFSETFROM:+0000
TZOFFSETTO:+0100
TZNAME:BST
DTSTART:20270328T010000
END:DAYLIGHT
BEGIN:STANDARD
TZOFFSETFROM:+0100
TZOFFSETTO:+0000
TZNAME:GMT
DTSTART:20271031T010000
END:STANDARD
END:VTIMEZONE
BEGIN:VEVENT
DTSTART;TZID=Europe/London:20260428T093000
DTEND;TZID=Europe/London:20260428T100000
DTSTAMP:20260424T124559
CREATED:20251014T150709Z
LAST-MODIFIED:20251014T150735Z
UID:61170-1777368600-1777370400@baneslibraries.co.uk
SUMMARY:Baby Bounce and Rhyme at Keynsham Library
DESCRIPTION:Join us for Baby Bounce and Rhyme at Keynsham Library!T﻿his is a drop in event. Sing along to your favourite songs and rhymes at Keynsham Library!  Free\, drop in event suitable for parents/carers with children aged 0 – 5 years. T﻿erm time only\, no booking required.
URL:https://baneslibraries.co.uk/event/baby-bounce-and-rhyme-at-keynsham-library-46/
LOCATION:Keynsham Library & Information Service\, Market Walk\, Keynsham\, BS31 1FS\, Keynsham\, BS31 1FS\, GB
CATEGORIES:Children's Events,Events,Keynsham Library,Library Events
ATTACH;FMTTYPE=image/png:https://baneslibraries.co.uk/wp-content/uploads/2025/10/61064_image.png
END:VEVENT
BEGIN:VEVENT
DTSTART;TZID=Europe/London:20260428T094500
DTEND;TZID=Europe/London:20260428T103000
DTSTAMP:20260424T124559
CREATED:20251203T112514Z
LAST-MODIFIED:20251203T112515Z
UID:63122-1777369500-1777372200@baneslibraries.co.uk
SUMMARY:Drama Tots - Rising Stars
DESCRIPTION:Sing\, dance\, play and learn for children aged 18 months – 3 years.\n\n\nSING\, DANCE\, PLAY and LEARN! \nDrama Tots classes are high energy\, interactive and fun! In our multi award-winning classes you can expect a new theme every week. \nEach session is brought to life with colourful props\, such as ribbons\, scarves\, obstacles\, parachutes\, puppets\, instruments\, bubbles and much more!! \nClasses are nurturing and friendly\, allowing children to grow in confidence and creativity whilst having wonderful fun! \nBooking is required: https://drama-tots-bath.classforkids.io/info/42 \n\n\n\n\n 
URL:https://baneslibraries.co.uk/event/drama-tots-rising-stars-13/
LOCATION:Bath Central Library\, 19-23 The Podium\, Bath\, BA1 5AN\, Bath\, BA1 5AN\, GB
CATEGORIES:Bath Central Library,Children's Events,Craft Events,Events,Partner Events
ATTACH;FMTTYPE=image/png:https://baneslibraries.co.uk/wp-content/uploads/2025/12/63081_image.png
END:VEVENT
BEGIN:VEVENT
DTSTART;TZID=Europe/London:20260428T103000
DTEND;TZID=Europe/London:20260428T110000
DTSTAMP:20260424T124559
CREATED:20251014T094134Z
LAST-MODIFIED:20251014T094136Z
UID:60956-1777372200-1777374000@baneslibraries.co.uk
SUMMARY:Bath Central Library Storytime
DESCRIPTION:Join us for Storytime at Bath Central Library!T﻿his is a drop in event. Free\, drop in Storytime session at Bath Central Library.  Suitable for parents and carers with children aged 0 – 5 years. Term time only. No booking required.
URL:https://baneslibraries.co.uk/event/bath-central-library-storytime-28/
LOCATION:Bath Central Library\, 19-23 The Podium\, Bath\, BA1 5AN\, Bath\, BA1 5AN\, GB
CATEGORIES:Bath Central Library,Children's Events,Events,Library Events
ATTACH;FMTTYPE=image/png:https://baneslibraries.co.uk/wp-content/uploads/2025/10/60903_image.png
END:VEVENT
BEGIN:VEVENT
DTSTART;TZID=Europe/London:20260428T103000
DTEND;TZID=Europe/London:20260428T110000
DTSTAMP:20260424T124559
CREATED:20251014T150812Z
LAST-MODIFIED:20251014T150814Z
UID:61172-1777372200-1777374000@baneslibraries.co.uk
SUMMARY:Baby Bounce and Rhyme at Keynsham Library
DESCRIPTION:Join us for Baby Bounce and Rhyme at Keynsham Library!T﻿his is a drop in event. Sing along to your favourite songs and rhymes at Keynsham Library!  Free\, drop in event suitable for parents/carers with children aged 0 – 5 years. T﻿erm time only\, no booking required.
URL:https://baneslibraries.co.uk/event/baby-bounce-and-rhyme-at-keynsham-library-57/
LOCATION:Keynsham Library & Information Service\, Market Walk\, Keynsham\, BS31 1FS\, Keynsham\, BS31 1FS\, GB
CATEGORIES:Children's Events,Events,Keynsham Library,Library Events
ATTACH;FMTTYPE=image/png:https://baneslibraries.co.uk/wp-content/uploads/2025/10/61064_image.png
END:VEVENT
BEGIN:VEVENT
DTSTART;TZID=Europe/London:20260428T104500
DTEND;TZID=Europe/London:20260428T113000
DTSTAMP:20260424T124559
CREATED:20251203T111540Z
LAST-MODIFIED:20251203T112013Z
UID:63158-1777373100-1777375800@baneslibraries.co.uk
SUMMARY:Drama Tots - Bright Stars
DESCRIPTION:Sing\, dance\, play and learn for children aged 3 – 5 years.\n\n\nSING\, DANCE\, PLAY and LEARN! \nDrama Tots classes are high energy\, interactive and fun! In our multi award-winning classes you can expect a new theme every week. \nEach session is brought to life with colourful props\, such as ribbons\, scarves\, obstacles\, parachutes\, puppets\, instruments\, bubbles and much more!! \nClasses are nurturing and friendly\, allowing children to grow in confidence and creativity whilst having wonderful fun! \nBooking is required: https://drama-tots-bath.classforkids.io/info/41 \n\n\n\n\n 
URL:https://baneslibraries.co.uk/event/drama-tots-bright-stars-2/
LOCATION:Bath Central Library\, 19-23 The Podium\, Bath\, BA1 5AN\, Bath\, BA1 5AN\, GB
CATEGORIES:Bath Central Library,Children's Events,Craft Events,Events,Partner Events
ATTACH;FMTTYPE=image/png:https://baneslibraries.co.uk/wp-content/uploads/2025/12/63081_image.png
END:VEVENT
END:VCALENDAR