BEGIN:VCALENDAR
VERSION:2.0
PRODID:-//BaNES Virtual Library - ECPv6.15.20//NONSGML v1.0//EN
CALSCALE:GREGORIAN
METHOD:PUBLISH
X-ORIGINAL-URL:https://baneslibraries.co.uk
X-WR-CALDESC:Events for BaNES Virtual Library
REFRESH-INTERVAL;VALUE=DURATION:PT1H
X-Robots-Tag:noindex
X-PUBLISHED-TTL:PT1H
BEGIN:VTIMEZONE
TZID:Europe/London
BEGIN:DAYLIGHT
TZOFFSETFROM:+0000
TZOFFSETTO:+0100
TZNAME:BST
DTSTART:20250330T010000
END:DAYLIGHT
BEGIN:STANDARD
TZOFFSETFROM:+0100
TZOFFSETTO:+0000
TZNAME:GMT
DTSTART:20251026T010000
END:STANDARD
BEGIN:DAYLIGHT
TZOFFSETFROM:+0000
TZOFFSETTO:+0100
TZNAME:BST
DTSTART:20260329T010000
END:DAYLIGHT
BEGIN:STANDARD
TZOFFSETFROM:+0100
TZOFFSETTO:+0000
TZNAME:GMT
DTSTART:20261025T010000
END:STANDARD
BEGIN:DAYLIGHT
TZOFFSETFROM:+0000
TZOFFSETTO:+0100
TZNAME:BST
DTSTART:20270328T010000
END:DAYLIGHT
BEGIN:STANDARD
TZOFFSETFROM:+0100
TZOFFSETTO:+0000
TZNAME:GMT
DTSTART:20271031T010000
END:STANDARD
END:VTIMEZONE
BEGIN:VEVENT
DTSTART;TZID=Europe/London:20260128T103000
DTEND;TZID=Europe/London:20260128T110000
DTSTAMP:20260424T165115
CREATED:20251013T164428Z
LAST-MODIFIED:20251013T164430Z
UID:60605-1769596200-1769598000@baneslibraries.co.uk
SUMMARY:Baby Bounce and Rhyme at Bath Central Library
DESCRIPTION:Join us for Baby Bounce and Rhyme at Bath Central Library!T﻿his is a drop in event. Free\, drop in Baby Bounce and Rhyme session at Bath Central Library.  Suitable for parents and carers with children aged 0 – 5 years. T﻿erm time only\, no booking required.
URL:https://baneslibraries.co.uk/event/baby-bounce-and-rhyme-at-bath-central-library-22/
LOCATION:Bath Central Library\, 19-23 The Podium\, Bath\, BA1 5AN\, Bath\, BA1 5AN\, GB
CATEGORIES:Bath Central Library,Children's Events,Events,Library Events
ATTACH;FMTTYPE=image/png:https://baneslibraries.co.uk/wp-content/uploads/2025/07/55479_image.png
END:VEVENT
BEGIN:VEVENT
DTSTART;TZID=Europe/London:20260128T103000
DTEND;TZID=Europe/London:20260128T110000
DTSTAMP:20260424T165115
CREATED:20251014T155501Z
LAST-MODIFIED:20251014T155503Z
UID:61419-1769596200-1769598000@baneslibraries.co.uk
SUMMARY:Storytime at Midsomer Norton Library
DESCRIPTION:Join us for Storytime at Midsomer Norton Library!T﻿his is a drop in event. Free\, drop in Storytime session at Midsomer Norton Library.  Suitable for parents and carers with children aged 0 – 5 years. T﻿erm time only. No booking required.
URL:https://baneslibraries.co.uk/event/storytime-at-midsomer-norton-library-14/
LOCATION:Midsomer Norton Library\, The Hollies\, High St\, Midsomer Norton\, BA3 2DT\, Midsomer Norton\, BA3 2DT\, GB
CATEGORIES:Children's Events,Events,Library Events,Midsomer Norton Library
ATTACH;FMTTYPE=image/png:https://baneslibraries.co.uk/wp-content/uploads/2025/10/61392_image.png
END:VEVENT
BEGIN:VEVENT
DTSTART;TZID=Europe/London:20260128T160000
DTEND;TZID=Europe/London:20260128T170000
DTSTAMP:20260424T165115
CREATED:20251125T165012Z
LAST-MODIFIED:20251125T165013Z
UID:62969-1769616000-1769619600@baneslibraries.co.uk
SUMMARY:SASS Community Choir 2025 - 2026
DESCRIPTION:For all autistic young people and their families in B&NESMusic provides a unique way to connect with others with singing having many health and wellbeing benefits\, so join us to enjoy some singing together within a fun\, friendly and supportive environment. For more information or to book a place please email sass@fossewayschool.com or call 01761 412198. Drop ins welcome on the day.
URL:https://baneslibraries.co.uk/event/sass-community-choir-2025-2026-3/
LOCATION:Midsomer Norton Library\, The Hollies\, High St\, Midsomer Norton\, BA3 2DT\, Midsomer Norton\, BA3 2DT\, GB
CATEGORIES:Adult's Events,Children's Events,Library Events,Midsomer Norton Library,Partner Events,Support Services,Young Adult's Events
ATTACH;FMTTYPE=image/png:https://baneslibraries.co.uk/wp-content/uploads/2025/11/62946_image.png
END:VEVENT
END:VCALENDAR