BEGIN:VCALENDAR
VERSION:2.0
PRODID:-//BaNES Virtual Library - ECPv6.15.20//NONSGML v1.0//EN
CALSCALE:GREGORIAN
METHOD:PUBLISH
X-WR-CALNAME:BaNES Virtual Library
X-ORIGINAL-URL:https://baneslibraries.co.uk
X-WR-CALDESC:Events for BaNES Virtual Library
REFRESH-INTERVAL;VALUE=DURATION:PT1H
X-Robots-Tag:noindex
X-PUBLISHED-TTL:PT1H
BEGIN:VTIMEZONE
TZID:Europe/London
BEGIN:DAYLIGHT
TZOFFSETFROM:+0000
TZOFFSETTO:+0100
TZNAME:BST
DTSTART:20250330T010000
END:DAYLIGHT
BEGIN:STANDARD
TZOFFSETFROM:+0100
TZOFFSETTO:+0000
TZNAME:GMT
DTSTART:20251026T010000
END:STANDARD
BEGIN:DAYLIGHT
TZOFFSETFROM:+0000
TZOFFSETTO:+0100
TZNAME:BST
DTSTART:20260329T010000
END:DAYLIGHT
BEGIN:STANDARD
TZOFFSETFROM:+0100
TZOFFSETTO:+0000
TZNAME:GMT
DTSTART:20261025T010000
END:STANDARD
BEGIN:DAYLIGHT
TZOFFSETFROM:+0000
TZOFFSETTO:+0100
TZNAME:BST
DTSTART:20270328T010000
END:DAYLIGHT
BEGIN:STANDARD
TZOFFSETFROM:+0100
TZOFFSETTO:+0000
TZNAME:GMT
DTSTART:20271031T010000
END:STANDARD
END:VTIMEZONE
BEGIN:VEVENT
DTSTART;TZID=Europe/London:20260601T103000
DTEND;TZID=Europe/London:20260601T123000
DTSTAMP:20260424T140253
CREATED:20251017T144742Z
LAST-MODIFIED:20251017T144744Z
UID:62423-1780309800-1780317000@baneslibraries.co.uk
SUMMARY:Hartbeeps
DESCRIPTION:Baby and toddler class.Booking required. Visit www.hartbeeps.com to book.
URL:https://baneslibraries.co.uk/event/hartbeeps-30/
LOCATION:Central Library\, 19-23 The Podium\, Bath\, BA1 5AN\, Bath\, BA1 5AN\, GB
CATEGORIES:Bath Central Library,Children's Events,Events,Partner Events
ATTACH;FMTTYPE=image/png:https://baneslibraries.co.uk/wp-content/uploads/2025/07/55114_image.png
END:VEVENT
BEGIN:VEVENT
DTSTART;TZID=Europe/London:20260601T110000
DTEND;TZID=Europe/London:20260601T113000
DTSTAMP:20260424T140253
CREATED:20251014T091737Z
LAST-MODIFIED:20251014T091739Z
UID:60805-1780311600-1780313400@baneslibraries.co.uk
SUMMARY:Baby Bounce and Rhyme at Midsomer Norton Library
DESCRIPTION:Join us for Baby Bounce and Rhyme at Midsomer Norton Library!T﻿his is a drop in event. Free\, drop in Baby Bounce and Rhyme Session at Midsomer Norton Library.  Suitable for parents and carers with children aged 0 – 5 years. T﻿erm time only\, no booking required.
URL:https://baneslibraries.co.uk/event/baby-bounce-and-rhyme-at-midsomer-norton-library-45/
LOCATION:Midsomer Norton Library\, The Hollies\, High St\, Midsomer Norton\, BA3 2DT\, Midsomer Norton\, BA3 2DT\, GB
CATEGORIES:Children's Events,Events,Library Events,Midsomer Norton Library
ATTACH;FMTTYPE=image/png:https://baneslibraries.co.uk/wp-content/uploads/2025/10/60742_image.png
END:VEVENT
BEGIN:VEVENT
DTSTART;TZID=Europe/London:20260602T093000
DTEND;TZID=Europe/London:20260602T100000
DTSTAMP:20260424T140253
CREATED:20251014T150819Z
LAST-MODIFIED:20251014T150821Z
UID:61190-1780392600-1780394400@baneslibraries.co.uk
SUMMARY:Baby Bounce and Rhyme at Keynsham Library
DESCRIPTION:Join us for Baby Bounce and Rhyme at Keynsham Library!T﻿his is a drop in event. Sing along to your favourite songs and rhymes at Keynsham Library!  Free\, drop in event suitable for parents/carers with children aged 0 – 5 years. T﻿erm time only\, no booking required.
URL:https://baneslibraries.co.uk/event/baby-bounce-and-rhyme-at-keynsham-library-60/
LOCATION:Keynsham Library & Information Service\, Market Walk\, Keynsham\, BS31 1FS\, Keynsham\, BS31 1FS\, GB
CATEGORIES:Children's Events,Events,Keynsham Library,Library Events
ATTACH;FMTTYPE=image/png:https://baneslibraries.co.uk/wp-content/uploads/2025/10/61064_image.png
END:VEVENT
BEGIN:VEVENT
DTSTART;TZID=Europe/London:20260602T103000
DTEND;TZID=Europe/London:20260602T110000
DTSTAMP:20260424T140253
CREATED:20251014T094145Z
LAST-MODIFIED:20251014T094147Z
UID:60966-1780396200-1780398000@baneslibraries.co.uk
SUMMARY:Bath Central Library Storytime
DESCRIPTION:Join us for Storytime at Bath Central Library!T﻿his is a drop in event. Free\, drop in Storytime session at Bath Central Library.  Suitable for parents and carers with children aged 0 – 5 years. Term time only. No booking required.
URL:https://baneslibraries.co.uk/event/bath-central-library-storytime-33/
LOCATION:Bath Central Library\, 19-23 The Podium\, Bath\, BA1 5AN\, Bath\, BA1 5AN\, GB
CATEGORIES:Bath Central Library,Children's Events,Events,Library Events
ATTACH;FMTTYPE=image/png:https://baneslibraries.co.uk/wp-content/uploads/2025/10/60903_image.png
END:VEVENT
BEGIN:VEVENT
DTSTART;TZID=Europe/London:20260602T103000
DTEND;TZID=Europe/London:20260602T110000
DTSTAMP:20260424T140253
CREATED:20251014T150817Z
LAST-MODIFIED:20251014T150818Z
UID:61192-1780396200-1780398000@baneslibraries.co.uk
SUMMARY:Baby Bounce and Rhyme at Keynsham Library
DESCRIPTION:Join us for Baby Bounce and Rhyme at Keynsham Library!T﻿his is a drop in event. Sing along to your favourite songs and rhymes at Keynsham Library!  Free\, drop in event suitable for parents/carers with children aged 0 – 5 years. T﻿erm time only\, no booking required.
URL:https://baneslibraries.co.uk/event/baby-bounce-and-rhyme-at-keynsham-library-59/
LOCATION:Keynsham Library & Information Service\, Market Walk\, Keynsham\, BS31 1FS\, Keynsham\, BS31 1FS\, GB
CATEGORIES:Children's Events,Events,Keynsham Library,Library Events
ATTACH;FMTTYPE=image/png:https://baneslibraries.co.uk/wp-content/uploads/2025/10/61064_image.png
END:VEVENT
BEGIN:VEVENT
DTSTART;TZID=Europe/London:20260603T103000
DTEND;TZID=Europe/London:20260603T110000
DTSTAMP:20260424T140253
CREATED:20251014T155529Z
LAST-MODIFIED:20251014T155531Z
UID:61456-1780482600-1780484400@baneslibraries.co.uk
SUMMARY:Storytime at Midsomer Norton Library
DESCRIPTION:Join us for Storytime at Midsomer Norton Library!T﻿his is a drop in event. Free\, drop in Storytime session at Midsomer Norton Library.  Suitable for parents and carers with children aged 0 – 5 years. T﻿erm time only. No booking required.
URL:https://baneslibraries.co.uk/event/storytime-at-midsomer-norton-library-27/
LOCATION:Midsomer Norton Library\, The Hollies\, High St\, Midsomer Norton\, BA3 2DT\, Midsomer Norton\, BA3 2DT\, GB
CATEGORIES:Children's Events,Events,Library Events,Midsomer Norton Library
ATTACH;FMTTYPE=image/png:https://baneslibraries.co.uk/wp-content/uploads/2025/10/61392_image.png
END:VEVENT
BEGIN:VEVENT
DTSTART;TZID=Europe/London:20260604T100000
DTEND;TZID=Europe/London:20260604T110000
DTSTAMP:20260424T140253
CREATED:20260417T165147Z
LAST-MODIFIED:20260417T165148Z
UID:69149-1780567200-1780570800@baneslibraries.co.uk
SUMMARY:Relaxed Storytime in the Sensory Space
DESCRIPTION:Relaxed Storytime for young children with autism or sensory needs in Bath Central Library’s calming Sensory Space.Storytime in Bath Central Library’s calming Sensory Space\, designed for young children who are autistic\, have sensory needs\, or would simply benefit from a quieter environment. Sessions are recommended for children who would find picture books engaging and appropriate for their learning needs.  Join us for stories and explore special resources like Story Sacks\, which help spark interest in books.  Booking is required- one ticket per adult and child\, but the session is fully flexible – families are welcome to come and go whenever they need. As spaces are limited (one ticket per adult and child)\, please cancel your booking if you can no longer attend so others can join.  Families where the parent/carer have their own sensory needs and would also benefit from the quieter environment are welcome with their young children.  Sendias Bathnes will be in the library 9.30-12 – pop along to find out more about their service and how they can support your family.  New to the Sensory Space and Library? Check out our video and picture guides on the Access for All webpage\, where you’ll also find details about our inclusive resources.
URL:https://baneslibraries.co.uk/event/relaxed-storytime-in-the-sensory-space-3/
LOCATION:Bath Central Library\, 19-23 The Podium\, Bath\, BA1 5AN\, Bath\, BA1 5AN\, GB
CATEGORIES:Bath Central Library,Children's Events,Events,Library Events,Support Services
ATTACH;FMTTYPE=image/png:https://baneslibraries.co.uk/wp-content/uploads/2026/04/69146_image.png
END:VEVENT
BEGIN:VEVENT
DTSTART;TZID=Europe/London:20260604T100000
DTEND;TZID=Europe/London:20260604T120000
DTSTAMP:20260424T140253
CREATED:20260204T145951Z
LAST-MODIFIED:20260330T093020Z
UID:65217-1780567200-1780574400@baneslibraries.co.uk
SUMMARY:Knit Two\, Share One - Knitting and Crochet Group at Bath Central Library
DESCRIPTION:This social group welcomes all ages and abilities\, so come along to share your skills\, learn something new and meet new people.This is a drop in event. No need to book\, sessions are drop in! You’ll find a woolly welcome for all in this friendly group! You can bring along your current projects or join us in making welcome blankets for refugees! Find out more at: https://baneslibraries.co.uk/groups/knit-2-share-1
URL:https://baneslibraries.co.uk/event/knit-two-share-one-knitting-and-crochet-group-at-bath-central-library-30/
LOCATION:Bath Central Library\, 19-23 The Podium\, Bath\, BA1 5AN\, Bath\, BA1 5AN\, GB
CATEGORIES:Adult's Events,Bath Central Library,Children's Events,Craft Events,Events,Library Events,Young Adult's Events
ATTACH;FMTTYPE=image/png:https://baneslibraries.co.uk/wp-content/uploads/2025/10/60237_image.png
END:VEVENT
BEGIN:VEVENT
DTSTART;TZID=Europe/London:20260604T103000
DTEND;TZID=Europe/London:20260604T110000
DTSTAMP:20260424T140253
CREATED:20251014T163005Z
LAST-MODIFIED:20251014T163007Z
UID:61600-1780569000-1780570800@baneslibraries.co.uk
SUMMARY:Keynsham Storytime
DESCRIPTION:Join us for a Storytime session at Keynsham Library!This is a drop in event. Free\, drop in Storytime session at Keynsham Library. Suitable for parents and carers with children aged 0 – 5 years. Term time only. No booking required.
URL:https://baneslibraries.co.uk/event/keynsham-storytime-26/
LOCATION:Keynsham Library & Information Service\, Market Walk\, Keynsham\, BS31 1FS\, Keynsham\, BS31 1FS\, GB
CATEGORIES:Adult's Events,Children's Events,Events,Keynsham Library,Library Events
ATTACH;FMTTYPE=image/png:https://baneslibraries.co.uk/wp-content/uploads/2025/06/54582_image.png
END:VEVENT
BEGIN:VEVENT
DTSTART;TZID=Europe/London:20260604T133000
DTEND;TZID=Europe/London:20260604T143000
DTSTAMP:20260424T140253
CREATED:20260121T114651Z
LAST-MODIFIED:20260121T114652Z
UID:64878-1780579800-1780583400@baneslibraries.co.uk
SUMMARY:Book Buddies Home Education Group at Midsomer Norton Library
DESCRIPTION:Is your child home educated and aged between 7 – 14?\nWe’ve set up a home educated group in Midsomer Norton Library and we’d love you to comeThese are drop-in sessions\, no ticket required. We use lots of library resources including our Hublets\, books\, games and crafts to make the sessions fun and interactive with an emphasis on reading\, books and authors. Sessions are informal and relaxed and there are lots of opportunities to chat to other home educated families. Time: 1.30 – 2.30pm
URL:https://baneslibraries.co.uk/event/book-buddies-home-education-group-at-midsomer-norton-library-5/
LOCATION:Library & Information Service\, High Street\, Midsomer Norton\, BA3 2DP\, Midsomer Norton\, BA3 2DP\, GB
CATEGORIES:Book Groups,Children's Events,Events,Library Events,Midsomer Norton Library
ATTACH;FMTTYPE=image/png:https://baneslibraries.co.uk/wp-content/uploads/2026/01/64850_image.png
END:VEVENT
BEGIN:VEVENT
DTSTART;TZID=Europe/London:20260606T094000
DTEND;TZID=Europe/London:20260606T103000
DTSTAMP:20260424T140253
CREATED:20260309T162938Z
LAST-MODIFIED:20260309T162941Z
UID:66657-1780738800-1780741800@baneslibraries.co.uk
SUMMARY:Petite Pousse French Playgroup
DESCRIPTION:Playgroup for under 5’sSessions include Storytime\, songs\, games and crafts.All families are welcome! Sessions for under 5’s.Please note\, this is a paid for session and must be booked in advance.Book your sessions on happity.co.uk by searching for Petite Pousse or here : https://www.happity.co.uk/petite-pousse
URL:https://baneslibraries.co.uk/event/petite-pousse-french-playgroup-9/
LOCATION:Central Library\, 19-23 The Podium\, Bath\, BA1 5AN\, Bath\, BA1 5AN\, GB
CATEGORIES:Bath Central Library,Children's Events,Events,Partner Events
ATTACH;FMTTYPE=image/png:https://baneslibraries.co.uk/wp-content/uploads/2025/05/53515_image.png
END:VEVENT
BEGIN:VEVENT
DTSTART;TZID=Europe/London:20260606T100000
DTEND;TZID=Europe/London:20260606T113000
DTSTAMP:20260424T140253
CREATED:20260416T095227Z
LAST-MODIFIED:20260416T095228Z
UID:69076-1780740000-1780745400@baneslibraries.co.uk
SUMMARY:Mermaid Storytime
DESCRIPTION:Come and join us for some mermaid magic!THIS IS A DROP IN EVENT\, NO TICKET NEEDED Mermaid Hannah Pearl will be swimming to Bath Central Library to read some ocean tales! Suitable for parents and carers with children aged 0 – 6 years. Free of charge!
URL:https://baneslibraries.co.uk/event/mermaid-storytime/
LOCATION:Bath Central Library\, 19-23 The Podium\, Bath\, BA1 5AN\, Bath\, BA1 5AN\, GB
CATEGORIES:Bath Central Library,Children's Events,Events,Library Events
ATTACH;FMTTYPE=image/png:https://baneslibraries.co.uk/wp-content/uploads/2026/04/69076_image.png
END:VEVENT
BEGIN:VEVENT
DTSTART;TZID=Europe/London:20260606T103000
DTEND;TZID=Europe/London:20260606T111500
DTSTAMP:20260424T140253
CREATED:20260309T162951Z
LAST-MODIFIED:20260309T162956Z
UID:66659-1780741800-1780744500@baneslibraries.co.uk
SUMMARY:Petite Pousse French Playgroup
DESCRIPTION:Playgroup for under 5’sSessions include Storytime\, songs\, games and crafts.All families are welcome! Sessions for under 5’s.Please note\, this is a paid for session and must be booked in advance.Book your sessions on happity.co.uk by searching for Petite Pousse or here : https://www.happity.co.uk/petite-pousse
URL:https://baneslibraries.co.uk/event/petite-pousse-french-playgroup-15/
LOCATION:Central Library\, 19-23 The Podium\, Bath\, BA1 5AN\, Bath\, BA1 5AN\, GB
CATEGORIES:Bath Central Library,Children's Events,Events,Partner Events
ATTACH;FMTTYPE=image/png:https://baneslibraries.co.uk/wp-content/uploads/2025/05/53515_image.png
END:VEVENT
BEGIN:VEVENT
DTSTART;TZID=Europe/London:20260606T120000
DTEND;TZID=Europe/London:20260606T160000
DTSTAMP:20260424T140253
CREATED:20260217T161440Z
LAST-MODIFIED:20260217T162826Z
UID:65656-1780747200-1780761600@baneslibraries.co.uk
SUMMARY:Board Game Saturdays at Bath Central Library
DESCRIPTION:Do you love to play boardgames? This is the perfect event for you!T﻿his is a drop in event. J﻿oin us for an afternoon of fun for all the family! We have a great selection of boardgames\, suitable for all ages.
URL:https://baneslibraries.co.uk/event/board-game-saturdays-at-bath-central-library/
LOCATION:Bath Central Library\, 19-23 The Podium\, Bath\, BA1 5AN\, Bath\, BA1 5AN\, GB
CATEGORIES:Adult's Events,Bath Central Library,Children's Events,Events,Library Events,Young Adult's Events
ATTACH;FMTTYPE=image/png:https://baneslibraries.co.uk/wp-content/uploads/2026/02/65619_image.png
END:VEVENT
BEGIN:VEVENT
DTSTART;TZID=Europe/London:20260606T123000
DTEND;TZID=Europe/London:20260606T160000
DTSTAMP:20260424T140253
CREATED:20260217T170757Z
LAST-MODIFIED:20260217T170758Z
UID:65825-1780749000-1780761600@baneslibraries.co.uk
SUMMARY:Board Game Saturdays at Keynsham Library
DESCRIPTION:Do you love to play boardgames? This is the perfect event for you!T﻿his is a drop in event. J﻿oin us for an afternoon of fun for all the family! We have a great selection of boardgames\, suitable for all ages.
URL:https://baneslibraries.co.uk/event/board-game-saturdays-at-keynsham-library-11/
LOCATION:Keynsham Library & Information Service\, Market Walk\, Keynsham\, BS31 1FS\, Keynsham\, BS31 1FS\, GB
CATEGORIES:Adult's Events,Children's Events,Events,Keynsham Library,Library Events,Young Adult's Events
ATTACH;FMTTYPE=image/png:https://baneslibraries.co.uk/wp-content/uploads/2026/02/65793_image.png
END:VEVENT
BEGIN:VEVENT
DTSTART;TZID=Europe/London:20260608T103000
DTEND;TZID=Europe/London:20260608T123000
DTSTAMP:20260424T140253
CREATED:20251017T144744Z
LAST-MODIFIED:20251017T144746Z
UID:62425-1780914600-1780921800@baneslibraries.co.uk
SUMMARY:Hartbeeps
DESCRIPTION:Baby and toddler class.Booking required. Visit www.hartbeeps.com to book.
URL:https://baneslibraries.co.uk/event/hartbeeps-31/
LOCATION:Central Library\, 19-23 The Podium\, Bath\, BA1 5AN\, Bath\, BA1 5AN\, GB
CATEGORIES:Bath Central Library,Children's Events,Events,Partner Events
ATTACH;FMTTYPE=image/png:https://baneslibraries.co.uk/wp-content/uploads/2025/07/55114_image.png
END:VEVENT
BEGIN:VEVENT
DTSTART;TZID=Europe/London:20260608T110000
DTEND;TZID=Europe/London:20260608T113000
DTSTAMP:20260424T140253
CREATED:20251014T091735Z
LAST-MODIFIED:20251014T091737Z
UID:60807-1780916400-1780918200@baneslibraries.co.uk
SUMMARY:Baby Bounce and Rhyme at Midsomer Norton Library
DESCRIPTION:Join us for Baby Bounce and Rhyme at Midsomer Norton Library!T﻿his is a drop in event. Free\, drop in Baby Bounce and Rhyme Session at Midsomer Norton Library.  Suitable for parents and carers with children aged 0 – 5 years. T﻿erm time only\, no booking required.
URL:https://baneslibraries.co.uk/event/baby-bounce-and-rhyme-at-midsomer-norton-library-44/
LOCATION:Midsomer Norton Library\, The Hollies\, High St\, Midsomer Norton\, BA3 2DT\, Midsomer Norton\, BA3 2DT\, GB
CATEGORIES:Children's Events,Events,Library Events,Midsomer Norton Library
ATTACH;FMTTYPE=image/png:https://baneslibraries.co.uk/wp-content/uploads/2025/10/60742_image.png
END:VEVENT
BEGIN:VEVENT
DTSTART;TZID=Europe/London:20260609T093000
DTEND;TZID=Europe/London:20260609T100000
DTSTAMP:20260424T140253
CREATED:20251014T150815Z
LAST-MODIFIED:20251014T150816Z
UID:61195-1780997400-1780999200@baneslibraries.co.uk
SUMMARY:Baby Bounce and Rhyme at Keynsham Library
DESCRIPTION:Join us for Baby Bounce and Rhyme at Keynsham Library!T﻿his is a drop in event. Sing along to your favourite songs and rhymes at Keynsham Library!  Free\, drop in event suitable for parents/carers with children aged 0 – 5 years. T﻿erm time only\, no booking required.
URL:https://baneslibraries.co.uk/event/baby-bounce-and-rhyme-at-keynsham-library-58/
LOCATION:Keynsham Library & Information Service\, Market Walk\, Keynsham\, BS31 1FS\, Keynsham\, BS31 1FS\, GB
CATEGORIES:Children's Events,Events,Keynsham Library,Library Events
ATTACH;FMTTYPE=image/png:https://baneslibraries.co.uk/wp-content/uploads/2025/10/61064_image.png
END:VEVENT
BEGIN:VEVENT
DTSTART;TZID=Europe/London:20260609T103000
DTEND;TZID=Europe/London:20260609T110000
DTSTAMP:20260424T140253
CREATED:20251014T094143Z
LAST-MODIFIED:20251014T094145Z
UID:60968-1781001000-1781002800@baneslibraries.co.uk
SUMMARY:Bath Central Library Storytime
DESCRIPTION:Join us for Storytime at Bath Central Library!T﻿his is a drop in event. Free\, drop in Storytime session at Bath Central Library.  Suitable for parents and carers with children aged 0 – 5 years. Term time only. No booking required.
URL:https://baneslibraries.co.uk/event/bath-central-library-storytime-32/
LOCATION:Bath Central Library\, 19-23 The Podium\, Bath\, BA1 5AN\, Bath\, BA1 5AN\, GB
CATEGORIES:Bath Central Library,Children's Events,Events,Library Events
ATTACH;FMTTYPE=image/png:https://baneslibraries.co.uk/wp-content/uploads/2025/10/60903_image.png
END:VEVENT
BEGIN:VEVENT
DTSTART;TZID=Europe/London:20260609T103000
DTEND;TZID=Europe/London:20260609T110000
DTSTAMP:20260424T140253
CREATED:20251014T150836Z
LAST-MODIFIED:20251014T150838Z
UID:61197-1781001000-1781002800@baneslibraries.co.uk
SUMMARY:Baby Bounce and Rhyme at Keynsham Library
DESCRIPTION:Join us for Baby Bounce and Rhyme at Keynsham Library!T﻿his is a drop in event. Sing along to your favourite songs and rhymes at Keynsham Library!  Free\, drop in event suitable for parents/carers with children aged 0 – 5 years. T﻿erm time only\, no booking required.
URL:https://baneslibraries.co.uk/event/baby-bounce-and-rhyme-at-keynsham-library-67/
LOCATION:Keynsham Library & Information Service\, Market Walk\, Keynsham\, BS31 1FS\, Keynsham\, BS31 1FS\, GB
CATEGORIES:Children's Events,Events,Keynsham Library,Library Events
ATTACH;FMTTYPE=image/png:https://baneslibraries.co.uk/wp-content/uploads/2025/10/61064_image.png
END:VEVENT
BEGIN:VEVENT
DTSTART;TZID=Europe/London:20260610T103000
DTEND;TZID=Europe/London:20260610T110000
DTSTAMP:20260424T140253
CREATED:20251014T155547Z
LAST-MODIFIED:20251014T155549Z
UID:61458-1781087400-1781089200@baneslibraries.co.uk
SUMMARY:Storytime at Midsomer Norton Library
DESCRIPTION:Join us for Storytime at Midsomer Norton Library!T﻿his is a drop in event. Free\, drop in Storytime session at Midsomer Norton Library.  Suitable for parents and carers with children aged 0 – 5 years. T﻿erm time only. No booking required.
URL:https://baneslibraries.co.uk/event/storytime-at-midsomer-norton-library-36/
LOCATION:Midsomer Norton Library\, The Hollies\, High St\, Midsomer Norton\, BA3 2DT\, Midsomer Norton\, BA3 2DT\, GB
CATEGORIES:Children's Events,Events,Library Events,Midsomer Norton Library
ATTACH;FMTTYPE=image/png:https://baneslibraries.co.uk/wp-content/uploads/2025/10/61392_image.png
END:VEVENT
BEGIN:VEVENT
DTSTART;TZID=Europe/London:20260611T100000
DTEND;TZID=Europe/London:20260611T120000
DTSTAMP:20260424T140253
CREATED:20260204T145946Z
LAST-MODIFIED:20260330T093021Z
UID:65219-1781172000-1781179200@baneslibraries.co.uk
SUMMARY:Knit Two\, Share One - Knitting and Crochet Group at Bath Central Library
DESCRIPTION:This social group welcomes all ages and abilities\, so come along to share your skills\, learn something new and meet new people.This is a drop in event. No need to book\, sessions are drop in! You’ll find a woolly welcome for all in this friendly group! You can bring along your current projects or join us in making welcome blankets for refugees! Find out more at: https://baneslibraries.co.uk/groups/knit-2-share-1
URL:https://baneslibraries.co.uk/event/knit-two-share-one-knitting-and-crochet-group-at-bath-central-library-29/
LOCATION:Bath Central Library\, 19-23 The Podium\, Bath\, BA1 5AN\, Bath\, BA1 5AN\, GB
CATEGORIES:Adult's Events,Bath Central Library,Children's Events,Craft Events,Events,Library Events,Young Adult's Events
ATTACH;FMTTYPE=image/png:https://baneslibraries.co.uk/wp-content/uploads/2025/10/60237_image.png
END:VEVENT
BEGIN:VEVENT
DTSTART;TZID=Europe/London:20260611T103000
DTEND;TZID=Europe/London:20260611T110000
DTSTAMP:20260424T140253
CREATED:20251014T163003Z
LAST-MODIFIED:20251014T163005Z
UID:61602-1781173800-1781175600@baneslibraries.co.uk
SUMMARY:Keynsham Storytime
DESCRIPTION:Join us for a Storytime session at Keynsham Library!This is a drop in event. Free\, drop in Storytime session at Keynsham Library. Suitable for parents and carers with children aged 0 – 5 years. Term time only. No booking required.
URL:https://baneslibraries.co.uk/event/keynsham-storytime-25/
LOCATION:Keynsham Library & Information Service\, Market Walk\, Keynsham\, BS31 1FS\, Keynsham\, BS31 1FS\, GB
CATEGORIES:Adult's Events,Children's Events,Events,Keynsham Library,Library Events
ATTACH;FMTTYPE=image/png:https://baneslibraries.co.uk/wp-content/uploads/2025/06/54582_image.png
END:VEVENT
BEGIN:VEVENT
DTSTART;TZID=Europe/London:20260613T094000
DTEND;TZID=Europe/London:20260613T103000
DTSTAMP:20260424T140253
CREATED:20260309T162949Z
LAST-MODIFIED:20260309T162954Z
UID:66661-1781343600-1781346600@baneslibraries.co.uk
SUMMARY:Petite Pousse French Playgroup
DESCRIPTION:Playgroup for under 5’sSessions include Storytime\, songs\, games and crafts.All families are welcome! Sessions for under 5’s.Please note\, this is a paid for session and must be booked in advance.Book your sessions on happity.co.uk by searching for Petite Pousse or here : https://www.happity.co.uk/petite-pousse
URL:https://baneslibraries.co.uk/event/petite-pousse-french-playgroup-14/
LOCATION:Central Library\, 19-23 The Podium\, Bath\, BA1 5AN\, Bath\, BA1 5AN\, GB
CATEGORIES:Bath Central Library,Children's Events,Events,Partner Events
ATTACH;FMTTYPE=image/png:https://baneslibraries.co.uk/wp-content/uploads/2025/05/53515_image.png
END:VEVENT
BEGIN:VEVENT
DTSTART;TZID=Europe/London:20260613T100000
DTEND;TZID=Europe/London:20260613T120000
DTSTAMP:20260424T140253
CREATED:20260218T122125Z
LAST-MODIFIED:20260218T122127Z
UID:66136-1781344800-1781352000@baneslibraries.co.uk
SUMMARY:Keynsham Jigsaw Club
DESCRIPTION:Whether you’re a puzzle pro\, need a quiet moment\, or just enjoy a friendly chat\, join us to enjoy a variety of puzzles.
URL:https://baneslibraries.co.uk/event/keynsham-jigsaw-club-6/
LOCATION:Keynsham Library & Information Service\, Market Walk\, Keynsham\, BS31 1FS\, Keynsham\, BS31 1FS\, GB
CATEGORIES:Adult's Events,Children's Events,Events,Keynsham Library,Library Events,Young Adult's Events
ATTACH;FMTTYPE=image/png:https://baneslibraries.co.uk/wp-content/uploads/2025/08/55825_image.png
END:VEVENT
BEGIN:VEVENT
DTSTART;TZID=Europe/London:20260613T103000
DTEND;TZID=Europe/London:20260613T111500
DTSTAMP:20260424T140253
CREATED:20260309T162947Z
LAST-MODIFIED:20260309T162951Z
UID:66663-1781346600-1781349300@baneslibraries.co.uk
SUMMARY:Petite Pousse French Playgroup
DESCRIPTION:Playgroup for under 5’sSessions include Storytime\, songs\, games and crafts.All families are welcome! Sessions for under 5’s.Please note\, this is a paid for session and must be booked in advance.Book your sessions on happity.co.uk by searching for Petite Pousse or here : https://www.happity.co.uk/petite-pousse
URL:https://baneslibraries.co.uk/event/petite-pousse-french-playgroup-13/
LOCATION:Central Library\, 19-23 The Podium\, Bath\, BA1 5AN\, Bath\, BA1 5AN\, GB
CATEGORIES:Bath Central Library,Children's Events,Events,Partner Events
ATTACH;FMTTYPE=image/png:https://baneslibraries.co.uk/wp-content/uploads/2025/05/53515_image.png
END:VEVENT
BEGIN:VEVENT
DTSTART;TZID=Europe/London:20260613T120000
DTEND;TZID=Europe/London:20260613T160000
DTSTAMP:20260424T140253
CREATED:20260217T161434Z
LAST-MODIFIED:20260217T162829Z
UID:65659-1781352000-1781366400@baneslibraries.co.uk
SUMMARY:Board Game Saturdays at Bath Central Library
DESCRIPTION:Do you love to play boardgames? This is the perfect event for you!T﻿his is a drop in event. J﻿oin us for an afternoon of fun for all the family! We have a great selection of boardgames\, suitable for all ages.
URL:https://baneslibraries.co.uk/event/board-game-saturdays-at-bath-central-library-12/
LOCATION:Bath Central Library\, 19-23 The Podium\, Bath\, BA1 5AN\, Bath\, BA1 5AN\, GB
CATEGORIES:Adult's Events,Bath Central Library,Children's Events,Events,Library Events,Young Adult's Events
ATTACH;FMTTYPE=image/png:https://baneslibraries.co.uk/wp-content/uploads/2026/02/65619_image.png
END:VEVENT
BEGIN:VEVENT
DTSTART;TZID=Europe/London:20260613T123000
DTEND;TZID=Europe/London:20260613T160000
DTSTAMP:20260424T140253
CREATED:20260217T170822Z
LAST-MODIFIED:20260217T170824Z
UID:65827-1781353800-1781366400@baneslibraries.co.uk
SUMMARY:Board Game Saturdays at Keynsham Library
DESCRIPTION:Do you love to play boardgames? This is the perfect event for you!T﻿his is a drop in event. J﻿oin us for an afternoon of fun for all the family! We have a great selection of boardgames\, suitable for all ages.
URL:https://baneslibraries.co.uk/event/board-game-saturdays-at-keynsham-library-21/
LOCATION:Keynsham Library & Information Service\, Market Walk\, Keynsham\, BS31 1FS\, Keynsham\, BS31 1FS\, GB
CATEGORIES:Adult's Events,Children's Events,Events,Keynsham Library,Library Events,Young Adult's Events
ATTACH;FMTTYPE=image/png:https://baneslibraries.co.uk/wp-content/uploads/2026/02/65793_image.png
END:VEVENT
BEGIN:VEVENT
DTSTART;TZID=Europe/London:20260615T103000
DTEND;TZID=Europe/London:20260615T123000
DTSTAMP:20260424T140253
CREATED:20251017T144746Z
LAST-MODIFIED:20251017T144748Z
UID:62427-1781519400-1781526600@baneslibraries.co.uk
SUMMARY:Hartbeeps
DESCRIPTION:Baby and toddler class.Booking required. Visit www.hartbeeps.com to book.
URL:https://baneslibraries.co.uk/event/hartbeeps-32/
LOCATION:Central Library\, 19-23 The Podium\, Bath\, BA1 5AN\, Bath\, BA1 5AN\, GB
CATEGORIES:Bath Central Library,Children's Events,Events,Partner Events
ATTACH;FMTTYPE=image/png:https://baneslibraries.co.uk/wp-content/uploads/2025/07/55114_image.png
END:VEVENT
BEGIN:VEVENT
DTSTART;TZID=Europe/London:20260615T110000
DTEND;TZID=Europe/London:20260615T113000
DTSTAMP:20260424T140253
CREATED:20251014T091733Z
LAST-MODIFIED:20251014T091735Z
UID:60809-1781521200-1781523000@baneslibraries.co.uk
SUMMARY:Baby Bounce and Rhyme at Midsomer Norton Library
DESCRIPTION:Join us for Baby Bounce and Rhyme at Midsomer Norton Library!T﻿his is a drop in event. Free\, drop in Baby Bounce and Rhyme Session at Midsomer Norton Library.  Suitable for parents and carers with children aged 0 – 5 years. T﻿erm time only\, no booking required.
URL:https://baneslibraries.co.uk/event/baby-bounce-and-rhyme-at-midsomer-norton-library-43/
LOCATION:Midsomer Norton Library\, The Hollies\, High St\, Midsomer Norton\, BA3 2DT\, Midsomer Norton\, BA3 2DT\, GB
CATEGORIES:Children's Events,Events,Library Events,Midsomer Norton Library
ATTACH;FMTTYPE=image/png:https://baneslibraries.co.uk/wp-content/uploads/2025/10/60742_image.png
END:VEVENT
END:VCALENDAR