BEGIN:VCALENDAR
VERSION:2.0
PRODID:-//BaNES Virtual Library - ECPv6.15.20//NONSGML v1.0//EN
CALSCALE:GREGORIAN
METHOD:PUBLISH
X-ORIGINAL-URL:https://baneslibraries.co.uk
X-WR-CALDESC:Events for BaNES Virtual Library
REFRESH-INTERVAL;VALUE=DURATION:PT1H
X-Robots-Tag:noindex
X-PUBLISHED-TTL:PT1H
BEGIN:VTIMEZONE
TZID:Europe/London
BEGIN:DAYLIGHT
TZOFFSETFROM:+0000
TZOFFSETTO:+0100
TZNAME:BST
DTSTART:20250330T010000
END:DAYLIGHT
BEGIN:STANDARD
TZOFFSETFROM:+0100
TZOFFSETTO:+0000
TZNAME:GMT
DTSTART:20251026T010000
END:STANDARD
BEGIN:DAYLIGHT
TZOFFSETFROM:+0000
TZOFFSETTO:+0100
TZNAME:BST
DTSTART:20260329T010000
END:DAYLIGHT
BEGIN:STANDARD
TZOFFSETFROM:+0100
TZOFFSETTO:+0000
TZNAME:GMT
DTSTART:20261025T010000
END:STANDARD
BEGIN:DAYLIGHT
TZOFFSETFROM:+0000
TZOFFSETTO:+0100
TZNAME:BST
DTSTART:20270328T010000
END:DAYLIGHT
BEGIN:STANDARD
TZOFFSETFROM:+0100
TZOFFSETTO:+0000
TZNAME:GMT
DTSTART:20271031T010000
END:STANDARD
BEGIN:DAYLIGHT
TZOFFSETFROM:+0000
TZOFFSETTO:+0100
TZNAME:BST
DTSTART:20280326T010000
END:DAYLIGHT
BEGIN:STANDARD
TZOFFSETFROM:+0100
TZOFFSETTO:+0000
TZNAME:GMT
DTSTART:20281029T010000
END:STANDARD
END:VTIMEZONE
BEGIN:VEVENT
DTSTART;TZID=Europe/London:20260818T140000
DTEND;TZID=Europe/London:20260818T150000
DTSTAMP:20260425T234143
CREATED:20260420T112925Z
LAST-MODIFIED:20260420T112927Z
UID:69191-1787061600-1787065200@baneslibraries.co.uk
SUMMARY:The Page Turners
DESCRIPTION:Shared reading group for adults at Midsomer Norton Library.Join us for a shared reading group for adults. Come and enjoy listening to a variety of extracts from a range of reading material.
URL:https://baneslibraries.co.uk/event/the-page-turners-25/
LOCATION:Library & Information Service\, High Street\, Midsomer Norton\, BA3 2DP\, Midsomer Norton\, BA3 2DP\, GB
CATEGORIES:Adult's Events,Book Groups,Events,Library Events,Midsomer Norton Library
ATTACH;FMTTYPE=image/png:https://baneslibraries.co.uk/wp-content/uploads/2025/06/54363_image.png
END:VEVENT
BEGIN:VEVENT
DTSTART;TZID=Europe/London:20260901T140000
DTEND;TZID=Europe/London:20260901T150000
DTSTAMP:20260425T234143
CREATED:20260420T112927Z
LAST-MODIFIED:20260420T112930Z
UID:69193-1788271200-1788274800@baneslibraries.co.uk
SUMMARY:The Page Turners
DESCRIPTION:Shared reading group for adults at Midsomer Norton Library.Join us for a shared reading group for adults. Come and enjoy listening to a variety of extracts from a range of reading material.
URL:https://baneslibraries.co.uk/event/the-page-turners-26/
LOCATION:Library & Information Service\, High Street\, Midsomer Norton\, BA3 2DP\, Midsomer Norton\, BA3 2DP\, GB
CATEGORIES:Adult's Events,Book Groups,Events,Library Events,Midsomer Norton Library
ATTACH;FMTTYPE=image/png:https://baneslibraries.co.uk/wp-content/uploads/2025/06/54363_image.png
END:VEVENT
BEGIN:VEVENT
DTSTART;TZID=Europe/London:20260902T140000
DTEND;TZID=Europe/London:20260902T150000
DTSTAMP:20260425T234143
CREATED:20260306T171506Z
LAST-MODIFIED:20260306T171508Z
UID:66579-1788357600-1788361200@baneslibraries.co.uk
SUMMARY:Reading Friends Poetry Group
DESCRIPTION:A new poetry group for adults at Bath Central Library.Curious about poetry but not sure where to start? This relaxed and welcoming group is perfect for beginners and poetry lovers alike. Come along to chat\, listen\, and share your favourite poems — or just enjoy the atmosphere. No experience needed\, just an open heart and a love for words!
URL:https://baneslibraries.co.uk/event/reading-friends-poetry-group-2/
LOCATION:Bath Central Library\, 19-23 The Podium\, Bath\, BA1 5AN\, Bath\, BA1 5AN\, GB
CATEGORIES:Adult's Events,Bath Central Library,Book Groups,Events,Library Events
ATTACH;FMTTYPE=image/png:https://baneslibraries.co.uk/wp-content/uploads/2025/10/60224_image.png
END:VEVENT
BEGIN:VEVENT
DTSTART;TZID=Europe/London:20260904T140000
DTEND;TZID=Europe/London:20260904T150000
DTSTAMP:20260425T234143
CREATED:20260416T162158Z
LAST-MODIFIED:20260416T162159Z
UID:69104-1788530400-1788534000@baneslibraries.co.uk
SUMMARY:The Page Turners
DESCRIPTION:Join us for a shared reading group for adults at Keynsham Library.Come and enjoy listening to a variety of extracts from a range of reading material. No obligation to join in or contribute. Just sit back and enjoy the stories. Free Tea & Coffee available. We meet monthly.
URL:https://baneslibraries.co.uk/event/the-page-turners-5/
LOCATION:Keynsham Library & Information Service\, Market Walk\, Keynsham\, BS31 1FS\, Keynsham\, BS31 1FS\, GB
CATEGORIES:Adult's Events,Book Groups,Events,Keynsham Library,Library Events
ATTACH;FMTTYPE=image/jpeg:https://baneslibraries.co.uk/wp-content/uploads/2025/06/54434_image.jpg
END:VEVENT
BEGIN:VEVENT
DTSTART;TZID=Europe/London:20260915T140000
DTEND;TZID=Europe/London:20260915T150000
DTSTAMP:20260425T234143
CREATED:20260420T112931Z
LAST-MODIFIED:20260420T112932Z
UID:69195-1789480800-1789484400@baneslibraries.co.uk
SUMMARY:The Page Turners
DESCRIPTION:Shared reading group for adults at Midsomer Norton Library.Join us for a shared reading group for adults. Come and enjoy listening to a variety of extracts from a range of reading material.
URL:https://baneslibraries.co.uk/event/the-page-turners-27/
LOCATION:Library & Information Service\, High Street\, Midsomer Norton\, BA3 2DP\, Midsomer Norton\, BA3 2DP\, GB
CATEGORIES:Adult's Events,Book Groups,Events,Library Events,Midsomer Norton Library
ATTACH;FMTTYPE=image/png:https://baneslibraries.co.uk/wp-content/uploads/2025/06/54363_image.png
END:VEVENT
BEGIN:VEVENT
DTSTART;TZID=Europe/London:20260929T140000
DTEND;TZID=Europe/London:20260929T150000
DTSTAMP:20260425T234143
CREATED:20260420T112933Z
LAST-MODIFIED:20260420T112935Z
UID:69197-1790690400-1790694000@baneslibraries.co.uk
SUMMARY:The Page Turners
DESCRIPTION:Shared reading group for adults at Midsomer Norton Library.Join us for a shared reading group for adults. Come and enjoy listening to a variety of extracts from a range of reading material.
URL:https://baneslibraries.co.uk/event/the-page-turners-28/
LOCATION:Library & Information Service\, High Street\, Midsomer Norton\, BA3 2DP\, Midsomer Norton\, BA3 2DP\, GB
CATEGORIES:Adult's Events,Book Groups,Events,Library Events,Midsomer Norton Library
ATTACH;FMTTYPE=image/png:https://baneslibraries.co.uk/wp-content/uploads/2025/06/54363_image.png
END:VEVENT
BEGIN:VEVENT
DTSTART;TZID=Europe/London:20261002T140000
DTEND;TZID=Europe/London:20261002T150000
DTSTAMP:20260425T234143
CREATED:20260416T162156Z
LAST-MODIFIED:20260416T162157Z
UID:69106-1790949600-1790953200@baneslibraries.co.uk
SUMMARY:The Page Turners
DESCRIPTION:Join us for a shared reading group for adults at Keynsham Library.Come and enjoy listening to a variety of extracts from a range of reading material. No obligation to join in or contribute. Just sit back and enjoy the stories. Free Tea & Coffee available. We meet monthly.
URL:https://baneslibraries.co.uk/event/the-page-turners-4/
LOCATION:Keynsham Library & Information Service\, Market Walk\, Keynsham\, BS31 1FS\, Keynsham\, BS31 1FS\, GB
CATEGORIES:Adult's Events,Book Groups,Events,Keynsham Library,Library Events
ATTACH;FMTTYPE=image/jpeg:https://baneslibraries.co.uk/wp-content/uploads/2025/06/54434_image.jpg
END:VEVENT
BEGIN:VEVENT
DTSTART;TZID=Europe/London:20261007T140000
DTEND;TZID=Europe/London:20261007T150000
DTSTAMP:20260425T234143
CREATED:20260306T171508Z
LAST-MODIFIED:20260306T171510Z
UID:66581-1791381600-1791385200@baneslibraries.co.uk
SUMMARY:Reading Friends Poetry Group
DESCRIPTION:A new poetry group for adults at Bath Central Library.Curious about poetry but not sure where to start? This relaxed and welcoming group is perfect for beginners and poetry lovers alike. Come along to chat\, listen\, and share your favourite poems — or just enjoy the atmosphere. No experience needed\, just an open heart and a love for words!
URL:https://baneslibraries.co.uk/event/reading-friends-poetry-group-6/
LOCATION:Bath Central Library\, 19-23 The Podium\, Bath\, BA1 5AN\, Bath\, BA1 5AN\, GB
CATEGORIES:Adult's Events,Bath Central Library,Book Groups,Events,Library Events
ATTACH;FMTTYPE=image/png:https://baneslibraries.co.uk/wp-content/uploads/2025/10/60224_image.png
END:VEVENT
BEGIN:VEVENT
DTSTART;TZID=Europe/London:20261013T140000
DTEND;TZID=Europe/London:20261013T150000
DTSTAMP:20260425T234143
CREATED:20260420T112935Z
LAST-MODIFIED:20260420T112937Z
UID:69199-1791900000-1791903600@baneslibraries.co.uk
SUMMARY:The Page Turners
DESCRIPTION:Shared reading group for adults at Midsomer Norton Library.Join us for a shared reading group for adults. Come and enjoy listening to a variety of extracts from a range of reading material.
URL:https://baneslibraries.co.uk/event/the-page-turners-29/
LOCATION:Library & Information Service\, High Street\, Midsomer Norton\, BA3 2DP\, Midsomer Norton\, BA3 2DP\, GB
CATEGORIES:Adult's Events,Book Groups,Events,Library Events,Midsomer Norton Library
ATTACH;FMTTYPE=image/png:https://baneslibraries.co.uk/wp-content/uploads/2025/06/54363_image.png
END:VEVENT
BEGIN:VEVENT
DTSTART;TZID=Europe/London:20261027T140000
DTEND;TZID=Europe/London:20261027T150000
DTSTAMP:20260425T234143
CREATED:20260420T112938Z
LAST-MODIFIED:20260420T112939Z
UID:69201-1793109600-1793113200@baneslibraries.co.uk
SUMMARY:The Page Turners
DESCRIPTION:Shared reading group for adults at Midsomer Norton Library.Join us for a shared reading group for adults. Come and enjoy listening to a variety of extracts from a range of reading material.
URL:https://baneslibraries.co.uk/event/the-page-turners-30/
LOCATION:Library & Information Service\, High Street\, Midsomer Norton\, BA3 2DP\, Midsomer Norton\, BA3 2DP\, GB
CATEGORIES:Adult's Events,Book Groups,Events,Library Events,Midsomer Norton Library
ATTACH;FMTTYPE=image/png:https://baneslibraries.co.uk/wp-content/uploads/2025/06/54363_image.png
END:VEVENT
BEGIN:VEVENT
DTSTART;TZID=Europe/London:20261104T140000
DTEND;TZID=Europe/London:20261104T150000
DTSTAMP:20260425T234143
CREATED:20260306T171510Z
LAST-MODIFIED:20260306T171512Z
UID:66583-1793800800-1793804400@baneslibraries.co.uk
SUMMARY:Reading Friends Poetry Group
DESCRIPTION:A new poetry group for adults at Bath Central Library.Curious about poetry but not sure where to start? This relaxed and welcoming group is perfect for beginners and poetry lovers alike. Come along to chat\, listen\, and share your favourite poems — or just enjoy the atmosphere. No experience needed\, just an open heart and a love for words!
URL:https://baneslibraries.co.uk/event/reading-friends-poetry-group-7/
LOCATION:Bath Central Library\, 19-23 The Podium\, Bath\, BA1 5AN\, Bath\, BA1 5AN\, GB
CATEGORIES:Adult's Events,Bath Central Library,Book Groups,Events,Library Events
ATTACH;FMTTYPE=image/png:https://baneslibraries.co.uk/wp-content/uploads/2025/10/60224_image.png
END:VEVENT
BEGIN:VEVENT
DTSTART;TZID=Europe/London:20261106T140000
DTEND;TZID=Europe/London:20261106T150000
DTSTAMP:20260425T234143
CREATED:20260416T162216Z
LAST-MODIFIED:20260416T162217Z
UID:69108-1793973600-1793977200@baneslibraries.co.uk
SUMMARY:The Page Turners
DESCRIPTION:Join us for a shared reading group for adults at Keynsham Library.Come and enjoy listening to a variety of extracts from a range of reading material. No obligation to join in or contribute. Just sit back and enjoy the stories. Free Tea & Coffee available. We meet monthly.
URL:https://baneslibraries.co.uk/event/the-page-turners-17/
LOCATION:Keynsham Library & Information Service\, Market Walk\, Keynsham\, BS31 1FS\, Keynsham\, BS31 1FS\, GB
CATEGORIES:Adult's Events,Book Groups,Events,Keynsham Library,Library Events
ATTACH;FMTTYPE=image/jpeg:https://baneslibraries.co.uk/wp-content/uploads/2025/06/54434_image.jpg
END:VEVENT
BEGIN:VEVENT
DTSTART;TZID=Europe/London:20261110T140000
DTEND;TZID=Europe/London:20261110T150000
DTSTAMP:20260425T234143
CREATED:20260420T112940Z
LAST-MODIFIED:20260420T112942Z
UID:69203-1794319200-1794322800@baneslibraries.co.uk
SUMMARY:The Page Turners
DESCRIPTION:Shared reading group for adults at Midsomer Norton Library.Join us for a shared reading group for adults. Come and enjoy listening to a variety of extracts from a range of reading material.
URL:https://baneslibraries.co.uk/event/the-page-turners-31/
LOCATION:Library & Information Service\, High Street\, Midsomer Norton\, BA3 2DP\, Midsomer Norton\, BA3 2DP\, GB
CATEGORIES:Adult's Events,Book Groups,Events,Library Events,Midsomer Norton Library
ATTACH;FMTTYPE=image/png:https://baneslibraries.co.uk/wp-content/uploads/2025/06/54363_image.png
END:VEVENT
BEGIN:VEVENT
DTSTART;TZID=Europe/London:20261124T140000
DTEND;TZID=Europe/London:20261124T150000
DTSTAMP:20260425T234143
CREATED:20260420T112942Z
LAST-MODIFIED:20260420T112944Z
UID:69205-1795528800-1795532400@baneslibraries.co.uk
SUMMARY:The Page Turners
DESCRIPTION:Shared reading group for adults at Midsomer Norton Library.Join us for a shared reading group for adults. Come and enjoy listening to a variety of extracts from a range of reading material.
URL:https://baneslibraries.co.uk/event/the-page-turners-32/
LOCATION:Library & Information Service\, High Street\, Midsomer Norton\, BA3 2DP\, Midsomer Norton\, BA3 2DP\, GB
CATEGORIES:Adult's Events,Book Groups,Events,Library Events,Midsomer Norton Library
ATTACH;FMTTYPE=image/png:https://baneslibraries.co.uk/wp-content/uploads/2025/06/54363_image.png
END:VEVENT
BEGIN:VEVENT
DTSTART;TZID=Europe/London:20261202T140000
DTEND;TZID=Europe/London:20261202T150000
DTSTAMP:20260425T234143
CREATED:20260306T171512Z
LAST-MODIFIED:20260306T171515Z
UID:66585-1796220000-1796223600@baneslibraries.co.uk
SUMMARY:Reading Friends Poetry Group
DESCRIPTION:A new poetry group for adults at Bath Central Library.Curious about poetry but not sure where to start? This relaxed and welcoming group is perfect for beginners and poetry lovers alike. Come along to chat\, listen\, and share your favourite poems — or just enjoy the atmosphere. No experience needed\, just an open heart and a love for words!
URL:https://baneslibraries.co.uk/event/reading-friends-poetry-group-8/
LOCATION:Bath Central Library\, 19-23 The Podium\, Bath\, BA1 5AN\, Bath\, BA1 5AN\, GB
CATEGORIES:Adult's Events,Bath Central Library,Book Groups,Events,Library Events
ATTACH;FMTTYPE=image/png:https://baneslibraries.co.uk/wp-content/uploads/2025/10/60224_image.png
END:VEVENT
BEGIN:VEVENT
DTSTART;TZID=Europe/London:20261204T140000
DTEND;TZID=Europe/London:20261204T150000
DTSTAMP:20260425T234143
CREATED:20260416T162215Z
LAST-MODIFIED:20260416T162216Z
UID:69110-1796392800-1796396400@baneslibraries.co.uk
SUMMARY:The Page Turners
DESCRIPTION:Join us for a shared reading group for adults at Keynsham Library.Come and enjoy listening to a variety of extracts from a range of reading material. No obligation to join in or contribute. Just sit back and enjoy the stories. Free Tea & Coffee available. We meet monthly.
URL:https://baneslibraries.co.uk/event/the-page-turners-16/
LOCATION:Keynsham Library & Information Service\, Market Walk\, Keynsham\, BS31 1FS\, Keynsham\, BS31 1FS\, GB
CATEGORIES:Adult's Events,Book Groups,Events,Keynsham Library,Library Events
ATTACH;FMTTYPE=image/jpeg:https://baneslibraries.co.uk/wp-content/uploads/2025/06/54434_image.jpg
END:VEVENT
BEGIN:VEVENT
DTSTART;TZID=Europe/London:20261208T140000
DTEND;TZID=Europe/London:20261208T150000
DTSTAMP:20260425T234143
CREATED:20260420T112944Z
LAST-MODIFIED:20260420T112946Z
UID:69207-1796738400-1796742000@baneslibraries.co.uk
SUMMARY:The Page Turners
DESCRIPTION:Shared reading group for adults at Midsomer Norton Library.Join us for a shared reading group for adults. Come and enjoy listening to a variety of extracts from a range of reading material.
URL:https://baneslibraries.co.uk/event/the-page-turners-33/
LOCATION:Library & Information Service\, High Street\, Midsomer Norton\, BA3 2DP\, Midsomer Norton\, BA3 2DP\, GB
CATEGORIES:Adult's Events,Book Groups,Events,Library Events,Midsomer Norton Library
ATTACH;FMTTYPE=image/png:https://baneslibraries.co.uk/wp-content/uploads/2025/06/54363_image.png
END:VEVENT
BEGIN:VEVENT
DTSTART;TZID=Europe/London:20261222T140000
DTEND;TZID=Europe/London:20261222T150000
DTSTAMP:20260425T234143
CREATED:20260420T112946Z
LAST-MODIFIED:20260420T112948Z
UID:69209-1797948000-1797951600@baneslibraries.co.uk
SUMMARY:The Page Turners
DESCRIPTION:Shared reading group for adults at Midsomer Norton Library.Join us for a shared reading group for adults. Come and enjoy listening to a variety of extracts from a range of reading material.
URL:https://baneslibraries.co.uk/event/the-page-turners-34/
LOCATION:Library & Information Service\, High Street\, Midsomer Norton\, BA3 2DP\, Midsomer Norton\, BA3 2DP\, GB
CATEGORIES:Adult's Events,Book Groups,Events,Library Events,Midsomer Norton Library
ATTACH;FMTTYPE=image/png:https://baneslibraries.co.uk/wp-content/uploads/2025/06/54363_image.png
END:VEVENT
BEGIN:VEVENT
DTSTART;TZID=Europe/London:20270101T140000
DTEND;TZID=Europe/London:20270101T150000
DTSTAMP:20260425T234143
CREATED:20260416T162213Z
LAST-MODIFIED:20260416T162214Z
UID:69112-1798812000-1798815600@baneslibraries.co.uk
SUMMARY:The Page Turners
DESCRIPTION:Join us for a shared reading group for adults at Keynsham Library.Come and enjoy listening to a variety of extracts from a range of reading material. No obligation to join in or contribute. Just sit back and enjoy the stories. Free Tea & Coffee available. We meet monthly.
URL:https://baneslibraries.co.uk/event/the-page-turners-15/
LOCATION:Keynsham Library & Information Service\, Market Walk\, Keynsham\, BS31 1FS\, Keynsham\, BS31 1FS\, GB
CATEGORIES:Adult's Events,Book Groups,Events,Keynsham Library,Library Events
ATTACH;FMTTYPE=image/jpeg:https://baneslibraries.co.uk/wp-content/uploads/2025/06/54434_image.jpg
END:VEVENT
BEGIN:VEVENT
DTSTART;TZID=Europe/London:20270105T140000
DTEND;TZID=Europe/London:20270105T150000
DTSTAMP:20260425T234143
CREATED:20260420T112948Z
LAST-MODIFIED:20260420T112950Z
UID:69211-1799157600-1799161200@baneslibraries.co.uk
SUMMARY:The Page Turners
DESCRIPTION:Shared reading group for adults at Midsomer Norton Library.Join us for a shared reading group for adults. Come and enjoy listening to a variety of extracts from a range of reading material.
URL:https://baneslibraries.co.uk/event/the-page-turners-35/
LOCATION:Library & Information Service\, High Street\, Midsomer Norton\, BA3 2DP\, Midsomer Norton\, BA3 2DP\, GB
CATEGORIES:Adult's Events,Book Groups,Events,Library Events,Midsomer Norton Library
ATTACH;FMTTYPE=image/png:https://baneslibraries.co.uk/wp-content/uploads/2025/06/54363_image.png
END:VEVENT
BEGIN:VEVENT
DTSTART;TZID=Europe/London:20270119T140000
DTEND;TZID=Europe/London:20270119T150000
DTSTAMP:20260425T234143
CREATED:20260420T112950Z
LAST-MODIFIED:20260420T112952Z
UID:69213-1800367200-1800370800@baneslibraries.co.uk
SUMMARY:The Page Turners
DESCRIPTION:Shared reading group for adults at Midsomer Norton Library.Join us for a shared reading group for adults. Come and enjoy listening to a variety of extracts from a range of reading material.
URL:https://baneslibraries.co.uk/event/the-page-turners-36/
LOCATION:Library & Information Service\, High Street\, Midsomer Norton\, BA3 2DP\, Midsomer Norton\, BA3 2DP\, GB
CATEGORIES:Adult's Events,Book Groups,Events,Library Events,Midsomer Norton Library
ATTACH;FMTTYPE=image/png:https://baneslibraries.co.uk/wp-content/uploads/2025/06/54363_image.png
END:VEVENT
BEGIN:VEVENT
DTSTART;TZID=Europe/London:20270202T140000
DTEND;TZID=Europe/London:20270202T150000
DTSTAMP:20260425T234143
CREATED:20260420T112953Z
LAST-MODIFIED:20260420T112954Z
UID:69215-1801576800-1801580400@baneslibraries.co.uk
SUMMARY:The Page Turners
DESCRIPTION:Shared reading group for adults at Midsomer Norton Library.Join us for a shared reading group for adults. Come and enjoy listening to a variety of extracts from a range of reading material.
URL:https://baneslibraries.co.uk/event/the-page-turners-37/
LOCATION:Library & Information Service\, High Street\, Midsomer Norton\, BA3 2DP\, Midsomer Norton\, BA3 2DP\, GB
CATEGORIES:Adult's Events,Book Groups,Events,Library Events,Midsomer Norton Library
ATTACH;FMTTYPE=image/png:https://baneslibraries.co.uk/wp-content/uploads/2025/06/54363_image.png
END:VEVENT
BEGIN:VEVENT
DTSTART;TZID=Europe/London:20270205T140000
DTEND;TZID=Europe/London:20270205T150000
DTSTAMP:20260425T234143
CREATED:20260416T162212Z
LAST-MODIFIED:20260416T162213Z
UID:69114-1801836000-1801839600@baneslibraries.co.uk
SUMMARY:The Page Turners
DESCRIPTION:Join us for a shared reading group for adults at Keynsham Library.Come and enjoy listening to a variety of extracts from a range of reading material. No obligation to join in or contribute. Just sit back and enjoy the stories. Free Tea & Coffee available. We meet monthly.
URL:https://baneslibraries.co.uk/event/the-page-turners-14/
LOCATION:Keynsham Library & Information Service\, Market Walk\, Keynsham\, BS31 1FS\, Keynsham\, BS31 1FS\, GB
CATEGORIES:Adult's Events,Book Groups,Events,Keynsham Library,Library Events
ATTACH;FMTTYPE=image/jpeg:https://baneslibraries.co.uk/wp-content/uploads/2025/06/54434_image.jpg
END:VEVENT
BEGIN:VEVENT
DTSTART;TZID=Europe/London:20270216T140000
DTEND;TZID=Europe/London:20270216T150000
DTSTAMP:20260425T234143
CREATED:20260420T112955Z
LAST-MODIFIED:20260420T112957Z
UID:69217-1802786400-1802790000@baneslibraries.co.uk
SUMMARY:The Page Turners
DESCRIPTION:Shared reading group for adults at Midsomer Norton Library.Join us for a shared reading group for adults. Come and enjoy listening to a variety of extracts from a range of reading material.
URL:https://baneslibraries.co.uk/event/the-page-turners-38/
LOCATION:Library & Information Service\, High Street\, Midsomer Norton\, BA3 2DP\, Midsomer Norton\, BA3 2DP\, GB
CATEGORIES:Adult's Events,Book Groups,Events,Library Events,Midsomer Norton Library
ATTACH;FMTTYPE=image/png:https://baneslibraries.co.uk/wp-content/uploads/2025/06/54363_image.png
END:VEVENT
BEGIN:VEVENT
DTSTART;TZID=Europe/London:20270302T140000
DTEND;TZID=Europe/London:20270302T150000
DTSTAMP:20260425T234143
CREATED:20260420T112957Z
LAST-MODIFIED:20260420T112959Z
UID:69219-1803996000-1803999600@baneslibraries.co.uk
SUMMARY:The Page Turners
DESCRIPTION:Shared reading group for adults at Midsomer Norton Library.Join us for a shared reading group for adults. Come and enjoy listening to a variety of extracts from a range of reading material.
URL:https://baneslibraries.co.uk/event/the-page-turners-40/
LOCATION:Library & Information Service\, High Street\, Midsomer Norton\, BA3 2DP\, Midsomer Norton\, BA3 2DP\, GB
CATEGORIES:Adult's Events,Book Groups,Events,Library Events,Midsomer Norton Library
ATTACH;FMTTYPE=image/png:https://baneslibraries.co.uk/wp-content/uploads/2025/06/54363_image.png
END:VEVENT
BEGIN:VEVENT
DTSTART;TZID=Europe/London:20270305T140000
DTEND;TZID=Europe/London:20270305T150000
DTSTAMP:20260425T234143
CREATED:20260416T162210Z
LAST-MODIFIED:20260416T162211Z
UID:69116-1804255200-1804258800@baneslibraries.co.uk
SUMMARY:The Page Turners
DESCRIPTION:Join us for a shared reading group for adults at Keynsham Library.Come and enjoy listening to a variety of extracts from a range of reading material. No obligation to join in or contribute. Just sit back and enjoy the stories. Free Tea & Coffee available. We meet monthly.
URL:https://baneslibraries.co.uk/event/the-page-turners-12/
LOCATION:Keynsham Library & Information Service\, Market Walk\, Keynsham\, BS31 1FS\, Keynsham\, BS31 1FS\, GB
CATEGORIES:Adult's Events,Book Groups,Events,Keynsham Library,Library Events
ATTACH;FMTTYPE=image/jpeg:https://baneslibraries.co.uk/wp-content/uploads/2025/06/54434_image.jpg
END:VEVENT
BEGIN:VEVENT
DTSTART;TZID=Europe/London:20270316T140000
DTEND;TZID=Europe/London:20270316T150000
DTSTAMP:20260425T234143
CREATED:20260420T113000Z
LAST-MODIFIED:20260420T113001Z
UID:69221-1805205600-1805209200@baneslibraries.co.uk
SUMMARY:The Page Turners
DESCRIPTION:Shared reading group for adults at Midsomer Norton Library.Join us for a shared reading group for adults. Come and enjoy listening to a variety of extracts from a range of reading material.
URL:https://baneslibraries.co.uk/event/the-page-turners-41/
LOCATION:Library & Information Service\, High Street\, Midsomer Norton\, BA3 2DP\, Midsomer Norton\, BA3 2DP\, GB
CATEGORIES:Adult's Events,Book Groups,Events,Library Events,Midsomer Norton Library
ATTACH;FMTTYPE=image/png:https://baneslibraries.co.uk/wp-content/uploads/2025/06/54363_image.png
END:VEVENT
BEGIN:VEVENT
DTSTART;TZID=Europe/London:20270330T140000
DTEND;TZID=Europe/London:20270330T150000
DTSTAMP:20260425T234143
CREATED:20260420T113002Z
LAST-MODIFIED:20260420T113005Z
UID:69223-1806415200-1806418800@baneslibraries.co.uk
SUMMARY:The Page Turners
DESCRIPTION:Shared reading group for adults at Midsomer Norton Library.Join us for a shared reading group for adults. Come and enjoy listening to a variety of extracts from a range of reading material.
URL:https://baneslibraries.co.uk/event/the-page-turners-42/
LOCATION:Library & Information Service\, High Street\, Midsomer Norton\, BA3 2DP\, Midsomer Norton\, BA3 2DP\, GB
CATEGORIES:Adult's Events,Book Groups,Events,Library Events,Midsomer Norton Library
ATTACH;FMTTYPE=image/png:https://baneslibraries.co.uk/wp-content/uploads/2025/06/54363_image.png
END:VEVENT
BEGIN:VEVENT
DTSTART;TZID=Europe/London:20270413T140000
DTEND;TZID=Europe/London:20270413T150000
DTSTAMP:20260425T234143
CREATED:20260420T113004Z
LAST-MODIFIED:20260420T113006Z
UID:69225-1807624800-1807628400@baneslibraries.co.uk
SUMMARY:The Page Turners
DESCRIPTION:Shared reading group for adults at Midsomer Norton Library.Join us for a shared reading group for adults. Come and enjoy listening to a variety of extracts from a range of reading material.
URL:https://baneslibraries.co.uk/event/the-page-turners-44/
LOCATION:Library & Information Service\, High Street\, Midsomer Norton\, BA3 2DP\, Midsomer Norton\, BA3 2DP\, GB
CATEGORIES:Adult's Events,Book Groups,Events,Library Events,Midsomer Norton Library
ATTACH;FMTTYPE=image/png:https://baneslibraries.co.uk/wp-content/uploads/2025/06/54363_image.png
END:VEVENT
BEGIN:VEVENT
DTSTART;TZID=Europe/London:20270427T140000
DTEND;TZID=Europe/London:20270427T150000
DTSTAMP:20260425T234143
CREATED:20260420T113006Z
LAST-MODIFIED:20260420T113007Z
UID:69227-1808834400-1808838000@baneslibraries.co.uk
SUMMARY:The Page Turners
DESCRIPTION:Shared reading group for adults at Midsomer Norton Library.Join us for a shared reading group for adults. Come and enjoy listening to a variety of extracts from a range of reading material.
URL:https://baneslibraries.co.uk/event/the-page-turners-45/
LOCATION:Library & Information Service\, High Street\, Midsomer Norton\, BA3 2DP\, Midsomer Norton\, BA3 2DP\, GB
CATEGORIES:Adult's Events,Book Groups,Events,Library Events,Midsomer Norton Library
ATTACH;FMTTYPE=image/png:https://baneslibraries.co.uk/wp-content/uploads/2025/06/54363_image.png
END:VEVENT
END:VCALENDAR