BEGIN:VCALENDAR
VERSION:2.0
PRODID:-//BaNES Virtual Library - ECPv6.15.20//NONSGML v1.0//EN
CALSCALE:GREGORIAN
METHOD:PUBLISH
X-WR-CALNAME:BaNES Virtual Library
X-ORIGINAL-URL:https://baneslibraries.co.uk
X-WR-CALDESC:Events for BaNES Virtual Library
REFRESH-INTERVAL;VALUE=DURATION:PT1H
X-Robots-Tag:noindex
X-PUBLISHED-TTL:PT1H
BEGIN:VTIMEZONE
TZID:Europe/London
BEGIN:DAYLIGHT
TZOFFSETFROM:+0000
TZOFFSETTO:+0100
TZNAME:BST
DTSTART:20250330T010000
END:DAYLIGHT
BEGIN:STANDARD
TZOFFSETFROM:+0100
TZOFFSETTO:+0000
TZNAME:GMT
DTSTART:20251026T010000
END:STANDARD
BEGIN:DAYLIGHT
TZOFFSETFROM:+0000
TZOFFSETTO:+0100
TZNAME:BST
DTSTART:20260329T010000
END:DAYLIGHT
BEGIN:STANDARD
TZOFFSETFROM:+0100
TZOFFSETTO:+0000
TZNAME:GMT
DTSTART:20261025T010000
END:STANDARD
BEGIN:DAYLIGHT
TZOFFSETFROM:+0000
TZOFFSETTO:+0100
TZNAME:BST
DTSTART:20270328T010000
END:DAYLIGHT
BEGIN:STANDARD
TZOFFSETFROM:+0100
TZOFFSETTO:+0000
TZNAME:GMT
DTSTART:20271031T010000
END:STANDARD
END:VTIMEZONE
BEGIN:VEVENT
DTSTART;TZID=Europe/London:20260603T140000
DTEND;TZID=Europe/London:20260603T150000
DTSTAMP:20260425T221634
CREATED:20260306T171519Z
LAST-MODIFIED:20260306T171523Z
UID:66573-1780495200-1780498800@baneslibraries.co.uk
SUMMARY:Reading Friends Poetry Group
DESCRIPTION:A new poetry group for adults at Bath Central Library.Curious about poetry but not sure where to start? This relaxed and welcoming group is perfect for beginners and poetry lovers alike. Come along to chat\, listen\, and share your favourite poems — or just enjoy the atmosphere. No experience needed\, just an open heart and a love for words!
URL:https://baneslibraries.co.uk/event/reading-friends-poetry-group-11/
LOCATION:Bath Central Library\, 19-23 The Podium\, Bath\, BA1 5AN\, Bath\, BA1 5AN\, GB
CATEGORIES:Adult's Events,Bath Central Library,Book Groups,Events,Library Events
ATTACH;FMTTYPE=image/png:https://baneslibraries.co.uk/wp-content/uploads/2025/10/60224_image.png
END:VEVENT
BEGIN:VEVENT
DTSTART;TZID=Europe/London:20260604T133000
DTEND;TZID=Europe/London:20260604T143000
DTSTAMP:20260425T221634
CREATED:20260121T114651Z
LAST-MODIFIED:20260121T114652Z
UID:64878-1780579800-1780583400@baneslibraries.co.uk
SUMMARY:Book Buddies Home Education Group at Midsomer Norton Library
DESCRIPTION:Is your child home educated and aged between 7 – 14?\nWe’ve set up a home educated group in Midsomer Norton Library and we’d love you to comeThese are drop-in sessions\, no ticket required. We use lots of library resources including our Hublets\, books\, games and crafts to make the sessions fun and interactive with an emphasis on reading\, books and authors. Sessions are informal and relaxed and there are lots of opportunities to chat to other home educated families. Time: 1.30 – 2.30pm
URL:https://baneslibraries.co.uk/event/book-buddies-home-education-group-at-midsomer-norton-library-5/
LOCATION:Library & Information Service\, High Street\, Midsomer Norton\, BA3 2DP\, Midsomer Norton\, BA3 2DP\, GB
CATEGORIES:Book Groups,Children's Events,Events,Library Events,Midsomer Norton Library
ATTACH;FMTTYPE=image/png:https://baneslibraries.co.uk/wp-content/uploads/2026/01/64850_image.png
END:VEVENT
BEGIN:VEVENT
DTSTART;TZID=Europe/London:20260605T140000
DTEND;TZID=Europe/London:20260605T150000
DTSTAMP:20260425T221634
CREATED:20260416T162206Z
LAST-MODIFIED:20260416T162207Z
UID:69098-1780668000-1780671600@baneslibraries.co.uk
SUMMARY:The Page Turners
DESCRIPTION:Join us for a shared reading group for adults at Keynsham Library.Come and enjoy listening to a variety of extracts from a range of reading material. No obligation to join in or contribute. Just sit back and enjoy the stories. Free Tea & Coffee available. We meet monthly.
URL:https://baneslibraries.co.uk/event/the-page-turners-9/
LOCATION:Keynsham Library & Information Service\, Market Walk\, Keynsham\, BS31 1FS\, Keynsham\, BS31 1FS\, GB
CATEGORIES:Adult's Events,Book Groups,Events,Keynsham Library,Library Events
ATTACH;FMTTYPE=image/jpeg:https://baneslibraries.co.uk/wp-content/uploads/2025/06/54434_image.jpg
END:VEVENT
BEGIN:VEVENT
DTSTART;TZID=Europe/London:20260609T140000
DTEND;TZID=Europe/London:20260609T150000
DTSTAMP:20260425T221634
CREATED:20260420T112811Z
LAST-MODIFIED:20260420T112816Z
UID:69179-1781013600-1781017200@baneslibraries.co.uk
SUMMARY:The Page Turners
DESCRIPTION:Shared reading group for adults at Midsomer Norton Library.Join us for a shared reading group for adults. Come and enjoy listening to a variety of extracts from a range of reading material.
URL:https://baneslibraries.co.uk/event/the-page-turners-20/
LOCATION:Library & Information Service\, High Street\, Midsomer Norton\, BA3 2DP\, Midsomer Norton\, BA3 2DP\, GB
CATEGORIES:Adult's Events,Book Groups,Events,Library Events,Midsomer Norton Library
ATTACH;FMTTYPE=image/png:https://baneslibraries.co.uk/wp-content/uploads/2025/06/54363_image.png
END:VEVENT
BEGIN:VEVENT
DTSTART;TZID=Europe/London:20260618T133000
DTEND;TZID=Europe/London:20260618T143000
DTSTAMP:20260425T221634
CREATED:20260121T114649Z
LAST-MODIFIED:20260121T114650Z
UID:64881-1781789400-1781793000@baneslibraries.co.uk
SUMMARY:Book Buddies Home Education Group at Midsomer Norton Library
DESCRIPTION:Is your child home educated and aged between 7 – 14?\nWe’ve set up a home educated group in Midsomer Norton Library and we’d love you to comeThese are drop-in sessions\, no ticket required. We use lots of library resources including our Hublets\, books\, games and crafts to make the sessions fun and interactive with an emphasis on reading\, books and authors. Sessions are informal and relaxed and there are lots of opportunities to chat to other home educated families. Time: 1.30 – 2.30pm
URL:https://baneslibraries.co.uk/event/book-buddies-home-education-group-at-midsomer-norton-library-4/
LOCATION:Library & Information Service\, High Street\, Midsomer Norton\, BA3 2DP\, Midsomer Norton\, BA3 2DP\, GB
CATEGORIES:Book Groups,Children's Events,Events,Library Events,Midsomer Norton Library
ATTACH;FMTTYPE=image/png:https://baneslibraries.co.uk/wp-content/uploads/2026/01/64850_image.png
END:VEVENT
BEGIN:VEVENT
DTSTART;TZID=Europe/London:20260623T140000
DTEND;TZID=Europe/London:20260623T150000
DTSTAMP:20260425T221634
CREATED:20260420T112813Z
LAST-MODIFIED:20260420T112824Z
UID:69181-1782223200-1782226800@baneslibraries.co.uk
SUMMARY:The Page Turners
DESCRIPTION:Shared reading group for adults at Midsomer Norton Library.Join us for a shared reading group for adults. Come and enjoy listening to a variety of extracts from a range of reading material.
URL:https://baneslibraries.co.uk/event/the-page-turners-21/
LOCATION:Library & Information Service\, High Street\, Midsomer Norton\, BA3 2DP\, Midsomer Norton\, BA3 2DP\, GB
CATEGORIES:Adult's Events,Book Groups,Events,Library Events,Midsomer Norton Library
ATTACH;FMTTYPE=image/png:https://baneslibraries.co.uk/wp-content/uploads/2025/06/54363_image.png
END:VEVENT
BEGIN:VEVENT
DTSTART;TZID=Europe/London:20260625T180000
DTEND;TZID=Europe/London:20260625T190000
DTSTAMP:20260425T221634
CREATED:20250430T121421Z
LAST-MODIFIED:20260327T161508Z
UID:52588-1782410400-1782414000@baneslibraries.co.uk
SUMMARY:Bath Bloodhounds Book Group
DESCRIPTION:June Session: A Killing in November by Simon Mason\n \nB&NES Libraries completely free\, online only\, crime reading\, monthly book group!\n\n\nThis event needs to be booked & is held online. \nFrom old-fashioned detectives to modern-day mysteries\nJoin us on the last Thursday of every month at 6pm to discuss our chosen crime book. We’ll send out the link to the secure Teams room a few hours before each meet-up\, so you have plenty of time to make a cuppa and get comfy. \nWe have two wonderful volunteers\, but encourage all members of the group to suggest books and lead sessions. \nVolunteer Rachel Ward is the author of the popular Ant and Bea Mysteries set in Kingsleigh\, a town which bears a remarkable resemblance to Keynsham. Rachel also wrote the YA series Numbers and hosts a fortnightly book group on twitter using the hashtag #CosyCrimeClub. \nOur group is open to all LibrariesWest members. If you don’t yet have a library card\, you register HERE. \nThe group is aimed at adults\, but under 18s can join us if they are accompanied by a responsible adult. \nSign up for the July to June meet-ups. Places are limited\, so reserve your space now! \nYou only need to book one session to be signed up to all! \nIf you have any questions or suggestions feel free to contact us or visit: baneslibraries.co.uk/groups/bath-bloodhounds-book-group \n\n\nUpcoming Sessions\nTo find out about the next book we’re reading\, visit our Events Calendar \nWe decide on books to read 2-3 months in advance\, so you have plenty of time to get reading! We suggest you check if the books are in stock in your local Library in plenty of time\, so you can place a reservation if they’re on loan.
URL:https://baneslibraries.co.uk/event/bath-bloodhounds-book-group-2/
LOCATION:Online Event
CATEGORIES:Adult's Events,Book Groups,Events,Library Events,Online,Young Adult's Events
ATTACH;FMTTYPE=image/png:https://baneslibraries.co.uk/wp-content/uploads/2025/04/52560_image.png
END:VEVENT
END:VCALENDAR