BEGIN:VCALENDAR
VERSION:2.0
PRODID:-//BaNES Virtual Library - ECPv6.15.20//NONSGML v1.0//EN
CALSCALE:GREGORIAN
METHOD:PUBLISH
X-WR-CALNAME:BaNES Virtual Library
X-ORIGINAL-URL:https://baneslibraries.co.uk
X-WR-CALDESC:Events for BaNES Virtual Library
REFRESH-INTERVAL;VALUE=DURATION:PT1H
X-Robots-Tag:noindex
X-PUBLISHED-TTL:PT1H
BEGIN:VTIMEZONE
TZID:Europe/London
BEGIN:DAYLIGHT
TZOFFSETFROM:+0000
TZOFFSETTO:+0100
TZNAME:BST
DTSTART:20260329T010000
END:DAYLIGHT
BEGIN:STANDARD
TZOFFSETFROM:+0100
TZOFFSETTO:+0000
TZNAME:GMT
DTSTART:20261025T010000
END:STANDARD
BEGIN:DAYLIGHT
TZOFFSETFROM:+0000
TZOFFSETTO:+0100
TZNAME:BST
DTSTART:20270328T010000
END:DAYLIGHT
BEGIN:STANDARD
TZOFFSETFROM:+0100
TZOFFSETTO:+0000
TZNAME:GMT
DTSTART:20271031T010000
END:STANDARD
BEGIN:DAYLIGHT
TZOFFSETFROM:+0000
TZOFFSETTO:+0100
TZNAME:BST
DTSTART:20280326T010000
END:DAYLIGHT
BEGIN:STANDARD
TZOFFSETFROM:+0100
TZOFFSETTO:+0000
TZNAME:GMT
DTSTART:20281029T010000
END:STANDARD
END:VTIMEZONE
BEGIN:VEVENT
DTSTART;TZID=Europe/London:20270108T140000
DTEND;TZID=Europe/London:20270108T150000
DTSTAMP:20260421T121023
CREATED:20260420T142034Z
LAST-MODIFIED:20260420T142039Z
UID:69356-1799416800-1799420400@baneslibraries.co.uk
SUMMARY:Friendship Fridays at Midsomer Norton Library
DESCRIPTION:Drop-in to our relaxed social group for adults. Have a go at a wordsearch\, crossword or a board game over a cuppa and a chat.THIS IS A DROP-IN SOCIAL GROUP\, no tickets required. Drop-in to our relaxed social group for adults. Have a go at a wordsearch\, crossword or a board game over a cuppa and a chat. Every Friday 2 – 3pm.
URL:https://baneslibraries.co.uk/event/friendship-fridays-at-midsomer-norton-library-42/
LOCATION:Library & Information Service\, High Street\, Midsomer Norton\, BA3 2DP\, Midsomer Norton\, BA3 2DP\, GB
CATEGORIES:Adult's Events,Events,Keynsham Library,Library Events
ATTACH;FMTTYPE=image/png:https://baneslibraries.co.uk/wp-content/uploads/2025/06/54225_image.png
END:VEVENT
BEGIN:VEVENT
DTSTART;TZID=Europe/London:20270115T140000
DTEND;TZID=Europe/London:20270115T150000
DTSTAMP:20260421T121023
CREATED:20260420T142033Z
LAST-MODIFIED:20260420T142036Z
UID:69358-1800021600-1800025200@baneslibraries.co.uk
SUMMARY:Friendship Fridays at Midsomer Norton Library
DESCRIPTION:Drop-in to our relaxed social group for adults. Have a go at a wordsearch\, crossword or a board game over a cuppa and a chat.THIS IS A DROP-IN SOCIAL GROUP\, no tickets required. Drop-in to our relaxed social group for adults. Have a go at a wordsearch\, crossword or a board game over a cuppa and a chat. Every Friday 2 – 3pm.
URL:https://baneslibraries.co.uk/event/friendship-fridays-at-midsomer-norton-library-41/
LOCATION:Library & Information Service\, High Street\, Midsomer Norton\, BA3 2DP\, Midsomer Norton\, BA3 2DP\, GB
CATEGORIES:Adult's Events,Events,Keynsham Library,Library Events
ATTACH;FMTTYPE=image/png:https://baneslibraries.co.uk/wp-content/uploads/2025/06/54225_image.png
END:VEVENT
BEGIN:VEVENT
DTSTART;TZID=Europe/London:20270119T140000
DTEND;TZID=Europe/London:20270119T150000
DTSTAMP:20260421T121023
CREATED:20260420T112950Z
LAST-MODIFIED:20260420T112952Z
UID:69213-1800367200-1800370800@baneslibraries.co.uk
SUMMARY:The Page Turners
DESCRIPTION:Shared reading group for adults at Midsomer Norton Library.Join us for a shared reading group for adults. Come and enjoy listening to a variety of extracts from a range of reading material.
URL:https://baneslibraries.co.uk/event/the-page-turners-36/
LOCATION:Library & Information Service\, High Street\, Midsomer Norton\, BA3 2DP\, Midsomer Norton\, BA3 2DP\, GB
CATEGORIES:Adult's Events,Book Groups,Events,Library Events,Midsomer Norton Library
ATTACH;FMTTYPE=image/png:https://baneslibraries.co.uk/wp-content/uploads/2025/06/54363_image.png
END:VEVENT
BEGIN:VEVENT
DTSTART;TZID=Europe/London:20270122T140000
DTEND;TZID=Europe/London:20270122T150000
DTSTAMP:20260421T121023
CREATED:20260420T142052Z
LAST-MODIFIED:20260420T142054Z
UID:69360-1800626400-1800630000@baneslibraries.co.uk
SUMMARY:Friendship Fridays at Midsomer Norton Library
DESCRIPTION:Drop-in to our relaxed social group for adults. Have a go at a wordsearch\, crossword or a board game over a cuppa and a chat.THIS IS A DROP-IN SOCIAL GROUP\, no tickets required. Drop-in to our relaxed social group for adults. Have a go at a wordsearch\, crossword or a board game over a cuppa and a chat. Every Friday 2 – 3pm.
URL:https://baneslibraries.co.uk/event/friendship-fridays-at-midsomer-norton-library-52/
LOCATION:Library & Information Service\, High Street\, Midsomer Norton\, BA3 2DP\, Midsomer Norton\, BA3 2DP\, GB
CATEGORIES:Adult's Events,Events,Keynsham Library,Library Events
ATTACH;FMTTYPE=image/png:https://baneslibraries.co.uk/wp-content/uploads/2025/06/54225_image.png
END:VEVENT
BEGIN:VEVENT
DTSTART;TZID=Europe/London:20270129T140000
DTEND;TZID=Europe/London:20270129T150000
DTSTAMP:20260421T121023
CREATED:20260420T142050Z
LAST-MODIFIED:20260420T142052Z
UID:69362-1801231200-1801234800@baneslibraries.co.uk
SUMMARY:Friendship Fridays at Midsomer Norton Library
DESCRIPTION:Drop-in to our relaxed social group for adults. Have a go at a wordsearch\, crossword or a board game over a cuppa and a chat.THIS IS A DROP-IN SOCIAL GROUP\, no tickets required. Drop-in to our relaxed social group for adults. Have a go at a wordsearch\, crossword or a board game over a cuppa and a chat. Every Friday 2 – 3pm.
URL:https://baneslibraries.co.uk/event/friendship-fridays-at-midsomer-norton-library-51/
LOCATION:Library & Information Service\, High Street\, Midsomer Norton\, BA3 2DP\, Midsomer Norton\, BA3 2DP\, GB
CATEGORIES:Adult's Events,Events,Keynsham Library,Library Events
ATTACH;FMTTYPE=image/png:https://baneslibraries.co.uk/wp-content/uploads/2025/06/54225_image.png
END:VEVENT
BEGIN:VEVENT
DTSTART;TZID=Europe/London:20270202T140000
DTEND;TZID=Europe/London:20270202T150000
DTSTAMP:20260421T121023
CREATED:20260420T112953Z
LAST-MODIFIED:20260420T112954Z
UID:69215-1801576800-1801580400@baneslibraries.co.uk
SUMMARY:The Page Turners
DESCRIPTION:Shared reading group for adults at Midsomer Norton Library.Join us for a shared reading group for adults. Come and enjoy listening to a variety of extracts from a range of reading material.
URL:https://baneslibraries.co.uk/event/the-page-turners-37/
LOCATION:Library & Information Service\, High Street\, Midsomer Norton\, BA3 2DP\, Midsomer Norton\, BA3 2DP\, GB
CATEGORIES:Adult's Events,Book Groups,Events,Library Events,Midsomer Norton Library
ATTACH;FMTTYPE=image/png:https://baneslibraries.co.uk/wp-content/uploads/2025/06/54363_image.png
END:VEVENT
BEGIN:VEVENT
DTSTART;TZID=Europe/London:20270205T140000
DTEND;TZID=Europe/London:20270205T150000
DTSTAMP:20260421T121023
CREATED:20260416T162212Z
LAST-MODIFIED:20260416T162213Z
UID:69114-1801836000-1801839600@baneslibraries.co.uk
SUMMARY:The Page Turners
DESCRIPTION:Join us for a shared reading group for adults at Keynsham Library.Come and enjoy listening to a variety of extracts from a range of reading material. No obligation to join in or contribute. Just sit back and enjoy the stories. Free Tea & Coffee available. We meet monthly.
URL:https://baneslibraries.co.uk/event/the-page-turners-14/
LOCATION:Keynsham Library & Information Service\, Market Walk\, Keynsham\, BS31 1FS\, Keynsham\, BS31 1FS\, GB
CATEGORIES:Adult's Events,Book Groups,Events,Keynsham Library,Library Events
ATTACH;FMTTYPE=image/jpeg:https://baneslibraries.co.uk/wp-content/uploads/2025/06/54434_image.jpg
END:VEVENT
BEGIN:VEVENT
DTSTART;TZID=Europe/London:20270205T140000
DTEND;TZID=Europe/London:20270205T150000
DTSTAMP:20260421T121023
CREATED:20260420T142048Z
LAST-MODIFIED:20260420T142052Z
UID:69364-1801836000-1801839600@baneslibraries.co.uk
SUMMARY:Friendship Fridays at Midsomer Norton Library
DESCRIPTION:Drop-in to our relaxed social group for adults. Have a go at a wordsearch\, crossword or a board game over a cuppa and a chat.THIS IS A DROP-IN SOCIAL GROUP\, no tickets required. Drop-in to our relaxed social group for adults. Have a go at a wordsearch\, crossword or a board game over a cuppa and a chat. Every Friday 2 – 3pm.
URL:https://baneslibraries.co.uk/event/friendship-fridays-at-midsomer-norton-library-50/
LOCATION:Library & Information Service\, High Street\, Midsomer Norton\, BA3 2DP\, Midsomer Norton\, BA3 2DP\, GB
CATEGORIES:Adult's Events,Events,Keynsham Library,Library Events
ATTACH;FMTTYPE=image/png:https://baneslibraries.co.uk/wp-content/uploads/2025/06/54225_image.png
END:VEVENT
BEGIN:VEVENT
DTSTART;TZID=Europe/London:20270212T140000
DTEND;TZID=Europe/London:20270212T150000
DTSTAMP:20260421T121023
CREATED:20260420T142047Z
LAST-MODIFIED:20260420T142050Z
UID:69367-1802440800-1802444400@baneslibraries.co.uk
SUMMARY:Friendship Fridays at Midsomer Norton Library
DESCRIPTION:Drop-in to our relaxed social group for adults. Have a go at a wordsearch\, crossword or a board game over a cuppa and a chat.THIS IS A DROP-IN SOCIAL GROUP\, no tickets required. Drop-in to our relaxed social group for adults. Have a go at a wordsearch\, crossword or a board game over a cuppa and a chat. Every Friday 2 – 3pm.
URL:https://baneslibraries.co.uk/event/friendship-fridays-at-midsomer-norton-library-49/
LOCATION:Library & Information Service\, High Street\, Midsomer Norton\, BA3 2DP\, Midsomer Norton\, BA3 2DP\, GB
CATEGORIES:Adult's Events,Events,Keynsham Library,Library Events
ATTACH;FMTTYPE=image/png:https://baneslibraries.co.uk/wp-content/uploads/2025/06/54225_image.png
END:VEVENT
BEGIN:VEVENT
DTSTART;TZID=Europe/London:20270216T140000
DTEND;TZID=Europe/London:20270216T150000
DTSTAMP:20260421T121023
CREATED:20260420T112955Z
LAST-MODIFIED:20260420T112957Z
UID:69217-1802786400-1802790000@baneslibraries.co.uk
SUMMARY:The Page Turners
DESCRIPTION:Shared reading group for adults at Midsomer Norton Library.Join us for a shared reading group for adults. Come and enjoy listening to a variety of extracts from a range of reading material.
URL:https://baneslibraries.co.uk/event/the-page-turners-38/
LOCATION:Library & Information Service\, High Street\, Midsomer Norton\, BA3 2DP\, Midsomer Norton\, BA3 2DP\, GB
CATEGORIES:Adult's Events,Book Groups,Events,Library Events,Midsomer Norton Library
ATTACH;FMTTYPE=image/png:https://baneslibraries.co.uk/wp-content/uploads/2025/06/54363_image.png
END:VEVENT
BEGIN:VEVENT
DTSTART;TZID=Europe/London:20270219T140000
DTEND;TZID=Europe/London:20270219T150000
DTSTAMP:20260421T121023
CREATED:20260420T142046Z
LAST-MODIFIED:20260420T142048Z
UID:69369-1803045600-1803049200@baneslibraries.co.uk
SUMMARY:Friendship Fridays at Midsomer Norton Library
DESCRIPTION:Drop-in to our relaxed social group for adults. Have a go at a wordsearch\, crossword or a board game over a cuppa and a chat.THIS IS A DROP-IN SOCIAL GROUP\, no tickets required. Drop-in to our relaxed social group for adults. Have a go at a wordsearch\, crossword or a board game over a cuppa and a chat. Every Friday 2 – 3pm.
URL:https://baneslibraries.co.uk/event/friendship-fridays-at-midsomer-norton-library-48/
LOCATION:Library & Information Service\, High Street\, Midsomer Norton\, BA3 2DP\, Midsomer Norton\, BA3 2DP\, GB
CATEGORIES:Adult's Events,Events,Keynsham Library,Library Events
ATTACH;FMTTYPE=image/png:https://baneslibraries.co.uk/wp-content/uploads/2025/06/54225_image.png
END:VEVENT
BEGIN:VEVENT
DTSTART;TZID=Europe/London:20270226T140000
DTEND;TZID=Europe/London:20270226T150000
DTSTAMP:20260421T121023
CREATED:20260420T142044Z
LAST-MODIFIED:20260420T142047Z
UID:69371-1803650400-1803654000@baneslibraries.co.uk
SUMMARY:Friendship Fridays at Midsomer Norton Library
DESCRIPTION:Drop-in to our relaxed social group for adults. Have a go at a wordsearch\, crossword or a board game over a cuppa and a chat.THIS IS A DROP-IN SOCIAL GROUP\, no tickets required. Drop-in to our relaxed social group for adults. Have a go at a wordsearch\, crossword or a board game over a cuppa and a chat. Every Friday 2 – 3pm.
URL:https://baneslibraries.co.uk/event/friendship-fridays-at-midsomer-norton-library-47/
LOCATION:Library & Information Service\, High Street\, Midsomer Norton\, BA3 2DP\, Midsomer Norton\, BA3 2DP\, GB
CATEGORIES:Adult's Events,Events,Keynsham Library,Library Events
ATTACH;FMTTYPE=image/png:https://baneslibraries.co.uk/wp-content/uploads/2025/06/54225_image.png
END:VEVENT
BEGIN:VEVENT
DTSTART;TZID=Europe/London:20270302T140000
DTEND;TZID=Europe/London:20270302T150000
DTSTAMP:20260421T121023
CREATED:20260420T112957Z
LAST-MODIFIED:20260420T112959Z
UID:69219-1803996000-1803999600@baneslibraries.co.uk
SUMMARY:The Page Turners
DESCRIPTION:Shared reading group for adults at Midsomer Norton Library.Join us for a shared reading group for adults. Come and enjoy listening to a variety of extracts from a range of reading material.
URL:https://baneslibraries.co.uk/event/the-page-turners-40/
LOCATION:Library & Information Service\, High Street\, Midsomer Norton\, BA3 2DP\, Midsomer Norton\, BA3 2DP\, GB
CATEGORIES:Adult's Events,Book Groups,Events,Library Events,Midsomer Norton Library
ATTACH;FMTTYPE=image/png:https://baneslibraries.co.uk/wp-content/uploads/2025/06/54363_image.png
END:VEVENT
BEGIN:VEVENT
DTSTART;TZID=Europe/London:20270305T140000
DTEND;TZID=Europe/London:20270305T150000
DTSTAMP:20260421T121023
CREATED:20260416T162210Z
LAST-MODIFIED:20260416T162211Z
UID:69116-1804255200-1804258800@baneslibraries.co.uk
SUMMARY:The Page Turners
DESCRIPTION:Join us for a shared reading group for adults at Keynsham Library.Come and enjoy listening to a variety of extracts from a range of reading material. No obligation to join in or contribute. Just sit back and enjoy the stories. Free Tea & Coffee available. We meet monthly.
URL:https://baneslibraries.co.uk/event/the-page-turners-12/
LOCATION:Keynsham Library & Information Service\, Market Walk\, Keynsham\, BS31 1FS\, Keynsham\, BS31 1FS\, GB
CATEGORIES:Adult's Events,Book Groups,Events,Keynsham Library,Library Events
ATTACH;FMTTYPE=image/jpeg:https://baneslibraries.co.uk/wp-content/uploads/2025/06/54434_image.jpg
END:VEVENT
BEGIN:VEVENT
DTSTART;TZID=Europe/London:20270316T140000
DTEND;TZID=Europe/London:20270316T150000
DTSTAMP:20260421T121023
CREATED:20260420T113000Z
LAST-MODIFIED:20260420T113001Z
UID:69221-1805205600-1805209200@baneslibraries.co.uk
SUMMARY:The Page Turners
DESCRIPTION:Shared reading group for adults at Midsomer Norton Library.Join us for a shared reading group for adults. Come and enjoy listening to a variety of extracts from a range of reading material.
URL:https://baneslibraries.co.uk/event/the-page-turners-41/
LOCATION:Library & Information Service\, High Street\, Midsomer Norton\, BA3 2DP\, Midsomer Norton\, BA3 2DP\, GB
CATEGORIES:Adult's Events,Book Groups,Events,Library Events,Midsomer Norton Library
ATTACH;FMTTYPE=image/png:https://baneslibraries.co.uk/wp-content/uploads/2025/06/54363_image.png
END:VEVENT
BEGIN:VEVENT
DTSTART;TZID=Europe/London:20270330T140000
DTEND;TZID=Europe/London:20270330T150000
DTSTAMP:20260421T121023
CREATED:20260420T113002Z
LAST-MODIFIED:20260420T113005Z
UID:69223-1806415200-1806418800@baneslibraries.co.uk
SUMMARY:The Page Turners
DESCRIPTION:Shared reading group for adults at Midsomer Norton Library.Join us for a shared reading group for adults. Come and enjoy listening to a variety of extracts from a range of reading material.
URL:https://baneslibraries.co.uk/event/the-page-turners-42/
LOCATION:Library & Information Service\, High Street\, Midsomer Norton\, BA3 2DP\, Midsomer Norton\, BA3 2DP\, GB
CATEGORIES:Adult's Events,Book Groups,Events,Library Events,Midsomer Norton Library
ATTACH;FMTTYPE=image/png:https://baneslibraries.co.uk/wp-content/uploads/2025/06/54363_image.png
END:VEVENT
BEGIN:VEVENT
DTSTART;TZID=Europe/London:20270413T140000
DTEND;TZID=Europe/London:20270413T150000
DTSTAMP:20260421T121023
CREATED:20260420T113004Z
LAST-MODIFIED:20260420T113006Z
UID:69225-1807624800-1807628400@baneslibraries.co.uk
SUMMARY:The Page Turners
DESCRIPTION:Shared reading group for adults at Midsomer Norton Library.Join us for a shared reading group for adults. Come and enjoy listening to a variety of extracts from a range of reading material.
URL:https://baneslibraries.co.uk/event/the-page-turners-44/
LOCATION:Library & Information Service\, High Street\, Midsomer Norton\, BA3 2DP\, Midsomer Norton\, BA3 2DP\, GB
CATEGORIES:Adult's Events,Book Groups,Events,Library Events,Midsomer Norton Library
ATTACH;FMTTYPE=image/png:https://baneslibraries.co.uk/wp-content/uploads/2025/06/54363_image.png
END:VEVENT
BEGIN:VEVENT
DTSTART;TZID=Europe/London:20270427T140000
DTEND;TZID=Europe/London:20270427T150000
DTSTAMP:20260421T121023
CREATED:20260420T113006Z
LAST-MODIFIED:20260420T113007Z
UID:69227-1808834400-1808838000@baneslibraries.co.uk
SUMMARY:The Page Turners
DESCRIPTION:Shared reading group for adults at Midsomer Norton Library.Join us for a shared reading group for adults. Come and enjoy listening to a variety of extracts from a range of reading material.
URL:https://baneslibraries.co.uk/event/the-page-turners-45/
LOCATION:Library & Information Service\, High Street\, Midsomer Norton\, BA3 2DP\, Midsomer Norton\, BA3 2DP\, GB
CATEGORIES:Adult's Events,Book Groups,Events,Library Events,Midsomer Norton Library
ATTACH;FMTTYPE=image/png:https://baneslibraries.co.uk/wp-content/uploads/2025/06/54363_image.png
END:VEVENT
END:VCALENDAR