BEGIN:VCALENDAR
VERSION:2.0
PRODID:-//BaNES Virtual Library - ECPv6.15.20//NONSGML v1.0//EN
CALSCALE:GREGORIAN
METHOD:PUBLISH
X-WR-CALNAME:BaNES Virtual Library
X-ORIGINAL-URL:https://baneslibraries.co.uk
X-WR-CALDESC:Events for BaNES Virtual Library
REFRESH-INTERVAL;VALUE=DURATION:PT1H
X-Robots-Tag:noindex
X-PUBLISHED-TTL:PT1H
BEGIN:VTIMEZONE
TZID:Europe/London
BEGIN:DAYLIGHT
TZOFFSETFROM:+0000
TZOFFSETTO:+0100
TZNAME:BST
DTSTART:20250330T010000
END:DAYLIGHT
BEGIN:STANDARD
TZOFFSETFROM:+0100
TZOFFSETTO:+0000
TZNAME:GMT
DTSTART:20251026T010000
END:STANDARD
BEGIN:DAYLIGHT
TZOFFSETFROM:+0000
TZOFFSETTO:+0100
TZNAME:BST
DTSTART:20260329T010000
END:DAYLIGHT
BEGIN:STANDARD
TZOFFSETFROM:+0100
TZOFFSETTO:+0000
TZNAME:GMT
DTSTART:20261025T010000
END:STANDARD
BEGIN:DAYLIGHT
TZOFFSETFROM:+0000
TZOFFSETTO:+0100
TZNAME:BST
DTSTART:20270328T010000
END:DAYLIGHT
BEGIN:STANDARD
TZOFFSETFROM:+0100
TZOFFSETTO:+0000
TZNAME:GMT
DTSTART:20271031T010000
END:STANDARD
END:VTIMEZONE
BEGIN:VEVENT
DTSTART;TZID=Europe/London:20260902T104500
DTEND;TZID=Europe/London:20260902T114500
DTSTAMP:20260423T123140
CREATED:20260323T105616Z
LAST-MODIFIED:20260323T120456Z
UID:67200-1788345900-1788349500@baneslibraries.co.uk
SUMMARY:Freshford Village Hall
DESCRIPTION:Open to everyone – just drop in!Our Mobile Library is packed with a great range of books and has technology giving you to access council and partner services online. The Mobile Library offers all of the same services as an ordinary library branch. You can use your LibrariesWest membership card to borrow\, reserve\, renew and return items from any LibrariesWest branch. In turn\, you can return any items you take out from the mobile library to any branch in the LibrariesWest area. Our vehicles are fully accessible\, with a lift facility*. We offer books in many formats. If you have particular access needs\, please discuss with the mobile librarian the outreach and access materials available from the Library Service. View our Mobile Library Page on the Virtual Library to find out about the routes and see our Access Guide\, which should help you to plan your visit and find out what you do on our Mobile Library.  *For safety reasons\, the lift can only be deployed certain stops. If you are unable to board\, staff are happy to get books for you. The accessible stops are: Week 1 Route 2 – Hinton BlewittWeek 1 Route 2 – Ubley Village HallWeek 1 Route 3 – Odd Down playing fieldWeek 1 Route 3 – Mulberry ParkWeek 2 Route 6 – BathamptonWeek 2 Route 7 – Combe DownWeek 2 Route 7 – Mulberry Park
URL:https://baneslibraries.co.uk/event/freshford-village-hall-4/
LOCATION:Freshford Village Memorial Hall\, Freshford Lane\, Bath\, BA2 7UR\, Bath\, BA2 7UR\, GB
CATEGORIES:Mobile Library,Mobile Library Route
ATTACH;FMTTYPE=image/png:https://baneslibraries.co.uk/wp-content/uploads/2025/09/58141_image.png
END:VEVENT
BEGIN:VEVENT
DTSTART;TZID=Europe/London:20260902T130000
DTEND;TZID=Europe/London:20260902T134500
DTSTAMP:20260423T123140
CREATED:20260323T110000Z
LAST-MODIFIED:20260323T120453Z
UID:67226-1788354000-1788356700@baneslibraries.co.uk
SUMMARY:Dovers Park\, Bathford
DESCRIPTION:Open to everyone – just drop in!Our Mobile Library is packed with a great range of books and has technology giving you to access council and partner services online. The Mobile Library offers all of the same services as an ordinary library branch. You can use your LibrariesWest membership card to borrow\, reserve\, renew and return items from any LibrariesWest branch. In turn\, you can return any items you take out from the mobile library to any branch in the LibrariesWest area. Our vehicles are fully accessible\, with a lift facility*. We offer books in many formats. If you have particular access needs\, please discuss with the mobile librarian the outreach and access materials available from the Library Service. View our Mobile Library Page on the Virtual Library to find out about the routes and see our Access Guide\, which should help you to plan your visit and find out what you do on our Mobile Library.  *For safety reasons\, the lift can only be deployed certain stops. If you are unable to board\, staff are happy to get books for you. The accessible stops are: Week 1 Route 2 – Hinton BlewittWeek 1 Route 2 – Ubley Village HallWeek 1 Route 3 – Odd Down playing fieldWeek 1 Route 3 – Mulberry ParkWeek 2 Route 6 – BathamptonWeek 2 Route 7 – Combe DownWeek 2 Route 7 – Mulberry Park
URL:https://baneslibraries.co.uk/event/dovers-park-bathford-12/
LOCATION:Bathford Primary School\, Dovers Park\, Bathford\, BA1 7UB\, Bathford\, BA1 7UB\, GB
CATEGORIES:Mobile Library,Mobile Library Route
ATTACH;FMTTYPE=image/png:https://baneslibraries.co.uk/wp-content/uploads/2025/09/58141_image.png
END:VEVENT
BEGIN:VEVENT
DTSTART;TZID=Europe/London:20260902T140000
DTEND;TZID=Europe/London:20260902T143000
DTSTAMP:20260423T123140
CREATED:20260323T110147Z
LAST-MODIFIED:20260323T120451Z
UID:67253-1788357600-1788359400@baneslibraries.co.uk
SUMMARY:Elmhurst Estate\, Batheaston
DESCRIPTION:Open to everyone – just drop in!Our Mobile Library is packed with a great range of books and has technology giving you to access council and partner services online. The Mobile Library offers all of the same services as an ordinary library branch. You can use your LibrariesWest membership card to borrow\, reserve\, renew and return items from any LibrariesWest branch. In turn\, you can return any items you take out from the mobile library to any branch in the LibrariesWest area. Our vehicles are fully accessible\, with a lift facility*. We offer books in many formats. If you have particular access needs\, please discuss with the mobile librarian the outreach and access materials available from the Library Service. View our Mobile Library Page on the Virtual Library to find out about the routes and see our Access Guide\, which should help you to plan your visit and find out what you do on our Mobile Library.  *For safety reasons\, the lift can only be deployed certain stops. If you are unable to board\, staff are happy to get books for you. The accessible stops are: Week 1 Route 2 – Hinton BlewittWeek 1 Route 2 – Ubley Village HallWeek 1 Route 3 – Odd Down playing fieldWeek 1 Route 3 – Mulberry ParkWeek 2 Route 6 – BathamptonWeek 2 Route 7 – Combe DownWeek 2 Route 7 – Mulberry Park
URL:https://baneslibraries.co.uk/event/elmhurst-estate-batheaston-18/
LOCATION:Elmhurst Estate\, Elmhurst Estate\, Batheaston\, BA1 7NU\, Batheaston\, BA1 7NU\, GB
CATEGORIES:Mobile Library,Mobile Library Route
ATTACH;FMTTYPE=image/png:https://baneslibraries.co.uk/wp-content/uploads/2025/09/58141_image.png
END:VEVENT
BEGIN:VEVENT
DTSTART;TZID=Europe/London:20260902T140000
DTEND;TZID=Europe/London:20260902T150000
DTSTAMP:20260423T123140
CREATED:20260306T171506Z
LAST-MODIFIED:20260306T171508Z
UID:66579-1788357600-1788361200@baneslibraries.co.uk
SUMMARY:Reading Friends Poetry Group
DESCRIPTION:A new poetry group for adults at Bath Central Library.Curious about poetry but not sure where to start? This relaxed and welcoming group is perfect for beginners and poetry lovers alike. Come along to chat\, listen\, and share your favourite poems — or just enjoy the atmosphere. No experience needed\, just an open heart and a love for words!
URL:https://baneslibraries.co.uk/event/reading-friends-poetry-group-2/
LOCATION:Bath Central Library\, 19-23 The Podium\, Bath\, BA1 5AN\, Bath\, BA1 5AN\, GB
CATEGORIES:Adult's Events,Bath Central Library,Book Groups,Events,Library Events
ATTACH;FMTTYPE=image/png:https://baneslibraries.co.uk/wp-content/uploads/2025/10/60224_image.png
END:VEVENT
BEGIN:VEVENT
DTSTART;TZID=Europe/London:20260902T140000
DTEND;TZID=Europe/London:20260902T160000
DTSTAMP:20260423T123140
CREATED:20260306T165111Z
LAST-MODIFIED:20260306T165113Z
UID:66543-1788357600-1788364800@baneslibraries.co.uk
SUMMARY:Click Cafe at Keynsham Library
DESCRIPTION:Supporting older people aged 55+  in Keynsham to get online – staying in touch\, involved and independent.No matter your level\, Age Uk Bath and North East Somerset is here to help\, with 1-1 sessions so you can learn at your own pace\, quick fix troubleshooting sessions\, and even a free device loan scheme (with data!).  To find out more or to book your spot\, contact us: digital@ageukbanes.co.uk 07552 744 025 or 07552 774 914
URL:https://baneslibraries.co.uk/event/click-cafe-at-keynsham-library-4/
LOCATION:Keynsham Library & Information Service\, Market Walk\, Keynsham\, BS31 1FS\, Keynsham\, BS31 1FS\, GB
CATEGORIES:Adult's Events,Events,Keynsham Library,Partner Events,Support Services
ATTACH;FMTTYPE=image/png:https://baneslibraries.co.uk/wp-content/uploads/2026/03/66532_image.png
END:VEVENT
BEGIN:VEVENT
DTSTART;TZID=Europe/London:20260902T145000
DTEND;TZID=Europe/London:20260902T154000
DTSTAMP:20260423T123140
CREATED:20260323T110254Z
LAST-MODIFIED:20260323T120450Z
UID:67284-1788360600-1788363600@baneslibraries.co.uk
SUMMARY:George Inn\, Bathampton
DESCRIPTION:Open to everyone – just drop in! This is an Accessible Stop.Our Mobile Library is packed with a great range of books and has technology giving you to access council and partner services online. The Mobile Library offers all of the same services as an ordinary library branch. You can use your LibrariesWest membership card to borrow\, reserve\, renew and return items from any LibrariesWest branch. In turn\, you can return any items you take out from the mobile library to any branch in the LibrariesWest area. Our vehicles are fully accessible\, with a lift facility*. We offer books in many formats. If you have particular access needs\, please discuss with the mobile librarian the outreach and access materials available from the Library Service. View our Mobile Library Page on the Virtual Library to find out about the routes and see our Access Guide\, which should help you to plan your visit and find out what you do on our Mobile Library.  *For safety reasons\, the lift can only be deployed certain stops. If you are unable to board\, staff are happy to get books for you. The accessible stops are: Week 1 Route 2 – Hinton BlewittWeek 1 Route 2 – Ubley Village HallWeek 1 Route 3 – Odd Down playing fieldWeek 1 Route 3 – Mulberry ParkWeek 2 Route 6 – BathamptonWeek 2 Route 7 – Combe DownWeek 2 Route 7 – Mulberry Park
URL:https://baneslibraries.co.uk/event/george-inn-bathampton-6/
LOCATION:George Inn\, Mill Lane\, Bathampton\, BA2 6TR\, Bathampton\, BA2 6TR\, GB
CATEGORIES:Mobile Library,Mobile Library Route
ATTACH;FMTTYPE=image/png:https://baneslibraries.co.uk/wp-content/uploads/2025/09/58311_image.png
END:VEVENT
END:VCALENDAR