BEGIN:VCALENDAR
VERSION:2.0
PRODID:-//BaNES Virtual Library - ECPv6.15.20//NONSGML v1.0//EN
CALSCALE:GREGORIAN
METHOD:PUBLISH
X-WR-CALNAME:BaNES Virtual Library
X-ORIGINAL-URL:https://baneslibraries.co.uk
X-WR-CALDESC:Events for BaNES Virtual Library
REFRESH-INTERVAL;VALUE=DURATION:PT1H
X-Robots-Tag:noindex
X-PUBLISHED-TTL:PT1H
BEGIN:VTIMEZONE
TZID:Europe/London
BEGIN:DAYLIGHT
TZOFFSETFROM:+0000
TZOFFSETTO:+0100
TZNAME:BST
DTSTART:20250330T010000
END:DAYLIGHT
BEGIN:STANDARD
TZOFFSETFROM:+0100
TZOFFSETTO:+0000
TZNAME:GMT
DTSTART:20251026T010000
END:STANDARD
BEGIN:DAYLIGHT
TZOFFSETFROM:+0000
TZOFFSETTO:+0100
TZNAME:BST
DTSTART:20260329T010000
END:DAYLIGHT
BEGIN:STANDARD
TZOFFSETFROM:+0100
TZOFFSETTO:+0000
TZNAME:GMT
DTSTART:20261025T010000
END:STANDARD
BEGIN:DAYLIGHT
TZOFFSETFROM:+0000
TZOFFSETTO:+0100
TZNAME:BST
DTSTART:20270328T010000
END:DAYLIGHT
BEGIN:STANDARD
TZOFFSETFROM:+0100
TZOFFSETTO:+0000
TZNAME:GMT
DTSTART:20271031T010000
END:STANDARD
END:VTIMEZONE
BEGIN:VEVENT
DTSTART;TZID=Europe/London:20260423T090000
DTEND;TZID=Europe/London:20260423T150000
DTSTAMP:20260423T110247
CREATED:20251219T105706Z
LAST-MODIFIED:20251219T105708Z
UID:63824-1776934800-1776956400@baneslibraries.co.uk
SUMMARY:Halifax Community Banking Drop-In
DESCRIPTION:Drop-in session with Halifax.The Halifax Community Bankers provide banking services and account support for customers who may not have a local branch. They can help you with: Payments and transfersCard and PIN servicesManaging your accountHelp with Online Banking or using our Mobile Banking appHelp with Telephone BankingFind out more at: www.halifax.co.uk/helpcentre/everyday-banking/banking-near-you/community-bankers.html
URL:https://baneslibraries.co.uk/event/halifax-community-banking-drop-in-21/
LOCATION:Library & Information Service\, High Street\, Midsomer Norton\, BA3 2DP\, Midsomer Norton\, BA3 2DP\, GB
CATEGORIES:Adult's Events,Events,Midsomer Norton Library,Partner Events,Support Services
ATTACH;FMTTYPE=image/png:https://baneslibraries.co.uk/wp-content/uploads/2025/12/63792_image.png
END:VEVENT
BEGIN:VEVENT
DTSTART;TZID=Europe/London:20260423T090000
DTEND;TZID=Europe/London:20260423T163000
DTSTAMP:20260423T110247
CREATED:20250923T154708Z
LAST-MODIFIED:20250923T154732Z
UID:57821-1776934800-1776961800@baneslibraries.co.uk
SUMMARY:Private Rented Advice Drop In
DESCRIPTION:Are you looking for a private rented home?Our Private Rented Officer will be available to offer guidance on how to find a home in the private rented sector\, including advice on relationship building with landlords and letting agents. Contact 01225 396296.  Closed 12.30 – 1.30pm.
URL:https://baneslibraries.co.uk/event/private-rented-advice-drop-in-18/
LOCATION:Keynsham Library & Information Service\, Market Walk\, Keynsham\, BS31 1FS\, Keynsham\, BS31 1FS\, GB
CATEGORIES:Adult's Events,Events,Keynsham Library,Partner Events,Support Services
ATTACH;FMTTYPE=image/png:https://baneslibraries.co.uk/wp-content/uploads/2025/09/57760_image.png
END:VEVENT
BEGIN:VEVENT
DTSTART;TZID=Europe/London:20260423T093000
DTEND;TZID=Europe/London:20260423T100000
DTSTAMP:20260423T110247
CREATED:20260324T113735Z
LAST-MODIFIED:20260324T113736Z
UID:68204-1776936600-1776938400@baneslibraries.co.uk
SUMMARY:The Daglands\, Camerton
DESCRIPTION:Open to everyone – just drop in!Our Mobile Library is packed with a great range of books and has technology giving you to access council and partner services online. The Mobile Library offers all of the same services as an ordinary library branch. You can use your LibrariesWest membership card to borrow\, reserve\, renew and return items from any LibrariesWest branch. In turn\, you can return any items you take out from the mobile library to any branch in the LibrariesWest area. Our vehicles are fully accessible\, with a lift facility*. We offer books in many formats. If you have particular access needs\, please discuss with the mobile librarian the outreach and access materials available from the Library Service. View our Mobile Library Page on the Virtual Library to find out about the routes and see our Access Guide\, which should help you to plan your visit and find out what you do on our Mobile Library.  *For safety reasons\, the lift can only be deployed certain stops. If you are unable to board\, staff are happy to get books for you. The accessible stops are: Week 1 Route 2 – Hinton BlewittWeek 1 Route 2 – Ubley Village HallWeek 1 Route 3 – Odd Down playing fieldWeek 1 Route 3 – Mulberry ParkWeek 2 Route 6 – BathamptonWeek 2 Route 7 – Combe DownWeek 2 Route 7 – Mulberry Park
URL:https://baneslibraries.co.uk/event/the-daglands-camerton-5/
LOCATION:The Daglands\, The Daglands\, Bath\, BA2 0PR\, Bath\, BA2 0PR\, GB
CATEGORIES:Mobile Library,Mobile Library Route
ATTACH;FMTTYPE=image/png:https://baneslibraries.co.uk/wp-content/uploads/2025/10/59449_image.png
END:VEVENT
BEGIN:VEVENT
DTSTART;TZID=Europe/London:20260423T093000
DTEND;TZID=Europe/London:20260423T123000
DTSTAMP:20260423T110247
CREATED:20250917T152708Z
LAST-MODIFIED:20260402T085429Z
UID:56322-1776936600-1776947400@baneslibraries.co.uk
SUMMARY:HomeSearch Drop In
DESCRIPTION:Homesearch is the register for social rent homes and low cost home ownership in Bath & North East Somerset.\n\n\nFind out more at: homesearchbathnes.org.uk
URL:https://baneslibraries.co.uk/event/homesearch-drop-in-30/
LOCATION:Keynsham Library & Information Service\, Market Walk\, Keynsham\, BS31 1FS\, Keynsham\, BS31 1FS\, GB
CATEGORIES:Adult's Events,Events,Keynsham Library,Partner Events,Support Services
ATTACH;FMTTYPE=image/png:https://baneslibraries.co.uk/wp-content/uploads/2025/09/56263_image.png
END:VEVENT
BEGIN:VEVENT
DTSTART;TZID=Europe/London:20260423T100000
DTEND;TZID=Europe/London:20260423T120000
DTSTAMP:20260423T110247
CREATED:20260204T145915Z
LAST-MODIFIED:20260330T093010Z
UID:65197-1776938400-1776945600@baneslibraries.co.uk
SUMMARY:Knit Two\, Share One - Knitting and Crochet Group at Bath Central Library
DESCRIPTION:This social group welcomes all ages and abilities\, so come along to share your skills\, learn something new and meet new people.This is a drop in event. No need to book\, sessions are drop in! You’ll find a woolly welcome for all in this friendly group! You can bring along your current projects or join us in making welcome blankets for refugees! Find out more at: https://baneslibraries.co.uk/groups/knit-2-share-1
URL:https://baneslibraries.co.uk/event/knit-two-share-one-knitting-and-crochet-group-at-bath-central-library-17/
LOCATION:Bath Central Library\, 19-23 The Podium\, Bath\, BA1 5AN\, Bath\, BA1 5AN\, GB
CATEGORIES:Adult's Events,Bath Central Library,Children's Events,Craft Events,Events,Library Events,Young Adult's Events
ATTACH;FMTTYPE=image/png:https://baneslibraries.co.uk/wp-content/uploads/2025/10/60237_image.png
END:VEVENT
BEGIN:VEVENT
DTSTART;TZID=Europe/London:20260423T101000
DTEND;TZID=Europe/London:20260423T104000
DTSTAMP:20260423T110247
CREATED:20260324T113854Z
LAST-MODIFIED:20260324T113858Z
UID:68228-1776939000-1776940800@baneslibraries.co.uk
SUMMARY:Sarabeth Drive\, Tunley
DESCRIPTION:Open to everyone – just drop in!Our Mobile Library is packed with a great range of books and has technology giving you to access council and partner services online. The Mobile Library offers all of the same services as an ordinary library branch. You can use your LibrariesWest membership card to borrow\, reserve\, renew and return items from any LibrariesWest branch. In turn\, you can return any items you take out from the mobile library to any branch in the LibrariesWest area. Our vehicles are fully accessible\, with a lift facility*. We offer books in many formats. If you have particular access needs\, please discuss with the mobile librarian the outreach and access materials available from the Library Service. View our Mobile Library Page on the Virtual Library to find out about the routes and see our Access Guide\, which should help you to plan your visit and find out what you do on our Mobile Library.  *For safety reasons\, the lift can only be deployed certain stops. If you are unable to board\, staff are happy to get books for you. The accessible stops are: Week 1 Route 2 – Hinton BlewittWeek 1 Route 2 – Ubley Village HallWeek 1 Route 3 – Odd Down playing fieldWeek 1 Route 3 – Mulberry ParkWeek 2 Route 6 – BathamptonWeek 2 Route 7 – Combe DownWeek 2 Route 7 – Mulberry Park
URL:https://baneslibraries.co.uk/event/sarabeth-drive-tunley-7/
LOCATION:Sarabeth Drive\, Sarabeth Drive\, Tunley\, BA2 0EA\, Tunley\, BA2 0EA\, GB
CATEGORIES:Mobile Library,Mobile Library Route
ATTACH;FMTTYPE=image/png:https://baneslibraries.co.uk/wp-content/uploads/2025/10/59449_image.png
END:VEVENT
BEGIN:VEVENT
DTSTART;TZID=Europe/London:20260423T103000
DTEND;TZID=Europe/London:20260423T110000
DTSTAMP:20260423T110247
CREATED:20251014T162918Z
LAST-MODIFIED:20251014T162920Z
UID:61588-1776940200-1776942000@baneslibraries.co.uk
SUMMARY:Keynsham Storytime
DESCRIPTION:Join us for a Storytime session at Keynsham Library!This is a drop in event. Free\, drop in Storytime session at Keynsham Library. Suitable for parents and carers with children aged 0 – 5 years. Term time only. No booking required.
URL:https://baneslibraries.co.uk/event/keynsham-storytime-14/
LOCATION:Keynsham Library & Information Service\, Market Walk\, Keynsham\, BS31 1FS\, Keynsham\, BS31 1FS\, GB
CATEGORIES:Adult's Events,Children's Events,Events,Keynsham Library,Library Events
ATTACH;FMTTYPE=image/png:https://baneslibraries.co.uk/wp-content/uploads/2025/06/54582_image.png
END:VEVENT
BEGIN:VEVENT
DTSTART;TZID=Europe/London:20260423T121000
DTEND;TZID=Europe/London:20260423T124000
DTSTAMP:20260423T110247
CREATED:20260324T114031Z
LAST-MODIFIED:20260324T114033Z
UID:68252-1776946200-1776948000@baneslibraries.co.uk
SUMMARY:Odd Down Playing Fields
DESCRIPTION:Open to everyone – just drop in! This is an accessible stop.Our Mobile Library is packed with a great range of books and has technology giving you to access council and partner services online. The Mobile Library offers all of the same services as an ordinary library branch. You can use your LibrariesWest membership card to borrow\, reserve\, renew and return items from any LibrariesWest branch. In turn\, you can return any items you take out from the mobile library to any branch in the LibrariesWest area. Our vehicles are fully accessible\, with a lift facility*. We offer books in many formats. If you have particular access needs\, please discuss with the mobile librarian the outreach and access materials available from the Library Service. View our Mobile Library Page on the Virtual Library to find out about the routes and see our Access Guide\, which should help you to plan your visit and find out what you do on our Mobile Library.  *For safety reasons\, the lift can only be deployed certain stops. If you are unable to board\, staff are happy to get books for you. The accessible stops are: Week 1 Route 2 – Hinton BlewittWeek 1 Route 2 – Ubley Village HallWeek 1 Route 3 – Odd Down playing fieldWeek 1 Route 3 – Mulberry ParkWeek 2 Route 6 – BathamptonWeek 2 Route 7 – Combe DownWeek 2 Route 7 – Mulberry Park
URL:https://baneslibraries.co.uk/event/odd-down-playing-fields-2/
LOCATION:Odd Down Playing Fields\, Sports Ground\, Bath\, BA2 2PR\, Bath\, BA2 2PR\, GB
CATEGORIES:Mobile Library,Mobile Library Route
ATTACH;FMTTYPE=image/png:https://baneslibraries.co.uk/wp-content/uploads/2025/10/59549_image.png
END:VEVENT
BEGIN:VEVENT
DTSTART;TZID=Europe/London:20260423T130000
DTEND;TZID=Europe/London:20260423T163000
DTSTAMP:20260423T110247
CREATED:20250923T160938Z
LAST-MODIFIED:20250923T160941Z
UID:58009-1776949200-1776961800@baneslibraries.co.uk
SUMMARY:Everyone Health - Stop Smoking Clinic
DESCRIPTION:Want to quit smoking? It doesn’t have to be a dragYour local Bath & North East Somerset Stop Smoking service offers FREE support to local people who are thinking of and wanting to take positive steps towards stopping smoking. No matter how long you’ve smoked\, quitting benefits your health right away. In just a few days\, your sense of taste and smell will get better. Your lungs will start to clear\, so breathing feels easier. You’ll also keep your loved ones safe from second-hand smoke and save money.  Find out more: https://banes.everyonehealth.co.uk/services/stop-smoking-service/
URL:https://baneslibraries.co.uk/event/everyone-health-stop-smoking-clinic-36/
LOCATION:Keynsham Library & Information Service\, Market Walk\, Keynsham\, BS31 1FS\, Keynsham\, BS31 1FS\, GB
CATEGORIES:Adult's Events,Events,Keynsham Library,Partner Events,Support Services
ATTACH;FMTTYPE=image/png:https://baneslibraries.co.uk/wp-content/uploads/2025/06/54646_image.png
END:VEVENT
BEGIN:VEVENT
DTSTART;TZID=Europe/London:20260423T132000
DTEND;TZID=Europe/London:20260423T160000
DTSTAMP:20260423T110247
CREATED:20260324T114147Z
LAST-MODIFIED:20260324T114152Z
UID:68276-1776950400-1776960000@baneslibraries.co.uk
SUMMARY:Mulberry Park\, Combe Down
DESCRIPTION:Open to everyone – just drop in! This is an accessible stop.Our Mobile Library is packed with a great range of books and has technology giving you to access council and partner services online. The Mobile Library offers all of the same services as an ordinary library branch. You can use your LibrariesWest membership card to borrow\, reserve\, renew and return items from any LibrariesWest branch. In turn\, you can return any items you take out from the mobile library to any branch in the LibrariesWest area. Our vehicles are fully accessible\, with a lift facility*. We offer books in many formats. If you have particular access needs\, please discuss with the mobile librarian the outreach and access materials available from the Library Service. View our Mobile Library Page on the Virtual Library to find out about the routes and see our Access Guide\, which should help you to plan your visit and find out what you do on our Mobile Library.  *For safety reasons\, the lift can only be deployed certain stops. If you are unable to board\, staff are happy to get books for you. The accessible stops are: Week 1 Route 2 – Hinton BlewittWeek 1 Route 2 – Ubley Village HallWeek 1 Route 3 – Odd Down playing fieldWeek 1 Route 3 – Mulberry ParkWeek 2 Route 6 – BathamptonWeek 2 Route 7 – Combe DownWeek 2 Route 7 – Mulberry Park
URL:https://baneslibraries.co.uk/event/mulberry-park-combe-down-29/
LOCATION:Upper Bloomfield Road\, Upper Bloomfield Road\, Odd Down\, BA2\, Odd Down\, BA2\, GB
CATEGORIES:Mobile Library,Mobile Library Route
ATTACH;FMTTYPE=image/png:https://baneslibraries.co.uk/wp-content/uploads/2025/09/58545_image.png
END:VEVENT
BEGIN:VEVENT
DTSTART;TZID=Europe/London:20260423T133000
DTEND;TZID=Europe/London:20260423T143000
DTSTAMP:20260423T110247
CREATED:20260121T114657Z
LAST-MODIFIED:20260121T114659Z
UID:64862-1776951000-1776954600@baneslibraries.co.uk
SUMMARY:Book Buddies Home Education Group at Midsomer Norton Library
DESCRIPTION:Is your child home educated and aged between 7 – 14?\nWe’ve set up a home educated group in Midsomer Norton Library and we’d love you to comeThese are drop-in sessions\, no ticket required. We use lots of library resources including our Hublets\, books\, games and crafts to make the sessions fun and interactive with an emphasis on reading\, books and authors. Sessions are informal and relaxed and there are lots of opportunities to chat to other home educated families. Time: 1.30 – 2.30pm
URL:https://baneslibraries.co.uk/event/book-buddies-home-education-group-at-midsomer-norton-library-8/
LOCATION:Library & Information Service\, High Street\, Midsomer Norton\, BA3 2DP\, Midsomer Norton\, BA3 2DP\, GB
CATEGORIES:Book Groups,Children's Events,Events,Library Events,Midsomer Norton Library
ATTACH;FMTTYPE=image/png:https://baneslibraries.co.uk/wp-content/uploads/2026/01/64850_image.png
END:VEVENT
BEGIN:VEVENT
DTSTART;TZID=Europe/London:20260423T140000
DTEND;TZID=Europe/London:20260423T160000
DTSTAMP:20260423T110247
CREATED:20250923T152327Z
LAST-MODIFIED:20250923T152335Z
UID:57627-1776952800-1776960000@baneslibraries.co.uk
SUMMARY:Lace Making Group
DESCRIPTION:Drop in group for all ages.
URL:https://baneslibraries.co.uk/event/lace-making-group-27/
LOCATION:Keynsham Library & Information Service\, Market Walk\, Keynsham\, BS31 1FS\, Keynsham\, BS31 1FS\, GB
CATEGORIES:Adult's Events,Events,Keynsham Library,Partner Events
ATTACH;FMTTYPE=image/png:https://baneslibraries.co.uk/wp-content/uploads/2025/09/57567_image.png
END:VEVENT
END:VCALENDAR