BEGIN:VCALENDAR
VERSION:2.0
PRODID:-//BaNES Virtual Library - ECPv6.15.20//NONSGML v1.0//EN
CALSCALE:GREGORIAN
METHOD:PUBLISH
X-WR-CALNAME:BaNES Virtual Library
X-ORIGINAL-URL:https://baneslibraries.co.uk
X-WR-CALDESC:Events for BaNES Virtual Library
REFRESH-INTERVAL;VALUE=DURATION:PT1H
X-Robots-Tag:noindex
X-PUBLISHED-TTL:PT1H
BEGIN:VTIMEZONE
TZID:Europe/London
BEGIN:DAYLIGHT
TZOFFSETFROM:+0000
TZOFFSETTO:+0100
TZNAME:BST
DTSTART:20250330T010000
END:DAYLIGHT
BEGIN:STANDARD
TZOFFSETFROM:+0100
TZOFFSETTO:+0000
TZNAME:GMT
DTSTART:20251026T010000
END:STANDARD
BEGIN:DAYLIGHT
TZOFFSETFROM:+0000
TZOFFSETTO:+0100
TZNAME:BST
DTSTART:20260329T010000
END:DAYLIGHT
BEGIN:STANDARD
TZOFFSETFROM:+0100
TZOFFSETTO:+0000
TZNAME:GMT
DTSTART:20261025T010000
END:STANDARD
BEGIN:DAYLIGHT
TZOFFSETFROM:+0000
TZOFFSETTO:+0100
TZNAME:BST
DTSTART:20270328T010000
END:DAYLIGHT
BEGIN:STANDARD
TZOFFSETFROM:+0100
TZOFFSETTO:+0000
TZNAME:GMT
DTSTART:20271031T010000
END:STANDARD
END:VTIMEZONE
BEGIN:VEVENT
DTSTART;TZID=Europe/London:20260422T093000
DTEND;TZID=Europe/London:20260422T100000
DTSTAMP:20260422T051825
CREATED:20260324T100845Z
LAST-MODIFIED:20260324T100850Z
UID:67826-1776850200-1776852000@baneslibraries.co.uk
SUMMARY:Hinton Blewett
DESCRIPTION:Open to everyone – just drop in! This is an accessible stop.Our Mobile Library is packed with a great range of books and has technology giving you to access council and partner services online. The Mobile Library offers all of the same services as an ordinary library branch. You can use your LibrariesWest membership card to borrow\, reserve\, renew and return items from any LibrariesWest branch. In turn\, you can return any items you take out from the mobile library to any branch in the LibrariesWest area. Our vehicles are fully accessible\, with a lift facility*. We offer books in many formats. If you have particular access needs\, please discuss with the mobile librarian the outreach and access materials available from the Library Service. View our Mobile Library Page on the Virtual Library to find out about the routes and see our Access Guide\, which should help you to plan your visit and find out what you do on our Mobile Library.  *For safety reasons\, the lift can only be deployed certain stops. If you are unable to board\, staff are happy to get books for you. The accessible stops are: Week 1 Route 2 – Hinton BlewittWeek 1 Route 2 – Ubley Village HallWeek 1 Route 3 – Odd Down playing fieldWeek 1 Route 3 – Mulberry ParkWeek 2 Route 6 – BathamptonWeek 2 Route 7 – Combe DownWeek 2 Route 7 – Mulberry Park
URL:https://baneslibraries.co.uk/event/hinton-blewett-14/
LOCATION:Lower Road\, Lower Road\, Hinton Blewett\, Hinton Blewett\, GB
CATEGORIES:Mobile Library,Mobile Library Route
ATTACH;FMTTYPE=image/png:https://baneslibraries.co.uk/wp-content/uploads/2025/10/59027_image.png
END:VEVENT
BEGIN:VEVENT
DTSTART;TZID=Europe/London:20260422T093000
DTEND;TZID=Europe/London:20260422T140000
DTSTAMP:20260422T051825
CREATED:20250923T142259Z
LAST-MODIFIED:20250923T142312Z
UID:57227-1776850200-1776866400@baneslibraries.co.uk
SUMMARY:Citizens Advice Drop In
DESCRIPTION:Help with money\, legal\, and consumer problems.
URL:https://baneslibraries.co.uk/event/citizens-advice-drop-in-21/
LOCATION:Library & Information Service\, High Street\, Midsomer Norton\, BA3 2DP\, Midsomer Norton\, BA3 2DP\, GB
CATEGORIES:Adult's Events,Events,Midsomer Norton Library,Partner Events,Support Services
ATTACH;FMTTYPE=image/png:https://baneslibraries.co.uk/wp-content/uploads/2025/09/57164_image.png
END:VEVENT
BEGIN:VEVENT
DTSTART;TZID=Europe/London:20260422T100000
DTEND;TZID=Europe/London:20260422T103000
DTSTAMP:20260422T051825
CREATED:20260218T174608Z
LAST-MODIFIED:20260218T174621Z
UID:66196-1776852000-1776853800@baneslibraries.co.uk
SUMMARY:Baby Bounce and Rhyme at Bath Central Library
DESCRIPTION:Join us for Baby Bounce and Rhyme at Bath Central Library!T﻿his is a drop in event. Free\, drop in Baby Bounce and Rhyme session at Bath Central Library.  Suitable for parents and carers with children aged 0 – 5 years. T﻿erm time only\, no booking required.
URL:https://baneslibraries.co.uk/event/baby-bounce-and-rhyme-at-bath-central-library-24/
LOCATION:Bath Central Library\, 19-23 The Podium\, Bath\, BA1 5AN\, Bath\, BA1 5AN\, GB
CATEGORIES:Bath Central Library,Children's Events,Events,Library Events
ATTACH;FMTTYPE=image/png:https://baneslibraries.co.uk/wp-content/uploads/2025/07/55479_image.png
END:VEVENT
BEGIN:VEVENT
DTSTART;TZID=Europe/London:20260422T100000
DTEND;TZID=Europe/London:20260422T120000
DTSTAMP:20260422T051825
CREATED:20250923T150031Z
LAST-MODIFIED:20260309T173152Z
UID:57429-1776852000-1776859200@baneslibraries.co.uk
SUMMARY:Drop-in Employment Support Session
DESCRIPTION:One-to-one career coaching\, support and advice about jobs and careers.
URL:https://baneslibraries.co.uk/event/future-bright-drop-in-33/
LOCATION:Library & Information Service\, High Street\, Midsomer Norton\, BA3 2DP\, Midsomer Norton\, BA3 2DP\, GB
CATEGORIES:Adult's Events,Events,Midsomer Norton Library,Partner Events,Support Services,Young Adult's Events
ATTACH;FMTTYPE=image/png:https://baneslibraries.co.uk/wp-content/uploads/2026/03/66739_image.png
END:VEVENT
BEGIN:VEVENT
DTSTART;TZID=Europe/London:20260422T100000
DTEND;TZID=Europe/London:20260422T120000
DTSTAMP:20260422T051825
CREATED:20260122T161723Z
LAST-MODIFIED:20260122T161725Z
UID:64971-1776852000-1776859200@baneslibraries.co.uk
SUMMARY:Wellbeing Drop-In with Bath Mind
DESCRIPTION:Do you need support with your mental health or wellbeing?Wellbeing Drop-In with Bath Mind. Learn about the services Bath Mind offers across Bath and North East Somerset\, and how we can support your mental health.
URL:https://baneslibraries.co.uk/event/wellbeing-drop-in-with-bath-mind-3/
LOCATION:Library & Information Service\, High Street\, Midsomer Norton\, BA3 2DP\, Midsomer Norton\, BA3 2DP\, GB
CATEGORIES:Adult's Events,Events,Midsomer Norton Library,Partner Events,Support Services,Young Adult's Events
ATTACH;FMTTYPE=image/png:https://baneslibraries.co.uk/wp-content/uploads/2026/01/64966_image.png
END:VEVENT
BEGIN:VEVENT
DTSTART;TZID=Europe/London:20260422T102000
DTEND;TZID=Europe/London:20260422T105500
DTSTAMP:20260422T051825
CREATED:20260324T100918Z
LAST-MODIFIED:20260324T100921Z
UID:67850-1776853200-1776855300@baneslibraries.co.uk
SUMMARY:West Harptree
DESCRIPTION:Open to everyone – just drop in!Our Mobile Library is packed with a great range of books and has technology giving you to access council and partner services online. The Mobile Library offers all of the same services as an ordinary library branch. You can use your LibrariesWest membership card to borrow\, reserve\, renew and return items from any LibrariesWest branch. In turn\, you can return any items you take out from the mobile library to any branch in the LibrariesWest area. Our vehicles are fully accessible\, with a lift facility*. We offer books in many formats. If you have particular access needs\, please discuss with the mobile librarian the outreach and access materials available from the Library Service. View our Mobile Library Page on the Virtual Library to find out about the routes and see our Access Guide\, which should help you to plan your visit and find out what you do on our Mobile Library.  *For safety reasons\, the lift can only be deployed certain stops. If you are unable to board\, staff are happy to get books for you. The accessible stops are: Week 1 Route 2 – Hinton BlewittWeek 1 Route 2 – Ubley Village HallWeek 1 Route 3 – Odd Down playing fieldWeek 1 Route 3 – Mulberry ParkWeek 2 Route 6 – BathamptonWeek 2 Route 7 – Combe DownWeek 2 Route 7 – Mulberry Park
URL:https://baneslibraries.co.uk/event/west-harptree-7/
LOCATION:Village Centre\, Village Centre\, Newton Saint Loe\, BA2 9BT\, Newton Saint Loe\, BA2 9BT\, GB
CATEGORIES:Mobile Library,Mobile Library Route
ATTACH;FMTTYPE=image/png:https://baneslibraries.co.uk/wp-content/uploads/2025/10/59083_image.png
END:VEVENT
BEGIN:VEVENT
DTSTART;TZID=Europe/London:20260422T103000
DTEND;TZID=Europe/London:20260422T110000
DTSTAMP:20260422T051825
CREATED:20251014T155519Z
LAST-MODIFIED:20251014T155520Z
UID:61444-1776853800-1776855600@baneslibraries.co.uk
SUMMARY:Storytime at Midsomer Norton Library
DESCRIPTION:Join us for Storytime at Midsomer Norton Library!T﻿his is a drop in event. Free\, drop in Storytime session at Midsomer Norton Library.  Suitable for parents and carers with children aged 0 – 5 years. T﻿erm time only. No booking required.
URL:https://baneslibraries.co.uk/event/storytime-at-midsomer-norton-library-22/
LOCATION:Midsomer Norton Library\, The Hollies\, High St\, Midsomer Norton\, BA3 2DT\, Midsomer Norton\, BA3 2DT\, GB
CATEGORIES:Children's Events,Events,Library Events,Midsomer Norton Library
ATTACH;FMTTYPE=image/png:https://baneslibraries.co.uk/wp-content/uploads/2025/10/61392_image.png
END:VEVENT
BEGIN:VEVENT
DTSTART;TZID=Europe/London:20260422T110000
DTEND;TZID=Europe/London:20260422T113000
DTSTAMP:20260422T051825
CREATED:20260218T174608Z
LAST-MODIFIED:20260218T174621Z
UID:66198-1776855600-1776857400@baneslibraries.co.uk
SUMMARY:Baby Bounce and Rhyme at Bath Central Library
DESCRIPTION:Join us for Baby Bounce and Rhyme at Bath Central Library!T﻿his is a drop in event. Free\, drop in Baby Bounce and Rhyme session at Bath Central Library.  Suitable for parents and carers with children aged 0 – 5 years. T﻿erm time only\, no booking required.
URL:https://baneslibraries.co.uk/event/baby-bounce-and-rhyme-at-bath-central-library-11/
LOCATION:Bath Central Library\, 19-23 The Podium\, Bath\, BA1 5AN\, Bath\, BA1 5AN\, GB
CATEGORIES:Bath Central Library,Children's Events,Events,Library Events
ATTACH;FMTTYPE=image/png:https://baneslibraries.co.uk/wp-content/uploads/2025/07/55479_image.png
END:VEVENT
BEGIN:VEVENT
DTSTART;TZID=Europe/London:20260422T111000
DTEND;TZID=Europe/London:20260422T114000
DTSTAMP:20260422T051825
CREATED:20260324T102909Z
LAST-MODIFIED:20260324T102910Z
UID:67913-1776856200-1776858000@baneslibraries.co.uk
SUMMARY:Ubley Village Hall
DESCRIPTION:Open to everyone – just drop in! This is an accessible stop.Our Mobile Library is packed with a great range of books and has technology giving you to access council and partner services online. The Mobile Library offers all of the same services as an ordinary library branch. You can use your LibrariesWest membership card to borrow\, reserve\, renew and return items from any LibrariesWest branch. In turn\, you can return any items you take out from the mobile library to any branch in the LibrariesWest area. Our vehicles are fully accessible\, with a lift facility*. We offer books in many formats. If you have particular access needs\, please discuss with the mobile librarian the outreach and access materials available from the Library Service. View our Mobile Library Page on the Virtual Library to find out about the routes and see our Access Guide\, which should help you to plan your visit and find out what you do on our Mobile Library.  *For safety reasons\, the lift can only be deployed certain stops. If you are unable to board\, staff are happy to get books for you. The accessible stops are: Week 1 Route 2 – Hinton BlewittWeek 1 Route 2 – Ubley Village HallWeek 1 Route 3 – Odd Down playing fieldWeek 1 Route 3 – Mulberry ParkWeek 2 Route 6 – BathamptonWeek 2 Route 7 – Combe DownWeek 2 Route 7 – Mulberry Park
URL:https://baneslibraries.co.uk/event/ubley-village-hall-14/
LOCATION:Ubley Hall\, The Street\, Ubley\, BS40 6PN\, Ubley\, BS40 6PN\, GB
CATEGORIES:Mobile Library,Mobile Library Route
ATTACH;FMTTYPE=image/png:https://baneslibraries.co.uk/wp-content/uploads/2025/10/59140_image.png
END:VEVENT
BEGIN:VEVENT
DTSTART;TZID=Europe/London:20260422T114500
DTEND;TZID=Europe/London:20260422T123000
DTSTAMP:20260422T051825
CREATED:20260324T102931Z
LAST-MODIFIED:20260324T102933Z
UID:67937-1776858300-1776861000@baneslibraries.co.uk
SUMMARY:Ubley School
DESCRIPTION:Open to everyone – just drop in!Our Mobile Library is packed with a great range of books and has technology giving you to access council and partner services online. The Mobile Library offers all of the same services as an ordinary library branch. You can use your LibrariesWest membership card to borrow\, reserve\, renew and return items from any LibrariesWest branch. In turn\, you can return any items you take out from the mobile library to any branch in the LibrariesWest area. Our vehicles are fully accessible\, with a lift facility*. We offer books in many formats. If you have particular access needs\, please discuss with the mobile librarian the outreach and access materials available from the Library Service. View our Mobile Library Page on the Virtual Library to find out about the routes and see our Access Guide\, which should help you to plan your visit and find out what you do on our Mobile Library.  *For safety reasons\, the lift can only be deployed certain stops. If you are unable to board\, staff are happy to get books for you. The accessible stops are: Week 1 Route 2 – Hinton BlewittWeek 1 Route 2 – Ubley Village HallWeek 1 Route 3 – Odd Down playing fieldWeek 1 Route 3 – Mulberry ParkWeek 2 Route 6 – BathamptonWeek 2 Route 7 – Combe DownWeek 2 Route 7 – Mulberry Park
URL:https://baneslibraries.co.uk/event/ubley-school-7/
LOCATION:Ubley Church of England Primary School\, The Street\, Ubley\, BS40 8NJ\, Ubley\, BS40 8NJ\, GB
CATEGORIES:Mobile Library,Mobile Library Route
ATTACH;FMTTYPE=image/png:https://baneslibraries.co.uk/wp-content/uploads/2025/10/59083_image.png
END:VEVENT
BEGIN:VEVENT
DTSTART;TZID=Europe/London:20260422T133000
DTEND;TZID=Europe/London:20260422T140000
DTSTAMP:20260422T051825
CREATED:20260324T102945Z
LAST-MODIFIED:20260324T102947Z
UID:67961-1776864600-1776866400@baneslibraries.co.uk
SUMMARY:Ring O' Bells\, Compton Martin
DESCRIPTION:Open to everyone – just drop in!Our Mobile Library is packed with a great range of books and has technology giving you to access council and partner services online. The Mobile Library offers all of the same services as an ordinary library branch. You can use your LibrariesWest membership card to borrow\, reserve\, renew and return items from any LibrariesWest branch. In turn\, you can return any items you take out from the mobile library to any branch in the LibrariesWest area. Our vehicles are fully accessible\, with a lift facility*. We offer books in many formats. If you have particular access needs\, please discuss with the mobile librarian the outreach and access materials available from the Library Service. View our Mobile Library Page on the Virtual Library to find out about the routes and see our Access Guide\, which should help you to plan your visit and find out what you do on our Mobile Library.  *For safety reasons\, the lift can only be deployed certain stops. If you are unable to board\, staff are happy to get books for you. The accessible stops are: Week 1 Route 2 – Hinton BlewittWeek 1 Route 2 – Ubley Village HallWeek 1 Route 3 – Odd Down playing fieldWeek 1 Route 3 – Mulberry ParkWeek 2 Route 6 – BathamptonWeek 2 Route 7 – Combe DownWeek 2 Route 7 – Mulberry Park
URL:https://baneslibraries.co.uk/event/ring-o-bells-compton-martin/
LOCATION:The Ring O Bells Pub\, The Street\, Compton Martin\, BS40 6JE\, Compton Martin\, BS40 6JE\, GB
CATEGORIES:Mobile Library,Mobile Library Route
ATTACH;FMTTYPE=image/png:https://baneslibraries.co.uk/wp-content/uploads/2025/10/59083_image.png
END:VEVENT
BEGIN:VEVENT
DTSTART;TZID=Europe/London:20260422T141000
DTEND;TZID=Europe/London:20260422T145000
DTSTAMP:20260422T051825
CREATED:20260324T103337Z
LAST-MODIFIED:20260324T103338Z
UID:67985-1776867000-1776869400@baneslibraries.co.uk
SUMMARY:Church Lane\, East Harptree
DESCRIPTION:Open to everyone – just drop in!Our Mobile Library is packed with a great range of books and has technology giving you to access council and partner services online. The Mobile Library offers all of the same services as an ordinary library branch. You can use your LibrariesWest membership card to borrow\, reserve\, renew and return items from any LibrariesWest branch. In turn\, you can return any items you take out from the mobile library to any branch in the LibrariesWest area. Our vehicles are fully accessible\, with a lift facility*. We offer books in many formats. If you have particular access needs\, please discuss with the mobile librarian the outreach and access materials available from the Library Service. View our Mobile Library Page on the Virtual Library to find out about the routes and see our Access Guide\, which should help you to plan your visit and find out what you do on our Mobile Library.  *For safety reasons\, the lift can only be deployed certain stops. If you are unable to board\, staff are happy to get books for you. The accessible stops are: Week 1 Route 2 – Hinton BlewittWeek 1 Route 2 – Ubley Village HallWeek 1 Route 3 – Odd Down playing fieldWeek 1 Route 3 – Mulberry ParkWeek 2 Route 6 – BathamptonWeek 2 Route 7 – Combe DownWeek 2 Route 7 – Mulberry Park
URL:https://baneslibraries.co.uk/event/church-lane-east-harptree-8/
LOCATION:East Harptree C E V C Primary School\, Church Lane\, Bristol\, BS40 6BD\, Bristol\, BS40 6BD\, GB
CATEGORIES:Mobile Library,Mobile Library Route
ATTACH;FMTTYPE=image/png:https://baneslibraries.co.uk/wp-content/uploads/2025/10/59083_image.png
END:VEVENT
BEGIN:VEVENT
DTSTART;TZID=Europe/London:20260422T150000
DTEND;TZID=Europe/London:20260422T154500
DTSTAMP:20260422T051825
CREATED:20260324T103357Z
LAST-MODIFIED:20260324T103358Z
UID:68009-1776870000-1776872700@baneslibraries.co.uk
SUMMARY:Currell Buildings\, East Harptree
DESCRIPTION:Open to everyone – just drop in!Our Mobile Library is packed with a great range of books and has technology giving you to access council and partner services online. The Mobile Library offers all of the same services as an ordinary library branch. You can use your LibrariesWest membership card to borrow\, reserve\, renew and return items from any LibrariesWest branch. In turn\, you can return any items you take out from the mobile library to any branch in the LibrariesWest area. Our vehicles are fully accessible\, with a lift facility*. We offer books in many formats. If you have particular access needs\, please discuss with the mobile librarian the outreach and access materials available from the Library Service. View our Mobile Library Page on the Virtual Library to find out about the routes and see our Access Guide\, which should help you to plan your visit and find out what you do on our Mobile Library.  *For safety reasons\, the lift can only be deployed certain stops. If you are unable to board\, staff are happy to get books for you. The accessible stops are: Week 1 Route 2 – Hinton BlewittWeek 1 Route 2 – Ubley Village HallWeek 1 Route 3 – Odd Down playing fieldWeek 1 Route 3 – Mulberry ParkWeek 2 Route 6 – BathamptonWeek 2 Route 7 – Combe DownWeek 2 Route 7 – Mulberry Park
URL:https://baneslibraries.co.uk/event/currell-buildings-east-harptree-2/
LOCATION:High Street\, High Street\, East Harptree\, BS40\, East Harptree\, BS40\, GB
CATEGORIES:Mobile Library,Mobile Library Route
ATTACH;FMTTYPE=image/png:https://baneslibraries.co.uk/wp-content/uploads/2025/10/59083_image.png
END:VEVENT
END:VCALENDAR