BEGIN:VCALENDAR
VERSION:2.0
PRODID:-//BaNES Virtual Library - ECPv6.15.20//NONSGML v1.0//EN
CALSCALE:GREGORIAN
METHOD:PUBLISH
X-WR-CALNAME:BaNES Virtual Library
X-ORIGINAL-URL:https://baneslibraries.co.uk
X-WR-CALDESC:Events for BaNES Virtual Library
REFRESH-INTERVAL;VALUE=DURATION:PT1H
X-Robots-Tag:noindex
X-PUBLISHED-TTL:PT1H
BEGIN:VTIMEZONE
TZID:Europe/London
BEGIN:DAYLIGHT
TZOFFSETFROM:+0000
TZOFFSETTO:+0100
TZNAME:BST
DTSTART:20250330T010000
END:DAYLIGHT
BEGIN:STANDARD
TZOFFSETFROM:+0100
TZOFFSETTO:+0000
TZNAME:GMT
DTSTART:20251026T010000
END:STANDARD
BEGIN:DAYLIGHT
TZOFFSETFROM:+0000
TZOFFSETTO:+0100
TZNAME:BST
DTSTART:20260329T010000
END:DAYLIGHT
BEGIN:STANDARD
TZOFFSETFROM:+0100
TZOFFSETTO:+0000
TZNAME:GMT
DTSTART:20261025T010000
END:STANDARD
BEGIN:DAYLIGHT
TZOFFSETFROM:+0000
TZOFFSETTO:+0100
TZNAME:BST
DTSTART:20270328T010000
END:DAYLIGHT
BEGIN:STANDARD
TZOFFSETFROM:+0100
TZOFFSETTO:+0000
TZNAME:GMT
DTSTART:20271031T010000
END:STANDARD
END:VTIMEZONE
BEGIN:VEVENT
DTSTART;TZID=Europe/London:20260421T090000
DTEND;TZID=Europe/London:20260421T150000
DTSTAMP:20260421T104716
CREATED:20250923T084606Z
LAST-MODIFIED:20251219T152807Z
UID:56803-1776762000-1776783600@baneslibraries.co.uk
SUMMARY:Reach Housing Advice and Support Service Drop In
DESCRIPTION:Support\, information and advice if you are having difficulty with your accommodation\n\n\nFind out more at: www.dhi-online.org.uk/get-help/housing-advice-support/reach
URL:https://baneslibraries.co.uk/event/reach-housing-advice-and-support-service-drop-in-24/
LOCATION:Library & Information Service\, High Street\, Midsomer Norton\, BA3 2DP\, Midsomer Norton\, BA3 2DP\, GB
CATEGORIES:Adult's Events,Events,Midsomer Norton Library,Partner Events,Support Services
ATTACH;FMTTYPE=image/png:https://baneslibraries.co.uk/wp-content/uploads/2025/09/56742_image.png
END:VEVENT
BEGIN:VEVENT
DTSTART;TZID=Europe/London:20260421T093000
DTEND;TZID=Europe/London:20260421T100000
DTSTAMP:20260421T104716
CREATED:20251014T150748Z
LAST-MODIFIED:20251014T150749Z
UID:61166-1776763800-1776765600@baneslibraries.co.uk
SUMMARY:Baby Bounce and Rhyme at Keynsham Library
DESCRIPTION:Join us for Baby Bounce and Rhyme at Keynsham Library!T﻿his is a drop in event. Sing along to your favourite songs and rhymes at Keynsham Library!  Free\, drop in event suitable for parents/carers with children aged 0 – 5 years. T﻿erm time only\, no booking required.
URL:https://baneslibraries.co.uk/event/baby-bounce-and-rhyme-at-keynsham-library-48/
LOCATION:Keynsham Library & Information Service\, Market Walk\, Keynsham\, BS31 1FS\, Keynsham\, BS31 1FS\, GB
CATEGORIES:Children's Events,Events,Keynsham Library,Library Events
ATTACH;FMTTYPE=image/png:https://baneslibraries.co.uk/wp-content/uploads/2025/10/61064_image.png
END:VEVENT
BEGIN:VEVENT
DTSTART;TZID=Europe/London:20260421T093000
DTEND;TZID=Europe/London:20260421T160000
DTSTAMP:20260421T104716
CREATED:20250922T160802Z
LAST-MODIFIED:20250922T160803Z
UID:56583-1776763800-1776787200@baneslibraries.co.uk
SUMMARY:Housing Options Drop In
DESCRIPTION:Offering help and advice about housing optionsNot available between 12 .00- 1.15pm.
URL:https://baneslibraries.co.uk/event/housing-options-drop-in-22/
LOCATION:Library & Information Service\, High Street\, Midsomer Norton\, BA3 2DP\, Midsomer Norton\, BA3 2DP\, GB
CATEGORIES:Adult's Events,Events,Midsomer Norton Library,Partner Events,Support Services
ATTACH;FMTTYPE=image/png:https://baneslibraries.co.uk/wp-content/uploads/2025/09/56522_image.png
END:VEVENT
BEGIN:VEVENT
DTSTART;TZID=Europe/London:20260421T094500
DTEND;TZID=Europe/London:20260421T103000
DTSTAMP:20260421T104716
CREATED:20251203T112520Z
LAST-MODIFIED:20251203T112522Z
UID:63120-1776764700-1776767400@baneslibraries.co.uk
SUMMARY:Drama Tots - Rising Stars
DESCRIPTION:Sing\, dance\, play and learn for children aged 18 months – 3 years.\n\n\nSING\, DANCE\, PLAY and LEARN! \nDrama Tots classes are high energy\, interactive and fun! In our multi award-winning classes you can expect a new theme every week. \nEach session is brought to life with colourful props\, such as ribbons\, scarves\, obstacles\, parachutes\, puppets\, instruments\, bubbles and much more!! \nClasses are nurturing and friendly\, allowing children to grow in confidence and creativity whilst having wonderful fun! \nBooking is required: https://drama-tots-bath.classforkids.io/info/42 \n\n\n\n\n 
URL:https://baneslibraries.co.uk/event/drama-tots-rising-stars-14/
LOCATION:Bath Central Library\, 19-23 The Podium\, Bath\, BA1 5AN\, Bath\, BA1 5AN\, GB
CATEGORIES:Bath Central Library,Children's Events,Craft Events,Events,Partner Events
ATTACH;FMTTYPE=image/png:https://baneslibraries.co.uk/wp-content/uploads/2025/12/63081_image.png
END:VEVENT
BEGIN:VEVENT
DTSTART;TZID=Europe/London:20260421T103000
DTEND;TZID=Europe/London:20260421T110000
DTSTAMP:20260421T104716
CREATED:20251014T094137Z
LAST-MODIFIED:20251014T094138Z
UID:60954-1776767400-1776769200@baneslibraries.co.uk
SUMMARY:Bath Central Library Storytime
DESCRIPTION:Join us for Storytime at Bath Central Library!T﻿his is a drop in event. Free\, drop in Storytime session at Bath Central Library.  Suitable for parents and carers with children aged 0 – 5 years. Term time only. No booking required.
URL:https://baneslibraries.co.uk/event/bath-central-library-storytime-29/
LOCATION:Bath Central Library\, 19-23 The Podium\, Bath\, BA1 5AN\, Bath\, BA1 5AN\, GB
CATEGORIES:Bath Central Library,Children's Events,Events,Library Events
ATTACH;FMTTYPE=image/png:https://baneslibraries.co.uk/wp-content/uploads/2025/10/60903_image.png
END:VEVENT
BEGIN:VEVENT
DTSTART;TZID=Europe/London:20260421T103000
DTEND;TZID=Europe/London:20260421T110000
DTSTAMP:20260421T104716
CREATED:20251014T150745Z
LAST-MODIFIED:20251014T150747Z
UID:61168-1776767400-1776769200@baneslibraries.co.uk
SUMMARY:Baby Bounce and Rhyme at Keynsham Library
DESCRIPTION:Join us for Baby Bounce and Rhyme at Keynsham Library!T﻿his is a drop in event. Sing along to your favourite songs and rhymes at Keynsham Library!  Free\, drop in event suitable for parents/carers with children aged 0 – 5 years. T﻿erm time only\, no booking required.
URL:https://baneslibraries.co.uk/event/baby-bounce-and-rhyme-at-keynsham-library-47/
LOCATION:Keynsham Library & Information Service\, Market Walk\, Keynsham\, BS31 1FS\, Keynsham\, BS31 1FS\, GB
CATEGORIES:Children's Events,Events,Keynsham Library,Library Events
ATTACH;FMTTYPE=image/png:https://baneslibraries.co.uk/wp-content/uploads/2025/10/61064_image.png
END:VEVENT
BEGIN:VEVENT
DTSTART;TZID=Europe/London:20260421T103500
DTEND;TZID=Europe/London:20260421T110500
DTSTAMP:20260421T104716
CREATED:20260323T163041Z
LAST-MODIFIED:20260323T163043Z
UID:67539-1776767700-1776769500@baneslibraries.co.uk
SUMMARY:Manor Park\, Writhlington
DESCRIPTION:Open to everyone – just drop in!Our Mobile Library is packed with a great range of books and has technology giving you to access council and partner services online. The Mobile Library offers all of the same services as an ordinary library branch. You can use your LibrariesWest membership card to borrow\, reserve\, renew and return items from any LibrariesWest branch. In turn\, you can return any items you take out from the mobile library to any branch in the LibrariesWest area. Our vehicles are fully accessible\, with a lift facility*. We offer books in many formats. If you have particular access needs\, please discuss with the mobile librarian the outreach and access materials available from the Library Service. View our Mobile Library Page on the Virtual Library to find out about the routes and see our Access Guide\, which should help you to plan your visit and find out what you do on our Mobile Library.  *For safety reasons\, the lift can only be deployed certain stops. If you are unable to board\, staff are happy to get books for you. The accessible stops are: Week 1 Route 2 – Hinton BlewittWeek 1 Route 2 – Ubley Village HallWeek 1 Route 3 – Odd Down playing fieldWeek 1 Route 3 – Mulberry ParkWeek 2 Route 6 – BathamptonWeek 2 Route 7 – Combe DownWeek 2 Route 7 – Mulberry Park
URL:https://baneslibraries.co.uk/event/manor-park-writhlington-11/
LOCATION:Manor Park\, Manor Park\, Writhlington\, BA3\, Writhlington\, BA3\, GB
CATEGORIES:Mobile Library,Mobile Library Route
ATTACH;FMTTYPE=image/png:https://baneslibraries.co.uk/wp-content/uploads/2025/09/58595_image.png
END:VEVENT
BEGIN:VEVENT
DTSTART;TZID=Europe/London:20260421T104500
DTEND;TZID=Europe/London:20260421T113000
DTSTAMP:20260421T104716
CREATED:20251203T111949Z
LAST-MODIFIED:20251203T111951Z
UID:63156-1776768300-1776771000@baneslibraries.co.uk
SUMMARY:Drama Tots - Bright Stars
DESCRIPTION:Sing\, dance\, play and learn for children aged 3 – 5 years.\n\n\nSING\, DANCE\, PLAY and LEARN! \nDrama Tots classes are high energy\, interactive and fun! In our multi award-winning classes you can expect a new theme every week. \nEach session is brought to life with colourful props\, such as ribbons\, scarves\, obstacles\, parachutes\, puppets\, instruments\, bubbles and much more!! \nClasses are nurturing and friendly\, allowing children to grow in confidence and creativity whilst having wonderful fun! \nBooking is required: https://drama-tots-bath.classforkids.io/info/41 \n\n\n\n\n 
URL:https://baneslibraries.co.uk/event/drama-tots-bright-stars-16/
LOCATION:Bath Central Library\, 19-23 The Podium\, Bath\, BA1 5AN\, Bath\, BA1 5AN\, GB
CATEGORIES:Bath Central Library,Children's Events,Craft Events,Events,Partner Events
ATTACH;FMTTYPE=image/png:https://baneslibraries.co.uk/wp-content/uploads/2025/12/63081_image.png
END:VEVENT
BEGIN:VEVENT
DTSTART;TZID=Europe/London:20260421T110000
DTEND;TZID=Europe/London:20260421T130000
DTSTAMP:20260421T104716
CREATED:20260204T163602Z
LAST-MODIFIED:20260309T172307Z
UID:65407-1776769200-1776776400@baneslibraries.co.uk
SUMMARY:Drop-in Employment Support Sessions
DESCRIPTION:Get employment support from Skills Connect\n\n\nDrop in service\, no need to book. \nOffering free support to residents of Bath & North East Somerset to enter training\, gain employment\, progress within their current career or change into a new career. \nWe have a team of trained coaches that offer tailored\, person centred support. \nWe can help if you are: \n\nAged 18 years or over\nA Bath & North East Somerset resident\n\nFor more information: \nVisit: www.skillsconnect.org.uk/bath-north-east-somerset/ \nCall: 0117 332 1500 \nEmail: skills_connect@bathnes.gov.uk
URL:https://baneslibraries.co.uk/event/employment-drop-in-22/
LOCATION:Central Library\, 19-23 The Podium\, Bath\, BA1 5AN\, Bath\, BA1 5AN\, GB
CATEGORIES:Adult's Events,Bath Central Library,Events,Partner Events,Support Services,Young Adult's Events
ATTACH;FMTTYPE=image/png:https://baneslibraries.co.uk/wp-content/uploads/2026/03/66739_image.png
END:VEVENT
BEGIN:VEVENT
DTSTART;TZID=Europe/London:20260421T111500
DTEND;TZID=Europe/London:20260421T120000
DTSTAMP:20260421T104716
CREATED:20260323T163102Z
LAST-MODIFIED:20260323T163103Z
UID:67563-1776770100-1776772800@baneslibraries.co.uk
SUMMARY:Village Hall\, Wellow
DESCRIPTION:Open to everyone – just drop in!Our Mobile Library is packed with a great range of books and has technology giving you to access council and partner services online. The Mobile Library offers all of the same services as an ordinary library branch. You can use your LibrariesWest membership card to borrow\, reserve\, renew and return items from any LibrariesWest branch. In turn\, you can return any items you take out from the mobile library to any branch in the LibrariesWest area. Our vehicles are fully accessible\, with a lift facility*. We offer books in many formats. If you have particular access needs\, please discuss with the mobile librarian the outreach and access materials available from the Library Service. View our Mobile Library Page on the Virtual Library to find out about the routes and see our Access Guide\, which should help you to plan your visit and find out what you do on our Mobile Library.  *For safety reasons\, the lift can only be deployed certain stops. If you are unable to board\, staff are happy to get books for you. The accessible stops are: Week 1 Route 2 – Hinton BlewittWeek 1 Route 2 – Ubley Village HallWeek 1 Route 3 – Odd Down playing fieldWeek 1 Route 3 – Mulberry ParkWeek 2 Route 6 – BathamptonWeek 2 Route 7 – Combe DownWeek 2 Route 7 – Mulberry Park
URL:https://baneslibraries.co.uk/event/village-hall-wellow/
LOCATION:Wellow Village Hall\, Buttons Lane\, West Wellow\, SO51 6BR\, West Wellow\, SO51 6BR\, GB
CATEGORIES:Mobile Library,Mobile Library Route
ATTACH;FMTTYPE=image/png:https://baneslibraries.co.uk/wp-content/uploads/2025/09/58595_image.png
END:VEVENT
BEGIN:VEVENT
DTSTART;TZID=Europe/London:20260421T131500
DTEND;TZID=Europe/London:20260421T134500
DTSTAMP:20260421T104716
CREATED:20260323T163335Z
LAST-MODIFIED:20260323T163336Z
UID:67587-1776777300-1776779100@baneslibraries.co.uk
SUMMARY:Newton St Loe
DESCRIPTION:Open to everyone – just drop in!Our Mobile Library is packed with a great range of books and has technology giving you to access council and partner services online. The Mobile Library offers all of the same services as an ordinary library branch. You can use your LibrariesWest membership card to borrow\, reserve\, renew and return items from any LibrariesWest branch. In turn\, you can return any items you take out from the mobile library to any branch in the LibrariesWest area. Our vehicles are fully accessible\, with a lift facility*. We offer books in many formats. If you have particular access needs\, please discuss with the mobile librarian the outreach and access materials available from the Library Service. View our Mobile Library Page on the Virtual Library to find out about the routes and see our Access Guide\, which should help you to plan your visit and find out what you do on our Mobile Library.  *For safety reasons\, the lift can only be deployed certain stops. If you are unable to board\, staff are happy to get books for you. The accessible stops are: Week 1 Route 2 – Hinton BlewittWeek 1 Route 2 – Ubley Village HallWeek 1 Route 3 – Odd Down playing fieldWeek 1 Route 3 – Mulberry ParkWeek 2 Route 6 – BathamptonWeek 2 Route 7 – Combe DownWeek 2 Route 7 – Mulberry Park
URL:https://baneslibraries.co.uk/event/newton-st-loe-6/
LOCATION:Village Centre\, Village Centre\, Newton Saint Loe\, BA2 9BT\, Newton Saint Loe\, BA2 9BT\, GB
CATEGORIES:Mobile Library,Mobile Library Route
ATTACH;FMTTYPE=image/png:https://baneslibraries.co.uk/wp-content/uploads/2025/09/58595_image.png
END:VEVENT
BEGIN:VEVENT
DTSTART;TZID=Europe/London:20260421T140000
DTEND;TZID=Europe/London:20260421T143000
DTSTAMP:20260421T104716
CREATED:20260323T163505Z
LAST-MODIFIED:20260323T163506Z
UID:67611-1776780000-1776781800@baneslibraries.co.uk
SUMMARY:St John's Almshouses
DESCRIPTION:Open to everyone – just drop in!Our Mobile Library is packed with a great range of books and has technology giving you to access council and partner services online. The Mobile Library offers all of the same services as an ordinary library branch. You can use your LibrariesWest membership card to borrow\, reserve\, renew and return items from any LibrariesWest branch. In turn\, you can return any items you take out from the mobile library to any branch in the LibrariesWest area. Our vehicles are fully accessible\, with a lift facility*. We offer books in many formats. If you have particular access needs\, please discuss with the mobile librarian the outreach and access materials available from the Library Service. View our Mobile Library Page on the Virtual Library to find out about the routes and see our Access Guide\, which should help you to plan your visit and find out what you do on our Mobile Library.  *For safety reasons\, the lift can only be deployed certain stops. If you are unable to board\, staff are happy to get books for you. The accessible stops are: Week 1 Route 2 – Hinton BlewittWeek 1 Route 2 – Ubley Village HallWeek 1 Route 3 – Odd Down playing fieldWeek 1 Route 3 – Mulberry ParkWeek 2 Route 6 – BathamptonWeek 2 Route 7 – Combe DownWeek 2 Route 7 – Mulberry Park
URL:https://baneslibraries.co.uk/event/st-johns-almshouses/
LOCATION:St. John’s Almshouses\, St. John's Almshouses\, Bath\, BA1 3NF\, Bath\, BA1 3NF\, GB
CATEGORIES:Mobile Library,Mobile Library Route
ATTACH;FMTTYPE=image/png:https://baneslibraries.co.uk/wp-content/uploads/2025/09/58595_image.png
END:VEVENT
BEGIN:VEVENT
DTSTART;TZID=Europe/London:20260421T144000
DTEND;TZID=Europe/London:20260421T151000
DTSTAMP:20260421T104716
CREATED:20260323T163700Z
LAST-MODIFIED:20260323T163701Z
UID:67635-1776782400-1776784200@baneslibraries.co.uk
SUMMARY:Partis Way
DESCRIPTION:Open to everyone – just drop in!Our Mobile Library is packed with a great range of books and has technology giving you to access council and partner services online. The Mobile Library offers all of the same services as an ordinary library branch. You can use your LibrariesWest membership card to borrow\, reserve\, renew and return items from any LibrariesWest branch. In turn\, you can return any items you take out from the mobile library to any branch in the LibrariesWest area. Our vehicles are fully accessible\, with a lift facility*. We offer books in many formats. If you have particular access needs\, please discuss with the mobile librarian the outreach and access materials available from the Library Service. View our Mobile Library Page on the Virtual Library to find out about the routes and see our Access Guide\, which should help you to plan your visit and find out what you do on our Mobile Library.  *For safety reasons\, the lift can only be deployed certain stops. If you are unable to board\, staff are happy to get books for you. The accessible stops are: Week 1 Route 2 – Hinton BlewittWeek 1 Route 2 – Ubley Village HallWeek 1 Route 3 – Odd Down playing fieldWeek 1 Route 3 – Mulberry ParkWeek 2 Route 6 – BathamptonWeek 2 Route 7 – Combe DownWeek 2 Route 7 – Mulberry Park
URL:https://baneslibraries.co.uk/event/partis-way-5/
LOCATION:Partis Way\, Partis Way\, Bath\, BA1\, Bath\, BA1\, GB
CATEGORIES:Mobile Library,Mobile Library Route
ATTACH;FMTTYPE=image/png:https://baneslibraries.co.uk/wp-content/uploads/2025/09/58595_image.png
END:VEVENT
BEGIN:VEVENT
DTSTART;TZID=Europe/London:20260421T151500
DTEND;TZID=Europe/London:20260421T154500
DTSTAMP:20260421T104716
CREATED:20260323T164155Z
LAST-MODIFIED:20260323T164157Z
UID:67660-1776784500-1776786300@baneslibraries.co.uk
SUMMARY:Brassmill Lane
DESCRIPTION:Open to everyone – just drop in!Our Mobile Library is packed with a great range of books and has technology giving you to access council and partner services online. The Mobile Library offers all of the same services as an ordinary library branch. You can use your LibrariesWest membership card to borrow\, reserve\, renew and return items from any LibrariesWest branch. In turn\, you can return any items you take out from the mobile library to any branch in the LibrariesWest area. Our vehicles are fully accessible\, with a lift facility*. We offer books in many formats. If you have particular access needs\, please discuss with the mobile librarian the outreach and access materials available from the Library Service. View our Mobile Library Page on the Virtual Library to find out about the routes and see our Access Guide\, which should help you to plan your visit and find out what you do on our Mobile Library.  *For safety reasons\, the lift can only be deployed certain stops. If you are unable to board\, staff are happy to get books for you. The accessible stops are: Week 1 Route 2 – Hinton BlewittWeek 1 Route 2 – Ubley Village HallWeek 1 Route 3 – Odd Down playing fieldWeek 1 Route 3 – Mulberry ParkWeek 2 Route 6 – BathamptonWeek 2 Route 7 – Combe DownWeek 2 Route 7 – Mulberry Park
URL:https://baneslibraries.co.uk/event/brassmill-lane/
LOCATION:Brassmill Lane\, Brassmill Lane\, Bath\, Bath\, GB
CATEGORIES:Mobile Library,Mobile Library Route
ATTACH;FMTTYPE=image/png:https://baneslibraries.co.uk/wp-content/uploads/2025/09/58595_image.png
END:VEVENT
END:VCALENDAR