BEGIN:VCALENDAR
VERSION:2.0
PRODID:-//BaNES Virtual Library - ECPv6.15.20//NONSGML v1.0//EN
CALSCALE:GREGORIAN
METHOD:PUBLISH
X-ORIGINAL-URL:https://baneslibraries.co.uk
X-WR-CALDESC:Events for BaNES Virtual Library
REFRESH-INTERVAL;VALUE=DURATION:PT1H
X-Robots-Tag:noindex
X-PUBLISHED-TTL:PT1H
BEGIN:VTIMEZONE
TZID:Europe/London
BEGIN:DAYLIGHT
TZOFFSETFROM:+0000
TZOFFSETTO:+0100
TZNAME:BST
DTSTART:20250330T010000
END:DAYLIGHT
BEGIN:STANDARD
TZOFFSETFROM:+0100
TZOFFSETTO:+0000
TZNAME:GMT
DTSTART:20251026T010000
END:STANDARD
BEGIN:DAYLIGHT
TZOFFSETFROM:+0000
TZOFFSETTO:+0100
TZNAME:BST
DTSTART:20260329T010000
END:DAYLIGHT
BEGIN:STANDARD
TZOFFSETFROM:+0100
TZOFFSETTO:+0000
TZNAME:GMT
DTSTART:20261025T010000
END:STANDARD
BEGIN:DAYLIGHT
TZOFFSETFROM:+0000
TZOFFSETTO:+0100
TZNAME:BST
DTSTART:20270328T010000
END:DAYLIGHT
BEGIN:STANDARD
TZOFFSETFROM:+0100
TZOFFSETTO:+0000
TZNAME:GMT
DTSTART:20271031T010000
END:STANDARD
END:VTIMEZONE
BEGIN:VEVENT
DTSTART;TZID=Europe/London:20260320T100000
DTEND;TZID=Europe/London:20260320T123000
DTSTAMP:20260425T175946
CREATED:20260119T174428Z
LAST-MODIFIED:20260309T173510Z
UID:64755-1774000800-1774009800@baneslibraries.co.uk
SUMMARY:We Work For Everyone Drop In
DESCRIPTION:Employment support and advice for those with autism\, learning difficulties or learning disabilities.
URL:https://baneslibraries.co.uk/event/we-work-for-everyone-drop-in-2/
LOCATION:Library & Information Service\, High Street\, Midsomer Norton\, BA3 2DP\, Midsomer Norton\, BA3 2DP\, GB
CATEGORIES:Adult's Events,Events,Midsomer Norton Library,Partner Events,Support Services,Young Adult's Events
ATTACH;FMTTYPE=image/png:https://baneslibraries.co.uk/wp-content/uploads/2025/12/63736_image.png
END:VEVENT
BEGIN:VEVENT
DTSTART;TZID=Europe/London:20260320T103000
DTEND;TZID=Europe/London:20260320T120000
DTSTAMP:20260425T175946
CREATED:20251017T145823Z
LAST-MODIFIED:20251017T145824Z
UID:62553-1774002600-1774008000@baneslibraries.co.uk
SUMMARY:Breastfeeding Support Group
DESCRIPTION:Bath La Leche League CollectiveDrop-in to this breastfeeding support group to meet other parents  and get advice from the Bath La Leche League Collective.
URL:https://baneslibraries.co.uk/event/breastfeeding-support-group-9/
LOCATION:Central Library\, 19-23 The Podium\, Bath\, BA1 5AN\, Bath\, BA1 5AN\, GB
CATEGORIES:Adult's Events,Bath Central Library,Events,Partner Events,Support Services
ATTACH;FMTTYPE=image/png:https://baneslibraries.co.uk/wp-content/uploads/2025/07/55101_image.png
END:VEVENT
BEGIN:VEVENT
DTSTART;TZID=Europe/London:20260320T140000
DTEND;TZID=Europe/London:20260320T150000
DTSTAMP:20260425T175946
CREATED:20250626T101535Z
LAST-MODIFIED:20250626T101537Z
UID:54286-1774015200-1774018800@baneslibraries.co.uk
SUMMARY:Friendship Fridays at Midsomer Norton Library
DESCRIPTION:Drop-in to our relaxed social group for adults. Have a go at a wordsearch\, crossword or a board game over a cuppa and a chat.THIS IS A DROP-IN SOCIAL GROUP\, no tickets required. Drop-in to our relaxed social group for adults. Have a go at a wordsearch\, crossword or a board game over a cuppa and a chat. Every Friday 2 – 3pm.
URL:https://baneslibraries.co.uk/event/friendship-fridays-at-midsomer-norton-library-25/
LOCATION:Library & Information Service\, High Street\, Midsomer Norton\, BA3 2DP\, Midsomer Norton\, BA3 2DP\, GB
CATEGORIES:Adult's Events,Events,Library Events,Midsomer Norton Library
ATTACH;FMTTYPE=image/png:https://baneslibraries.co.uk/wp-content/uploads/2025/06/54225_image.png
END:VEVENT
BEGIN:VEVENT
DTSTART;TZID=Europe/London:20260320T140000
DTEND;TZID=Europe/London:20260320T150000
DTSTAMP:20260425T175946
CREATED:20251125T131331Z
LAST-MODIFIED:20251125T131639Z
UID:62935-1774015200-1774018800@baneslibraries.co.uk
SUMMARY:Authors in the Library - Felice Hardy
DESCRIPTION:Join us at Midsomer Norton Library for an author event with local author Felice HardyJoin us in conversation with Felice Hardy. Felice is an author and travel writer. Her recent book\, The Tennis Champion Who Escaped The Nazis\, is a family memoir based around her grandparents’ lives and their escape to London from Nazi-occupied Vienna in 1939. The talk will be followed by a Q&A. Free tea/coffee and biscuits will be provided. Speak to a member of the Midsomer Norton Library team for more information.
URL:https://baneslibraries.co.uk/event/authors-in-the-library-felice-hardy/
LOCATION:Library & Information Service\, High Street\, Midsomer Norton\, BA3 2DP\, Midsomer Norton\, BA3 2DP\, GB
CATEGORIES:Adult's Events,Events,Library Events,Midsomer Norton Library,Young Adult's Events
ATTACH;FMTTYPE=image/png:https://baneslibraries.co.uk/wp-content/uploads/2025/11/62935_image.png
END:VEVENT
BEGIN:VEVENT
DTSTART;TZID=Europe/London:20260320T140000
DTEND;TZID=Europe/London:20260320T150000
DTSTAMP:20260425T175946
CREATED:20251218T095812Z
LAST-MODIFIED:20260309T102303Z
UID:63679-1774015200-1774018800@baneslibraries.co.uk
SUMMARY:The Page Turners
DESCRIPTION:Shared reading group for adults at Midsomer Norton Library.\n\n\nJoin us for a shared reading group for adults. \nCome and enjoy listening to a variety of extracts from a range of reading material.
URL:https://baneslibraries.co.uk/event/the-page-turners-13/
LOCATION:Library & Information Service\, High Street\, Midsomer Norton\, BA3 2DP\, Midsomer Norton\, BA3 2DP\, GB
CATEGORIES:Adult's Events,Book Groups,Events,Library Events,Midsomer Norton Library
ATTACH;FMTTYPE=image/png:https://baneslibraries.co.uk/wp-content/uploads/2025/06/54363_image.png
END:VEVENT
BEGIN:VEVENT
DTSTART;TZID=Europe/London:20260320T140000
DTEND;TZID=Europe/London:20260320T160000
DTSTAMP:20260425T175946
CREATED:20260204T152212Z
LAST-MODIFIED:20260204T152214Z
UID:65347-1774015200-1774022400@baneslibraries.co.uk
SUMMARY:Sight Support West Drop In
DESCRIPTION:Worried about your vision? Get support with your sight.Visit the Sight Support website or call 01225 477277 and choose Option 2.  Appointments 1.00pm – 2.00pm & 3.00pm – 4.00pm Drop in for advice 2.00pm – 3.00pm Social group 2.00pm – 4.00pm
URL:https://baneslibraries.co.uk/event/sight-support-west-drop-in/
LOCATION:Keynsham Library & Information Service\, Market Walk\, Keynsham\, BS31 1FS\, Keynsham\, BS31 1FS\, GB
CATEGORIES:Adult's Events,Events,Keynsham Library,Partner Events,Support Services
ATTACH;FMTTYPE=image/png:https://baneslibraries.co.uk/wp-content/uploads/2026/02/65344_image.png
END:VEVENT
END:VCALENDAR