BEGIN:VCALENDAR
VERSION:2.0
PRODID:-//BaNES Virtual Library - ECPv6.15.20//NONSGML v1.0//EN
CALSCALE:GREGORIAN
METHOD:PUBLISH
X-ORIGINAL-URL:https://baneslibraries.co.uk
X-WR-CALDESC:Events for BaNES Virtual Library
REFRESH-INTERVAL;VALUE=DURATION:PT1H
X-Robots-Tag:noindex
X-PUBLISHED-TTL:PT1H
BEGIN:VTIMEZONE
TZID:Europe/London
BEGIN:DAYLIGHT
TZOFFSETFROM:+0000
TZOFFSETTO:+0100
TZNAME:BST
DTSTART:20250330T010000
END:DAYLIGHT
BEGIN:STANDARD
TZOFFSETFROM:+0100
TZOFFSETTO:+0000
TZNAME:GMT
DTSTART:20251026T010000
END:STANDARD
BEGIN:DAYLIGHT
TZOFFSETFROM:+0000
TZOFFSETTO:+0100
TZNAME:BST
DTSTART:20260329T010000
END:DAYLIGHT
BEGIN:STANDARD
TZOFFSETFROM:+0100
TZOFFSETTO:+0000
TZNAME:GMT
DTSTART:20261025T010000
END:STANDARD
BEGIN:DAYLIGHT
TZOFFSETFROM:+0000
TZOFFSETTO:+0100
TZNAME:BST
DTSTART:20270328T010000
END:DAYLIGHT
BEGIN:STANDARD
TZOFFSETFROM:+0100
TZOFFSETTO:+0000
TZNAME:GMT
DTSTART:20271031T010000
END:STANDARD
END:VTIMEZONE
BEGIN:VEVENT
DTSTART;TZID=Europe/London:20260317T090000
DTEND;TZID=Europe/London:20260317T150000
DTSTAMP:20260425T221555
CREATED:20250923T084815Z
LAST-MODIFIED:20251219T152907Z
UID:56793-1773738000-1773759600@baneslibraries.co.uk
SUMMARY:Reach Housing Advice and Support Service Drop In
DESCRIPTION:Support\, information and advice if you are having difficulty with your accommodation\n\n\nFind out more at: www.dhi-online.org.uk/get-help/housing-advice-support/reach
URL:https://baneslibraries.co.uk/event/reach-housing-advice-and-support-service-drop-in-28/
LOCATION:Library & Information Service\, High Street\, Midsomer Norton\, BA3 2DP\, Midsomer Norton\, BA3 2DP\, GB
CATEGORIES:Adult's Events,Events,Midsomer Norton Library,Partner Events,Support Services
ATTACH;FMTTYPE=image/png:https://baneslibraries.co.uk/wp-content/uploads/2025/09/56742_image.png
END:VEVENT
BEGIN:VEVENT
DTSTART;TZID=Europe/London:20260317T093000
DTEND;TZID=Europe/London:20260317T100000
DTSTAMP:20260425T221555
CREATED:20251014T145955Z
LAST-MODIFIED:20251014T145956Z
UID:61146-1773739800-1773741600@baneslibraries.co.uk
SUMMARY:Baby Bounce and Rhyme at Keynsham Library
DESCRIPTION:Join us for Baby Bounce and Rhyme at Keynsham Library!T﻿his is a drop in event. Sing along to your favourite songs and rhymes at Keynsham Library!  Free\, drop in event suitable for parents/carers with children aged 0 – 5 years. T﻿erm time only\, no booking required.
URL:https://baneslibraries.co.uk/event/baby-bounce-and-rhyme-at-keynsham-library-33/
LOCATION:Keynsham Library & Information Service\, Market Walk\, Keynsham\, BS31 1FS\, Keynsham\, BS31 1FS\, GB
CATEGORIES:Children's Events,Events,Keynsham Library,Library Events
ATTACH;FMTTYPE=image/png:https://baneslibraries.co.uk/wp-content/uploads/2025/10/61064_image.png
END:VEVENT
BEGIN:VEVENT
DTSTART;TZID=Europe/London:20260317T093000
DTEND;TZID=Europe/London:20260317T101500
DTSTAMP:20260425T221555
CREATED:20251006T161441Z
LAST-MODIFIED:20260323T120502Z
UID:59942-1773739800-1773742500@baneslibraries.co.uk
SUMMARY:Hobbs Wall\, Farmborough
DESCRIPTION:Open to everyone – just drop in!Our Mobile Library is packed with a great range of books and has technology giving you to access council and partner services online. The Mobile Library offers all of the same services as an ordinary library branch. You can use your LibrariesWest membership card to borrow\, reserve\, renew and return items from any LibrariesWest branch. In turn\, you can return any items you take out from the mobile library to any branch in the LibrariesWest area. Our vehicles are fully accessible\, with a lift facility*. We offer books in many formats. If you have particular access needs\, please discuss with the mobile librarian the outreach and access materials available from the Library Service. View our Mobile Library Page on the Virtual Library to find out about the routes and see our Access Guide\, which should help you to plan your visit and find out what you do on our Mobile Library.  *For safety reasons\, the lift can only be deployed certain stops. If you are unable to board\, staff are happy to get books for you. The accessible stops are: Week 1 Route 2 – Hinton BlewittWeek 1 Route 2 – Ubley Village HallWeek 1 Route 3 – Odd Down playing fieldWeek 1 Route 3 – Mulberry ParkWeek 2 Route 6 – BathamptonWeek 2 Route 7 – Combe DownWeek 2 Route 7 – Mulberry Park
URL:https://baneslibraries.co.uk/event/hobbs-wall-farmborough-6/
LOCATION:Hobbs Wall\, Hobbs Wall\, Farmborough\, BA2 0BH\, Farmborough\, BA2 0BH\, GB
CATEGORIES:Mobile Library,Mobile Library Route
ATTACH;FMTTYPE=image/png:https://baneslibraries.co.uk/wp-content/uploads/2025/10/59919_image.png
END:VEVENT
BEGIN:VEVENT
DTSTART;TZID=Europe/London:20260317T093000
DTEND;TZID=Europe/London:20260317T160000
DTSTAMP:20260425T221555
CREATED:20250922T160942Z
LAST-MODIFIED:20250922T160944Z
UID:56573-1773739800-1773763200@baneslibraries.co.uk
SUMMARY:Housing Options Drop In
DESCRIPTION:Offering help and advice about housing optionsNot available between 12 .00- 1.15pm.
URL:https://baneslibraries.co.uk/event/housing-options-drop-in-54/
LOCATION:Library & Information Service\, High Street\, Midsomer Norton\, BA3 2DP\, Midsomer Norton\, BA3 2DP\, GB
CATEGORIES:Adult's Events,Events,Midsomer Norton Library,Partner Events,Support Services
ATTACH;FMTTYPE=image/png:https://baneslibraries.co.uk/wp-content/uploads/2025/09/56522_image.png
END:VEVENT
BEGIN:VEVENT
DTSTART;TZID=Europe/London:20260317T094500
DTEND;TZID=Europe/London:20260317T103000
DTSTAMP:20260425T221555
CREATED:20251203T112448Z
LAST-MODIFIED:20251203T112450Z
UID:63110-1773740700-1773743400@baneslibraries.co.uk
SUMMARY:Drama Tots - Rising Stars
DESCRIPTION:Sing\, dance\, play and learn for children aged 18 months – 3 years.\n\n\nSING\, DANCE\, PLAY and LEARN! \nDrama Tots classes are high energy\, interactive and fun! In our multi award-winning classes you can expect a new theme every week. \nEach session is brought to life with colourful props\, such as ribbons\, scarves\, obstacles\, parachutes\, puppets\, instruments\, bubbles and much more!! \nClasses are nurturing and friendly\, allowing children to grow in confidence and creativity whilst having wonderful fun! \nBooking is required: https://drama-tots-bath.classforkids.io/info/42 \n\n\n\n\n 
URL:https://baneslibraries.co.uk/event/drama-tots-rising-stars-9/
LOCATION:Bath Central Library\, 19-23 The Podium\, Bath\, BA1 5AN\, Bath\, BA1 5AN\, GB
CATEGORIES:Bath Central Library,Children's Events,Craft Events,Events,Partner Events
ATTACH;FMTTYPE=image/png:https://baneslibraries.co.uk/wp-content/uploads/2025/12/63081_image.png
END:VEVENT
BEGIN:VEVENT
DTSTART;TZID=Europe/London:20260317T103000
DTEND;TZID=Europe/London:20260317T110000
DTSTAMP:20260425T221555
CREATED:20251006T163558Z
LAST-MODIFIED:20260324T161111Z
UID:59991-1773743400-1773745200@baneslibraries.co.uk
SUMMARY:Rotcombe\, High Littleton
DESCRIPTION:Open to everyone – just drop in!Our Mobile Library is packed with a great range of books and has technology giving you to access council and partner services online. The Mobile Library offers all of the same services as an ordinary library branch. You can use your LibrariesWest membership card to borrow\, reserve\, renew and return items from any LibrariesWest branch. In turn\, you can return any items you take out from the mobile library to any branch in the LibrariesWest area. Our vehicles are fully accessible\, with a lift facility*. We offer books in many formats. If you have particular access needs\, please discuss with the mobile librarian the outreach and access materials available from the Library Service. View our Mobile Library Page on the Virtual Library to find out about the routes and see our Access Guide\, which should help you to plan your visit and find out what you do on our Mobile Library.  *For safety reasons\, the lift can only be deployed certain stops. If you are unable to board\, staff are happy to get books for you. The accessible stops are: Week 1 Route 2 – Hinton BlewittWeek 1 Route 2 – Ubley Village HallWeek 1 Route 3 – Odd Down playing fieldWeek 1 Route 3 – Mulberry ParkWeek 2 Route 6 – BathamptonWeek 2 Route 7 – Combe DownWeek 2 Route 7 – Mulberry Park
URL:https://baneslibraries.co.uk/event/rotcombe-high-littleton/
LOCATION:Rotcombe Lane\, Rotcombe Lane\, High Littleton\, BS39\, High Littleton\, BS39\, GB
CATEGORIES:Mobile Library,Mobile Library Route
ATTACH;FMTTYPE=image/png:https://baneslibraries.co.uk/wp-content/uploads/2025/10/59966_image.png
END:VEVENT
BEGIN:VEVENT
DTSTART;TZID=Europe/London:20260317T103000
DTEND;TZID=Europe/London:20260317T110000
DTSTAMP:20260425T221555
CREATED:20251014T150018Z
LAST-MODIFIED:20251014T150020Z
UID:61148-1773743400-1773745200@baneslibraries.co.uk
SUMMARY:Baby Bounce and Rhyme at Keynsham Library
DESCRIPTION:Join us for Baby Bounce and Rhyme at Keynsham Library!T﻿his is a drop in event. Sing along to your favourite songs and rhymes at Keynsham Library!  Free\, drop in event suitable for parents/carers with children aged 0 – 5 years. T﻿erm time only\, no booking required.
URL:https://baneslibraries.co.uk/event/baby-bounce-and-rhyme-at-keynsham-library-44/
LOCATION:Keynsham Library & Information Service\, Market Walk\, Keynsham\, BS31 1FS\, Keynsham\, BS31 1FS\, GB
CATEGORIES:Children's Events,Events,Keynsham Library,Library Events
ATTACH;FMTTYPE=image/png:https://baneslibraries.co.uk/wp-content/uploads/2025/10/61064_image.png
END:VEVENT
BEGIN:VEVENT
DTSTART;TZID=Europe/London:20260317T103000
DTEND;TZID=Europe/London:20260317T110000
DTSTAMP:20260425T221555
CREATED:20260223T115359Z
LAST-MODIFIED:20260223T115401Z
UID:66282-1773743400-1773745200@baneslibraries.co.uk
SUMMARY:BookTrust Storytime
DESCRIPTION:Join us for BookTrust Storytimes at Bath Central Library!T his is a drop in event. Come to one week or all. Free\, drop in Storytime session at Bath Central Library. Over five weeks we will read a different BookTrust selected story\, voting for our favourite. The final sixth week will recap favourites or missed stories. Come and vote for your favourite book with different crafts and play activities each week! Suitable for parents and carers with children aged 0 – 5 years. Term time only. No booking required.
URL:https://baneslibraries.co.uk/event/booktrust-storytime-5/
LOCATION:Bath Central Library\, 19-23 The Podium\, Bath\, BA1 5AN\, Bath\, BA1 5AN\, GB
CATEGORIES:Bath Central Library,Children's Events,Events,Library Events
ATTACH;FMTTYPE=image/png:https://baneslibraries.co.uk/wp-content/uploads/2026/01/64449_image.png
END:VEVENT
BEGIN:VEVENT
DTSTART;TZID=Europe/London:20260317T104500
DTEND;TZID=Europe/London:20260317T113000
DTSTAMP:20260425T221555
CREATED:20251203T111909Z
LAST-MODIFIED:20251203T111911Z
UID:63146-1773744300-1773747000@baneslibraries.co.uk
SUMMARY:Drama Tots - Bright Stars
DESCRIPTION:Sing\, dance\, play and learn for children aged 3 – 5 years.\n\n\nSING\, DANCE\, PLAY and LEARN! \nDrama Tots classes are high energy\, interactive and fun! In our multi award-winning classes you can expect a new theme every week. \nEach session is brought to life with colourful props\, such as ribbons\, scarves\, obstacles\, parachutes\, puppets\, instruments\, bubbles and much more!! \nClasses are nurturing and friendly\, allowing children to grow in confidence and creativity whilst having wonderful fun! \nBooking is required: https://drama-tots-bath.classforkids.io/info/41 \n\n\n\n\n 
URL:https://baneslibraries.co.uk/event/drama-tots-bright-stars-10/
LOCATION:Bath Central Library\, 19-23 The Podium\, Bath\, BA1 5AN\, Bath\, BA1 5AN\, GB
CATEGORIES:Bath Central Library,Children's Events,Craft Events,Events,Partner Events
ATTACH;FMTTYPE=image/png:https://baneslibraries.co.uk/wp-content/uploads/2025/12/63081_image.png
END:VEVENT
BEGIN:VEVENT
DTSTART;TZID=Europe/London:20260317T110000
DTEND;TZID=Europe/London:20260317T130000
DTSTAMP:20260425T221555
CREATED:20260204T163549Z
LAST-MODIFIED:20260309T172318Z
UID:65397-1773745200-1773752400@baneslibraries.co.uk
SUMMARY:Drop-in Employment Support Sessions
DESCRIPTION:Get employment support from Skills Connect\n\n\nDrop in service\, no need to book. \nOffering free support to residents of Bath & North East Somerset to enter training\, gain employment\, progress within their current career or change into a new career. \nWe have a team of trained coaches that offer tailored\, person centred support. \nWe can help if you are: \n\nAged 18 years or over\nA Bath & North East Somerset resident\n\nFor more information: \nVisit: www.skillsconnect.org.uk/bath-north-east-somerset/ \nCall: 0117 332 1500 \nEmail: skills_connect@bathnes.gov.uk
URL:https://baneslibraries.co.uk/event/employment-drop-in-16/
LOCATION:Central Library\, 19-23 The Podium\, Bath\, BA1 5AN\, Bath\, BA1 5AN\, GB
CATEGORIES:Adult's Events,Bath Central Library,Events,Partner Events,Support Services,Young Adult's Events
ATTACH;FMTTYPE=image/png:https://baneslibraries.co.uk/wp-content/uploads/2026/03/66739_image.png
END:VEVENT
BEGIN:VEVENT
DTSTART;TZID=Europe/London:20260317T111500
DTEND;TZID=Europe/London:20260317T114500
DTSTAMP:20260425T221555
CREATED:20251006T165607Z
LAST-MODIFIED:20260324T161248Z
UID:60026-1773746100-1773747900@baneslibraries.co.uk
SUMMARY:Main Street\, Farrington Gurney
DESCRIPTION:Open to everyone – just drop in!Our Mobile Library is packed with a great range of books and has technology giving you to access council and partner services online. The Mobile Library offers all of the same services as an ordinary library branch. You can use your LibrariesWest membership card to borrow\, reserve\, renew and return items from any LibrariesWest branch. In turn\, you can return any items you take out from the mobile library to any branch in the LibrariesWest area. Our vehicles are fully accessible\, with a lift facility*. We offer books in many formats. If you have particular access needs\, please discuss with the mobile librarian the outreach and access materials available from the Library Service. View our Mobile Library Page on the Virtual Library to find out about the routes and see our Access Guide\, which should help you to plan your visit and find out what you do on our Mobile Library.  *For safety reasons\, the lift can only be deployed certain stops. If you are unable to board\, staff are happy to get books for you. The accessible stops are: Week 1 Route 2 – Hinton BlewittWeek 1 Route 2 – Ubley Village HallWeek 1 Route 3 – Odd Down playing fieldWeek 1 Route 3 – Mulberry ParkWeek 2 Route 6 – BathamptonWeek 2 Route 7 – Combe DownWeek 2 Route 7 – Mulberry Park
URL:https://baneslibraries.co.uk/event/main-street-farrington-gurney-9/
LOCATION:Main Street\, Main Street\, Farrington Gurney\, BS39\, Farrington Gurney\, BS39\, GB
CATEGORIES:Mobile Library,Mobile Library Route
ATTACH;FMTTYPE=image/png:https://baneslibraries.co.uk/wp-content/uploads/2025/10/59966_image.png
END:VEVENT
BEGIN:VEVENT
DTSTART;TZID=Europe/London:20260317T124000
DTEND;TZID=Europe/London:20260317T131000
DTSTAMP:20260425T221555
CREATED:20251006T170408Z
LAST-MODIFIED:20260324T161326Z
UID:60076-1773751200-1773753000@baneslibraries.co.uk
SUMMARY:Goldney Way\, Temple Cloud
DESCRIPTION:Open to everyone – just drop in!Our Mobile Library is packed with a great range of books and has technology giving you to access council and partner services online. The Mobile Library offers all of the same services as an ordinary library branch. You can use your LibrariesWest membership card to borrow\, reserve\, renew and return items from any LibrariesWest branch. In turn\, you can return any items you take out from the mobile library to any branch in the LibrariesWest area. Our vehicles are fully accessible\, with a lift facility*. We offer books in many formats. If you have particular access needs\, please discuss with the mobile librarian the outreach and access materials available from the Library Service. View our Mobile Library Page on the Virtual Library to find out about the routes and see our Access Guide\, which should help you to plan your visit and find out what you do on our Mobile Library.  *For safety reasons\, the lift can only be deployed certain stops. If you are unable to board\, staff are happy to get books for you. The accessible stops are: Week 1 Route 2 – Hinton BlewittWeek 1 Route 2 – Ubley Village HallWeek 1 Route 3 – Odd Down playing fieldWeek 1 Route 3 – Mulberry ParkWeek 2 Route 6 – BathamptonWeek 2 Route 7 – Combe DownWeek 2 Route 7 – Mulberry Park
URL:https://baneslibraries.co.uk/event/goldney-way-temple-cloud-17/
LOCATION:Goldney Way\, Goldney Way\, Temple Cloud\, BS39\, Temple Cloud\, BS39\, GB
CATEGORIES:Mobile Library,Mobile Library Route
ATTACH;FMTTYPE=image/png:https://baneslibraries.co.uk/wp-content/uploads/2025/10/59966_image.png
END:VEVENT
BEGIN:VEVENT
DTSTART;TZID=Europe/London:20260317T140000
DTEND;TZID=Europe/London:20260317T150000
DTSTAMP:20260425T221555
CREATED:20251218T095810Z
LAST-MODIFIED:20251218T095812Z
UID:63681-1773756000-1773759600@baneslibraries.co.uk
SUMMARY:The Page Turners
DESCRIPTION:Shared reading group for adults at Midsomer Norton Library.Join us for a shared reading group for adults. Come and enjoy listening to a variety of extracts from a range of reading material.
URL:https://baneslibraries.co.uk/event/the-page-turners-11/
LOCATION:Library & Information Service\, High Street\, Midsomer Norton\, BA3 2DP\, Midsomer Norton\, BA3 2DP\, GB
CATEGORIES:Adult's Events,Book Groups,Events,Library Events,Midsomer Norton Library
ATTACH;FMTTYPE=image/png:https://baneslibraries.co.uk/wp-content/uploads/2025/06/54363_image.png
END:VEVENT
BEGIN:VEVENT
DTSTART;TZID=Europe/London:20260317T144500
DTEND;TZID=Europe/London:20260317T160000
DTSTAMP:20260425T221555
CREATED:20251006T171107Z
LAST-MODIFIED:20260324T161356Z
UID:60121-1773758700-1773763200@baneslibraries.co.uk
SUMMARY:Station Road\, Clutton
DESCRIPTION:Open to everyone – just drop in!Our Mobile Library is packed with a great range of books and has technology giving you to access council and partner services online. The Mobile Library offers all of the same services as an ordinary library branch. You can use your LibrariesWest membership card to borrow\, reserve\, renew and return items from any LibrariesWest branch. In turn\, you can return any items you take out from the mobile library to any branch in the LibrariesWest area. Our vehicles are fully accessible\, with a lift facility*. We offer books in many formats. If you have particular access needs\, please discuss with the mobile librarian the outreach and access materials available from the Library Service. View our Mobile Library Page on the Virtual Library to find out about the routes and see our Access Guide\, which should help you to plan your visit and find out what you do on our Mobile Library.  *For safety reasons\, the lift can only be deployed certain stops. If you are unable to board\, staff are happy to get books for you. The accessible stops are: Week 1 Route 2 – Hinton BlewittWeek 1 Route 2 – Ubley Village HallWeek 1 Route 3 – Odd Down playing fieldWeek 1 Route 3 – Mulberry ParkWeek 2 Route 6 – BathamptonWeek 2 Route 7 – Combe DownWeek 2 Route 7 – Mulberry Park
URL:https://baneslibraries.co.uk/event/station-road-clutton-6/
LOCATION:Station Road\, Station Road\, Clutton\, BS39\, Clutton\, BS39\, GB
CATEGORIES:Mobile Library,Mobile Library Route
ATTACH;FMTTYPE=image/png:https://baneslibraries.co.uk/wp-content/uploads/2025/10/59966_image.png
END:VEVENT
END:VCALENDAR