BEGIN:VCALENDAR
VERSION:2.0
PRODID:-//BaNES Virtual Library - ECPv6.15.20//NONSGML v1.0//EN
CALSCALE:GREGORIAN
METHOD:PUBLISH
X-ORIGINAL-URL:https://baneslibraries.co.uk
X-WR-CALDESC:Events for BaNES Virtual Library
REFRESH-INTERVAL;VALUE=DURATION:PT1H
X-Robots-Tag:noindex
X-PUBLISHED-TTL:PT1H
BEGIN:VTIMEZONE
TZID:Europe/London
BEGIN:DAYLIGHT
TZOFFSETFROM:+0000
TZOFFSETTO:+0100
TZNAME:BST
DTSTART:20250330T010000
END:DAYLIGHT
BEGIN:STANDARD
TZOFFSETFROM:+0100
TZOFFSETTO:+0000
TZNAME:GMT
DTSTART:20251026T010000
END:STANDARD
BEGIN:DAYLIGHT
TZOFFSETFROM:+0000
TZOFFSETTO:+0100
TZNAME:BST
DTSTART:20260329T010000
END:DAYLIGHT
BEGIN:STANDARD
TZOFFSETFROM:+0100
TZOFFSETTO:+0000
TZNAME:GMT
DTSTART:20261025T010000
END:STANDARD
BEGIN:DAYLIGHT
TZOFFSETFROM:+0000
TZOFFSETTO:+0100
TZNAME:BST
DTSTART:20270328T010000
END:DAYLIGHT
BEGIN:STANDARD
TZOFFSETFROM:+0100
TZOFFSETTO:+0000
TZNAME:GMT
DTSTART:20271031T010000
END:STANDARD
END:VTIMEZONE
BEGIN:VEVENT
DTSTART;TZID=Europe/London:20260302T093000
DTEND;TZID=Europe/London:20260302T130000
DTSTAMP:20260423T141301
CREATED:20251016T142906Z
LAST-MODIFIED:20251016T142908Z
UID:61740-1772443800-1772456400@baneslibraries.co.uk
SUMMARY:Citizens Advice Drop In
DESCRIPTION:Help with money\, legal\, and consumer problems.
URL:https://baneslibraries.co.uk/event/citizens-advice-drop-in-71/
LOCATION:Keynsham Library & Information Service\, Market Walk\, Keynsham\, BS31 1FS\, Keynsham\, BS31 1FS\, GB
CATEGORIES:Adult's Events,Events,Keynsham Library,Partner Events,Support Services
ATTACH;FMTTYPE=image/png:https://baneslibraries.co.uk/wp-content/uploads/2025/10/61700_image.png
END:VEVENT
BEGIN:VEVENT
DTSTART;TZID=Europe/London:20260302T093000
DTEND;TZID=Europe/London:20260302T163000
DTSTAMP:20260423T141301
CREATED:20251017T102440Z
LAST-MODIFIED:20260414T153754Z
UID:62071-1772443800-1772469000@baneslibraries.co.uk
SUMMARY:Reach Housing Advice and Support Service Drop In
DESCRIPTION:Support\, information and advice if you are having difficulty with your accommodation
URL:https://baneslibraries.co.uk/event/reach-housing-advice-and-support-service-drop-in-68/
LOCATION:Keynsham Library & Information Service\, Market Walk\, Keynsham\, BS31 1FS\, Keynsham\, BS31 1FS\, GB
CATEGORIES:Adult's Events,Events,Keynsham Library,Partner Events,Support Services
ATTACH;FMTTYPE=image/png:https://baneslibraries.co.uk/wp-content/uploads/2025/10/61996_image.png
END:VEVENT
BEGIN:VEVENT
DTSTART;TZID=Europe/London:20260302T100000
DTEND;TZID=Europe/London:20260302T113000
DTSTAMP:20260423T141301
CREATED:20251016T154349Z
LAST-MODIFIED:20251016T154351Z
UID:61906-1772445600-1772451000@baneslibraries.co.uk
SUMMARY:Conversational English Class
DESCRIPTION:Classes for refugees and those from a displaced background only due to space.These classes are only available to refugees and those from a displaced background due to space. To book or to find out more\, please email: language@bathwelcomesrefugees.org.uk.  You can do this in any language and they will translate it and reciprocate in kind.
URL:https://baneslibraries.co.uk/event/conversational-english-class-17/
LOCATION:Keynsham Library & Information Service\, Market Walk\, Keynsham\, BS31 1FS\, Keynsham\, BS31 1FS\, GB
CATEGORIES:Adult's Events,Events,Keynsham Library,Partner Events,Support Services
ATTACH;FMTTYPE=image/png:https://baneslibraries.co.uk/wp-content/uploads/2025/10/61866_image.png
END:VEVENT
BEGIN:VEVENT
DTSTART;TZID=Europe/London:20260302T103000
DTEND;TZID=Europe/London:20260302T123000
DTSTAMP:20260423T141301
CREATED:20251017T144707Z
LAST-MODIFIED:20251017T144709Z
UID:62395-1772447400-1772454600@baneslibraries.co.uk
SUMMARY:Hartbeeps
DESCRIPTION:Baby and toddler class.Booking required. Visit www.hartbeeps.com to book.
URL:https://baneslibraries.co.uk/event/hartbeeps-17/
LOCATION:Central Library\, 19-23 The Podium\, Bath\, BA1 5AN\, Bath\, BA1 5AN\, GB
CATEGORIES:Bath Central Library,Children's Events,Events,Partner Events
ATTACH;FMTTYPE=image/png:https://baneslibraries.co.uk/wp-content/uploads/2025/07/55114_image.png
END:VEVENT
BEGIN:VEVENT
DTSTART;TZID=Europe/London:20260302T110000
DTEND;TZID=Europe/London:20260302T113000
DTSTAMP:20260423T141301
CREATED:20251014T091643Z
LAST-MODIFIED:20251014T091645Z
UID:60779-1772449200-1772451000@baneslibraries.co.uk
SUMMARY:Baby Bounce and Rhyme at Midsomer Norton Library
DESCRIPTION:Join us for Baby Bounce and Rhyme at Midsomer Norton Library!T﻿his is a drop in event. Free\, drop in Baby Bounce and Rhyme Session at Midsomer Norton Library.  Suitable for parents and carers with children aged 0 – 5 years. T﻿erm time only\, no booking required.
URL:https://baneslibraries.co.uk/event/baby-bounce-and-rhyme-at-midsomer-norton-library-17/
LOCATION:Midsomer Norton Library\, The Hollies\, High St\, Midsomer Norton\, BA3 2DT\, Midsomer Norton\, BA3 2DT\, GB
CATEGORIES:Children's Events,Events,Library Events,Midsomer Norton Library
ATTACH;FMTTYPE=image/png:https://baneslibraries.co.uk/wp-content/uploads/2025/10/60742_image.png
END:VEVENT
END:VCALENDAR