BEGIN:VCALENDAR
VERSION:2.0
PRODID:-//BaNES Virtual Library - ECPv6.15.20//NONSGML v1.0//EN
CALSCALE:GREGORIAN
METHOD:PUBLISH
X-ORIGINAL-URL:https://baneslibraries.co.uk
X-WR-CALDESC:Events for BaNES Virtual Library
REFRESH-INTERVAL;VALUE=DURATION:PT1H
X-Robots-Tag:noindex
X-PUBLISHED-TTL:PT1H
BEGIN:VTIMEZONE
TZID:Europe/London
BEGIN:DAYLIGHT
TZOFFSETFROM:+0000
TZOFFSETTO:+0100
TZNAME:BST
DTSTART:20250330T010000
END:DAYLIGHT
BEGIN:STANDARD
TZOFFSETFROM:+0100
TZOFFSETTO:+0000
TZNAME:GMT
DTSTART:20251026T010000
END:STANDARD
BEGIN:DAYLIGHT
TZOFFSETFROM:+0000
TZOFFSETTO:+0100
TZNAME:BST
DTSTART:20260329T010000
END:DAYLIGHT
BEGIN:STANDARD
TZOFFSETFROM:+0100
TZOFFSETTO:+0000
TZNAME:GMT
DTSTART:20261025T010000
END:STANDARD
BEGIN:DAYLIGHT
TZOFFSETFROM:+0000
TZOFFSETTO:+0100
TZNAME:BST
DTSTART:20270328T010000
END:DAYLIGHT
BEGIN:STANDARD
TZOFFSETFROM:+0100
TZOFFSETTO:+0000
TZNAME:GMT
DTSTART:20271031T010000
END:STANDARD
END:VTIMEZONE
BEGIN:VEVENT
DTSTART;TZID=Europe/London:20260221T100000
DTEND;TZID=Europe/London:20260221T120000
DTSTAMP:20260425T122844
CREATED:20251203T172645Z
LAST-MODIFIED:20251203T172647Z
UID:63351-1771668000-1771675200@baneslibraries.co.uk
SUMMARY:Board Game Fun - Festival of Libraries
DESCRIPTION:Do you love to play board games? This is the perfect event for you!Board Game Fun – Festival of Libraries Join us for a morning of fun for all the family! We have a fantastic selection of board games suitable for all ages – from timeless classics to modern favourites. Whether you’re a seasoned player or just want to try something new\, this is the perfect way to relax and enjoy time together. Date & Time:📅 Saturday 21 February🕙 10:00 am – 12:00 pm Location:📍Keynsham Library Extras:☕ Free tea\, coffee\, and biscuits provided. Tickets:🎟 Free entry – drop-in event\, no booking required. For more information\, speak to a member of the team.
URL:https://baneslibraries.co.uk/event/board-game-fun-festival-of-libraries-3/
LOCATION:Keynsham Library & Information Service\, Market Walk\, Keynsham\, BS31 1FS\, Keynsham\, BS31 1FS\, GB
CATEGORIES:Adult's Events,Children's Events,Events,Festival Kids,Festival of Libraries,Keynsham Library,Library Events,Young Adult's Events
ATTACH;FMTTYPE=image/png:https://baneslibraries.co.uk/wp-content/uploads/2025/12/63351_image.png
END:VEVENT
BEGIN:VEVENT
DTSTART;TZID=Europe/London:20260221T100000
DTEND;TZID=Europe/London:20260221T120000
DTSTAMP:20260425T122844
CREATED:20260204T145843Z
LAST-MODIFIED:20260204T145845Z
UID:65170-1771668000-1771675200@baneslibraries.co.uk
SUMMARY:Knit Two\, Share One - Knitting and Crochet Group at Bath Central Library
DESCRIPTION:This social group welcomes all ages and abilities\, so come along to share your skills\, learn something new and meet new people.This is a drop in event. No need to book\, sessions are drop in! You’ll find a woolly welcome for all in this friendly group! You can bring along your current projects or join us in making welcome blankets for refugees! Find out more at: https://baneslibraries.co.uk/groups/knit-2-share-1
URL:https://baneslibraries.co.uk/event/knit-two-share-one-knitting-and-crochet-group-at-bath-central-library-3/
LOCATION:Bath Central Library\, 19-23 The Podium\, Bath\, BA1 5AN\, Bath\, BA1 5AN\, GB
CATEGORIES:Adult's Events,Bath Central Library,Children's Events,Craft Events,Events,Library Events,Young Adult's Events
ATTACH;FMTTYPE=image/png:https://baneslibraries.co.uk/wp-content/uploads/2025/10/60237_image.png
END:VEVENT
BEGIN:VEVENT
DTSTART;TZID=Europe/London:20260221T100000
DTEND;TZID=Europe/London:20260221T123000
DTSTAMP:20260425T122844
CREATED:20260217T173729Z
LAST-MODIFIED:20260217T173731Z
UID:65961-1771668000-1771677000@baneslibraries.co.uk
SUMMARY:Board Game Saturdays at Midsomer Norton Library
DESCRIPTION:Do you love to play boardgames? This is the perfect event for you!This is a drop in event. Fun for all the family! We have a great selection of boardgames\, suitable for all ages.
URL:https://baneslibraries.co.uk/event/board-game-saturdays-at-midsomer-norton-library-7/
LOCATION:Library & Information Service\, High Street\, Midsomer Norton\, BA3 2DP\, Midsomer Norton\, BA3 2DP\, GB
CATEGORIES:Adult's Events,Events,Library Events,Midsomer Norton Library,Young Adult's Events
ATTACH;FMTTYPE=image/png:https://baneslibraries.co.uk/wp-content/uploads/2026/02/65961_image.png
END:VEVENT
BEGIN:VEVENT
DTSTART;TZID=Europe/London:20260221T110000
DTEND;TZID=Europe/London:20260221T150000
DTSTAMP:20260425T122844
CREATED:20260116T155415Z
LAST-MODIFIED:20260126T101753Z
UID:64701-1771671600-1771686000@baneslibraries.co.uk
SUMMARY:Local Authors and Small Publishers Fair
DESCRIPTION:Shop for books & meet local authors at Bath Central Library! Discover new reads\, buy signed copies & celebrate stories.\n\n\nMeet Local Authors and Publishers at Bath Central Library\nJoin us for a vibrant day of shopping and celebrating books as part of the Festival of Libraries! \n📚 Meet a fantastic group of authors and publishers selling their books. Explore a wide range of genres including children’s\, teen\, adult fiction\, and local interest titles. \nThis is a great opportunity to discover new reads\, chat with authors\, and buy their books. \nFeatured Authors & Publishers: \n\nJames Hawes – Acclaimed historian and author of The Shortest History of England\nJane Lark – Popular romance and historical fiction writer\nRob Starling – Award-winning children’s author and illustrator (Fergal is Fuming)\nSophie Cleverly – Author of the beloved Scarlet and Ivy series\nFinbar Hawkins – Young Adult author\, known for novels steeped in history\, myth and folklore\n\nPlus many more talented writers and publishers\, including Silver Crow Books\, AxeRiver Books\, Bath International Press and Publishing\, Wells Fountain Poets\, and Artists’ Book Club Dove. \nSee them all on our Authors and Small Publishers Fair page. \n📍 Location: Bath Central Library📅 Date: Saturday 21 February🕒 Time: 11:00 AM – 3:00 PM💰 Cost: Free\, drop in anytime! \nFor more information please email library_events@bathnes.gov.uk
URL:https://baneslibraries.co.uk/event/authors-and-small-publishers-fair/
LOCATION:Central Library\, 19-23 The Podium\, Bath\, BA1 5AN\, Bath\, BA1 5AN\, GB
CATEGORIES:Adult's Events,Bath Central Library,Children's Events,Events,Festival Adults,Festival Kids,Festival of Libraries,Library Events,Young Adult's Events
ATTACH;FMTTYPE=image/png:https://baneslibraries.co.uk/wp-content/uploads/2026/01/TEMPLATE-FOR-EVENTBRITE-1.png
END:VEVENT
BEGIN:VEVENT
DTSTART;TZID=Europe/London:20260221T120000
DTEND;TZID=Europe/London:20260221T123000
DTSTAMP:20260425T122844
CREATED:20260121T163716Z
LAST-MODIFIED:20260121T163718Z
UID:64932-1771675200-1771677000@baneslibraries.co.uk
SUMMARY:Draw Along & Storytime with Fergal and Children's Author Rob Starling
DESCRIPTION:Join Fergal and Children’s Author Rob Starling for a fun session of drawing\, storytelling\, and creativity!\n\n\nJoin us at Bath Central Library as a part of our Festival of Library and Local Author’s Fair\, for a draw along and story with Rob Starling! \n  \nMeet Fergal the dragon and his friends
URL:https://baneslibraries.co.uk/event/draw-along-storytime-with-fergal-and-childrens-author-rob-starling/
LOCATION:Bath Central Library\, 19-23 The Podium\, Bath\, BA1 5AN\, Bath\, BA1 5AN\, GB
CATEGORIES:Bath Central Library,Children's Events,Craft Events,Events,Festival Kids,Festival of Libraries,Library Events
ATTACH;FMTTYPE=image/png:https://baneslibraries.co.uk/wp-content/uploads/2026/01/64932_image.png
END:VEVENT
BEGIN:VEVENT
DTSTART;TZID=Europe/London:20260221T120000
DTEND;TZID=Europe/London:20260221T160000
DTSTAMP:20260425T122844
CREATED:20260217T161432Z
LAST-MODIFIED:20260217T162649Z
UID:65619-1771675200-1771689600@baneslibraries.co.uk
SUMMARY:Board Game Saturdays at Bath Central Library
DESCRIPTION:Do you love to play boardgames? This is the perfect event for you!T﻿his is a drop in event. J﻿oin us for an afternoon of fun for all the family! We have a great selection of boardgames\, suitable for all ages.
URL:https://baneslibraries.co.uk/event/board-game-saturdays-at-bath-central-library-4/
LOCATION:Bath Central Library\, 19-23 The Podium\, Bath\, BA1 5AN\, Bath\, BA1 5AN\, GB
CATEGORIES:Adult's Events,Bath Central Library,Children's Events,Events,Library Events,Young Adult's Events
ATTACH;FMTTYPE=image/png:https://baneslibraries.co.uk/wp-content/uploads/2026/02/65619_image.png
END:VEVENT
BEGIN:VEVENT
DTSTART;TZID=Europe/London:20260221T123000
DTEND;TZID=Europe/London:20260221T160000
DTSTAMP:20260425T122844
CREATED:20260217T170739Z
LAST-MODIFIED:20260217T170741Z
UID:65793-1771677000-1771689600@baneslibraries.co.uk
SUMMARY:Board Game Saturdays at Keynsham Library
DESCRIPTION:Do you love to play boardgames? This is the perfect event for you!T﻿his is a drop in event. J﻿oin us for an afternoon of fun for all the family! We have a great selection of boardgames\, suitable for all ages.
URL:https://baneslibraries.co.uk/event/board-game-saturdays-at-keynsham-library-5/
LOCATION:Keynsham Library & Information Service\, Market Walk\, Keynsham\, BS31 1FS\, Keynsham\, BS31 1FS\, GB
CATEGORIES:Adult's Events,Children's Events,Events,Keynsham Library,Library Events,Young Adult's Events
ATTACH;FMTTYPE=image/png:https://baneslibraries.co.uk/wp-content/uploads/2026/02/65793_image.png
END:VEVENT
END:VCALENDAR