BEGIN:VCALENDAR
VERSION:2.0
PRODID:-//BaNES Virtual Library - ECPv6.15.20//NONSGML v1.0//EN
CALSCALE:GREGORIAN
METHOD:PUBLISH
X-ORIGINAL-URL:https://baneslibraries.co.uk
X-WR-CALDESC:Events for BaNES Virtual Library
REFRESH-INTERVAL;VALUE=DURATION:PT1H
X-Robots-Tag:noindex
X-PUBLISHED-TTL:PT1H
BEGIN:VTIMEZONE
TZID:Europe/London
BEGIN:DAYLIGHT
TZOFFSETFROM:+0000
TZOFFSETTO:+0100
TZNAME:BST
DTSTART:20250330T010000
END:DAYLIGHT
BEGIN:STANDARD
TZOFFSETFROM:+0100
TZOFFSETTO:+0000
TZNAME:GMT
DTSTART:20251026T010000
END:STANDARD
BEGIN:DAYLIGHT
TZOFFSETFROM:+0000
TZOFFSETTO:+0100
TZNAME:BST
DTSTART:20260329T010000
END:DAYLIGHT
BEGIN:STANDARD
TZOFFSETFROM:+0100
TZOFFSETTO:+0000
TZNAME:GMT
DTSTART:20261025T010000
END:STANDARD
BEGIN:DAYLIGHT
TZOFFSETFROM:+0000
TZOFFSETTO:+0100
TZNAME:BST
DTSTART:20270328T010000
END:DAYLIGHT
BEGIN:STANDARD
TZOFFSETFROM:+0100
TZOFFSETTO:+0000
TZNAME:GMT
DTSTART:20271031T010000
END:STANDARD
END:VTIMEZONE
BEGIN:VEVENT
DTSTART;TZID=Europe/London:20260219T090000
DTEND;TZID=Europe/London:20260219T123000
DTSTAMP:20260421T135930
CREATED:20250917T152645Z
LAST-MODIFIED:20250917T152654Z
UID:56304-1771491600-1771504200@baneslibraries.co.uk
SUMMARY:HomeSearch Drop In
DESCRIPTION:Homesearch is the register for social rent homes and low cost home ownership in Bath & North East Somerset.Find out more at: homesearchbathnes.org.uk
URL:https://baneslibraries.co.uk/event/homesearch-drop-in-21/
LOCATION:Keynsham Library & Information Service\, Market Walk\, Keynsham\, BS31 1FS\, Keynsham\, BS31 1FS\, GB
CATEGORIES:Adult's Events,Events,Keynsham Library,Partner Events,Support Services
ATTACH;FMTTYPE=image/png:https://baneslibraries.co.uk/wp-content/uploads/2025/09/56263_image.png
END:VEVENT
BEGIN:VEVENT
DTSTART;TZID=Europe/London:20260219T090000
DTEND;TZID=Europe/London:20260219T150000
DTSTAMP:20260421T135930
CREATED:20251219T105459Z
LAST-MODIFIED:20251219T105501Z
UID:63806-1771491600-1771513200@baneslibraries.co.uk
SUMMARY:Halifax Community Banking Drop-In
DESCRIPTION:Drop-in session with Halifax.The Halifax Community Bankers provide banking services and account support for customers who may not have a local branch. They can help you with: Payments and transfersCard and PIN servicesManaging your accountHelp with Online Banking or using our Mobile Banking appHelp with Telephone BankingFind out more at: www.halifax.co.uk/helpcentre/everyday-banking/banking-near-you/community-bankers.html
URL:https://baneslibraries.co.uk/event/halifax-community-banking-drop-in-5/
LOCATION:Library & Information Service\, High Street\, Midsomer Norton\, BA3 2DP\, Midsomer Norton\, BA3 2DP\, GB
CATEGORIES:Adult's Events,Events,Midsomer Norton Library,Partner Events,Support Services
ATTACH;FMTTYPE=image/png:https://baneslibraries.co.uk/wp-content/uploads/2025/12/63792_image.png
END:VEVENT
BEGIN:VEVENT
DTSTART;TZID=Europe/London:20260219T090000
DTEND;TZID=Europe/London:20260219T163000
DTSTAMP:20260421T135930
CREATED:20250923T154657Z
LAST-MODIFIED:20250923T154738Z
UID:57803-1771491600-1771518600@baneslibraries.co.uk
SUMMARY:Private Rented Advice Drop In
DESCRIPTION:Are you looking for a private rented home?Our Private Rented Officer will be available to offer guidance on how to find a home in the private rented sector\, including advice on relationship building with landlords and letting agents. Contact 01225 396296.  Closed 12.30 – 1.30pm.
URL:https://baneslibraries.co.uk/event/private-rented-advice-drop-in-13/
LOCATION:Keynsham Library & Information Service\, Market Walk\, Keynsham\, BS31 1FS\, Keynsham\, BS31 1FS\, GB
CATEGORIES:Adult's Events,Events,Keynsham Library,Partner Events,Support Services
ATTACH;FMTTYPE=image/png:https://baneslibraries.co.uk/wp-content/uploads/2025/09/57760_image.png
END:VEVENT
BEGIN:VEVENT
DTSTART;TZID=Europe/London:20260219T093000
DTEND;TZID=Europe/London:20260219T101500
DTSTAMP:20260421T135930
CREATED:20250925T161525Z
LAST-MODIFIED:20260323T120233Z
UID:58396-1771493400-1771496100@baneslibraries.co.uk
SUMMARY:Hawthorne Grove\, Combe Down
DESCRIPTION:Open to everyone – just drop in!Our Mobile Library is packed with a great range of books and has technology giving you to access council and partner services online. The Mobile Library offers all of the same services as an ordinary library branch. You can use your LibrariesWest membership card to borrow\, reserve\, renew and return items from any LibrariesWest branch. In turn\, you can return any items you take out from the mobile library to any branch in the LibrariesWest area. Our vehicles are fully accessible\, with a lift facility*. We offer books in many formats. If you have particular access needs\, please discuss with the mobile librarian the outreach and access materials available from the Library Service. View our Mobile Library Page on the Virtual Library to find out about the routes and see our Access Guide\, which should help you to plan your visit and find out what you do on our Mobile Library.  *For safety reasons\, the lift can only be deployed certain stops. If you are unable to board\, staff are happy to get books for you. The accessible stops are: Week 1 Route 2 – Hinton BlewittWeek 1 Route 2 – Ubley Village HallWeek 1 Route 3 – Odd Down playing fieldWeek 1 Route 3 – Mulberry ParkWeek 2 Route 6 – BathamptonWeek 2 Route 7 – Combe DownWeek 2 Route 7 – Mulberry Park
URL:https://baneslibraries.co.uk/event/hawthorne-grove-combe-down-4/
LOCATION:Hawthorn Grove\, Hawthorn Grove\, Bath\, BA2\, Bath\, BA2\, GB
CATEGORIES:Mobile Library,Mobile Library Route
ATTACH;FMTTYPE=image/png:https://baneslibraries.co.uk/wp-content/uploads/2025/09/58376_image.png
END:VEVENT
BEGIN:VEVENT
DTSTART;TZID=Europe/London:20260219T100000
DTEND;TZID=Europe/London:20260219T120000
DTSTAMP:20260421T135930
CREATED:20241216T104125Z
LAST-MODIFIED:20241216T104127Z
UID:43437-1771495200-1771502400@baneslibraries.co.uk
SUMMARY:Knit Two\, Share One - Knitting and Crochet Group at Bath Central Library
DESCRIPTION:This social group welcomes all ages and abilities\, so come along to share your skills\, learn something new and meet new people.This is a drop in event. No need to book\, sessions are drop in! You’ll find a woolly welcome for all in this friendly group! You can bring along your current projects or join us in making welcome blankets for refugees! Find out more at: https://baneslibraries.co.uk/groups/knit-2-share-1
URL:https://baneslibraries.co.uk/event/knit-two-share-one-knitting-and-crochet-group-at-bath-central-library-68/
LOCATION:Bath Central Library\, 19-23 The Podium\, Bath\, BA1 5AN\, Bath\, BA1 5AN\, GB
CATEGORIES:Adult's Events,Bath Central Library,Children's Events,Craft Events,Events,Library Events,Young Adult's Events
ATTACH;FMTTYPE=image/png:https://baneslibraries.co.uk/wp-content/uploads/2024/01/18745_image.png
END:VEVENT
BEGIN:VEVENT
DTSTART;TZID=Europe/London:20260219T100000
DTEND;TZID=Europe/London:20260219T120000
DTSTAMP:20260421T135930
CREATED:20251203T172933Z
LAST-MODIFIED:20251203T172934Z
UID:63346-1771495200-1771502400@baneslibraries.co.uk
SUMMARY:Registrars : Meet the Celebrants
DESCRIPTION:Pop in and meet B&NES Registrars as part of the Festival of Libraries programmeSay ‘I Do’ and other Ceremonies.Your opportunity to see all the exciting and inclusive ceremonies for marriage\, civil partnership\, candlelight ceremonies\, regency renewals\, baby naming\, commitment\, or renewal of vows. Meet the celebrant registrars and discuss the possibilities for your celebration. It’s your day- your way – see what can be created to make your ceremony bespoke and personal to you in every way. Location:📍 Midsomer Norton Library Tickets:🎟 Free entry – drop-in event\, no booking required. For more information\, speak to a member of the Midsomer Norton Library team.
URL:https://baneslibraries.co.uk/event/registrars-meet-the-celebrants-2/
LOCATION:Midsomer Norton Library\, The Hollies\, High St\, Midsomer Norton\, BA3 2DT\, Midsomer Norton\, BA3 2DT\, GB
CATEGORIES:Events,Festival of Libraries,Festival Partners,Library Events,Midsomer Norton Library
ATTACH;FMTTYPE=image/png:https://baneslibraries.co.uk/wp-content/uploads/2025/12/63298_image.png
END:VEVENT
BEGIN:VEVENT
DTSTART;TZID=Europe/London:20260219T100000
DTEND;TZID=Europe/London:20260219T150000
DTSTAMP:20260421T135931
CREATED:20251203T172757Z
LAST-MODIFIED:20251203T172758Z
UID:63343-1771495200-1771513200@baneslibraries.co.uk
SUMMARY:Crafting Day - Festival of Libraries
DESCRIPTION:Pop in to Midsomer Norton Library and get involved in our FREE craft activities for childrenCrafting Day Fun – Festival of LibrariesDrop in and enjoy a day of creative fun for children at Midsomer Norton Library! We’ll have a variety of free crafting activities designed to spark imagination and keep little hands busy. Perfect for families looking for a relaxed\, creative experience during the Festival of Libraries. Date & Time:📅 Thursday 19 February🕙 10:00 am – 3:00 pm Location:📍 Midsomer Norton Library Tickets:🎟 Free entry – drop-in event\, no booking required. For more information\, speak to a member of the Midsomer Norton Library team.
URL:https://baneslibraries.co.uk/event/crafting-day-festival-of-libraries-2/
LOCATION:Library & Information Service\, High Street\, Midsomer Norton\, BA3 2DP\, Midsomer Norton\, BA3 2DP\, GB
CATEGORIES:Children's Events,Events,Festival Kids,Festival of Libraries,Library Events,Midsomer Norton Library
ATTACH;FMTTYPE=image/png:https://baneslibraries.co.uk/wp-content/uploads/2025/12/63343_image.png
END:VEVENT
BEGIN:VEVENT
DTSTART;TZID=Europe/London:20260219T103000
DTEND;TZID=Europe/London:20260219T110000
DTSTAMP:20260421T135931
CREATED:20251203T174716Z
LAST-MODIFIED:20251203T174719Z
UID:63426-1771497000-1771498800@baneslibraries.co.uk
SUMMARY:Storytime at Keynsham Library - Festival of Libraries
DESCRIPTION:Free\, drop in Storytime session at Keynsham Library. Suitable for parents and carers with children aged 0 – 5 yearsFree Drop-In Storytime at Keynsham LibraryJoin us for a cozy and fun Storytime session at Keynsham Library! 📚 Hear old favourites and discover new stories in a welcoming space for families. Perfect for sparking imagination and a love of reading. 👶 Who’s it for? Parents and carers with children aged 0–5 years📍 Location: Keynsham Library📅 Date: Thursday 12 & 19 February🕒 Time: 10:30 – 11:00 am💰 Cost: Free – just drop in! No booking required—come along and enjoy stories together!
URL:https://baneslibraries.co.uk/event/storytime-at-keynsham-library-festival-of-libraries/
LOCATION:Keynsham Library & Information Service\, Market Walk\, Keynsham\, BS31 1FS\, Keynsham\, BS31 1FS\, GB
CATEGORIES:Children's Events,Events,Festival Kids,Festival of Libraries,Keynsham Library,Library Events
ATTACH;FMTTYPE=image/png:https://baneslibraries.co.uk/wp-content/uploads/2025/12/63310_image.png
END:VEVENT
BEGIN:VEVENT
DTSTART;TZID=Europe/London:20260219T103000
DTEND;TZID=Europe/London:20260219T111500
DTSTAMP:20260421T135931
CREATED:20250925T163306Z
LAST-MODIFIED:20260323T120310Z
UID:58456-1771497000-1771499700@baneslibraries.co.uk
SUMMARY:The Firs\, Combe Down
DESCRIPTION:Open to everyone – just drop in! This is an Accessible Stop.Our Mobile Library is packed with a great range of books and has technology giving you to access council and partner services online. The Mobile Library offers all of the same services as an ordinary library branch. You can use your LibrariesWest membership card to borrow\, reserve\, renew and return items from any LibrariesWest branch. In turn\, you can return any items you take out from the mobile library to any branch in the LibrariesWest area. Our vehicles are fully accessible\, with a lift facility*. We offer books in many formats. If you have particular access needs\, please discuss with the mobile librarian the outreach and access materials available from the Library Service. View our Mobile Library Page on the Virtual Library to find out about the routes and see our Access Guide\, which should help you to plan your visit and find out what you do on our Mobile Library.  *For safety reasons\, the lift can only be deployed certain stops. If you are unable to board\, staff are happy to get books for you. The accessible stops are: Week 1 Route 2 – Hinton BlewittWeek 1 Route 2 – Ubley Village HallWeek 1 Route 3 – Odd Down playing fieldWeek 1 Route 3 – Mulberry ParkWeek 2 Route 6 – BathamptonWeek 2 Route 7 – Combe DownWeek 2 Route 7 – Mulberry Park
URL:https://baneslibraries.co.uk/event/the-firs-combe-down-7/
LOCATION:The Firs\, The Firs\, Combe Down\, BA2\, Combe Down\, BA2\, GB
CATEGORIES:Mobile Library,Mobile Library Route
ATTACH;FMTTYPE=image/png:https://baneslibraries.co.uk/wp-content/uploads/2025/09/58437_image.png
END:VEVENT
BEGIN:VEVENT
DTSTART;TZID=Europe/London:20260219T113000
DTEND;TZID=Europe/London:20260219T124500
DTSTAMP:20260421T135931
CREATED:20250925T164405Z
LAST-MODIFIED:20260323T120401Z
UID:58505-1771500600-1771505100@baneslibraries.co.uk
SUMMARY:Upper Bloomfield Road\, Odd Down
DESCRIPTION:Open to everyone – just drop in!Our Mobile Library is packed with a great range of books and has technology giving you to access council and partner services online. The Mobile Library offers all of the same services as an ordinary library branch. You can use your LibrariesWest membership card to borrow\, reserve\, renew and return items from any LibrariesWest branch. In turn\, you can return any items you take out from the mobile library to any branch in the LibrariesWest area. Our vehicles are fully accessible\, with a lift facility*. We offer books in many formats. If you have particular access needs\, please discuss with the mobile librarian the outreach and access materials available from the Library Service. View our Mobile Library Page on the Virtual Library to find out about the routes and see our Access Guide\, which should help you to plan your visit and find out what you do on our Mobile Library.  *For safety reasons\, the lift can only be deployed certain stops. If you are unable to board\, staff are happy to get books for you. The accessible stops are: Week 1 Route 2 – Hinton BlewittWeek 1 Route 2 – Ubley Village HallWeek 1 Route 3 – Odd Down playing fieldWeek 1 Route 3 – Mulberry ParkWeek 2 Route 6 – BathamptonWeek 2 Route 7 – Combe DownWeek 2 Route 7 – Mulberry Park
URL:https://baneslibraries.co.uk/event/upper-bloomfield-road-odd-down-9/
LOCATION:Upper Bloomfield Road\, Upper Bloomfield Road\, Odd Down\, BA2\, Odd Down\, BA2\, GB
CATEGORIES:Mobile Library,Mobile Library Route
ATTACH;FMTTYPE=image/png:https://baneslibraries.co.uk/wp-content/uploads/2025/09/58426_image.png
END:VEVENT
BEGIN:VEVENT
DTSTART;TZID=Europe/London:20260219T130000
DTEND;TZID=Europe/London:20260219T163000
DTSTAMP:20260421T135931
CREATED:20250923T161018Z
LAST-MODIFIED:20250923T161020Z
UID:57991-1771506000-1771518600@baneslibraries.co.uk
SUMMARY:Everyone Health - Stop Smoking Clinic
DESCRIPTION:Want to quit smoking? It doesn’t have to be a dragYour local Bath & North East Somerset Stop Smoking service offers FREE support to local people who are thinking of and wanting to take positive steps towards stopping smoking. No matter how long you’ve smoked\, quitting benefits your health right away. In just a few days\, your sense of taste and smell will get better. Your lungs will start to clear\, so breathing feels easier. You’ll also keep your loved ones safe from second-hand smoke and save money.  Find out more: https://banes.everyonehealth.co.uk/services/stop-smoking-service/
URL:https://baneslibraries.co.uk/event/everyone-health-stop-smoking-clinic-54/
LOCATION:Keynsham Library & Information Service\, Market Walk\, Keynsham\, BS31 1FS\, Keynsham\, BS31 1FS\, GB
CATEGORIES:Adult's Events,Events,Keynsham Library,Partner Events,Support Services
ATTACH;FMTTYPE=image/png:https://baneslibraries.co.uk/wp-content/uploads/2025/06/54646_image.png
END:VEVENT
BEGIN:VEVENT
DTSTART;TZID=Europe/London:20260219T140000
DTEND;TZID=Europe/London:20260219T160000
DTSTAMP:20260421T135931
CREATED:20250923T152307Z
LAST-MODIFIED:20250923T152324Z
UID:57607-1771509600-1771516800@baneslibraries.co.uk
SUMMARY:Lace Making Group
DESCRIPTION:Drop in group for all ages.
URL:https://baneslibraries.co.uk/event/lace-making-group-25/
LOCATION:Keynsham Library & Information Service\, Market Walk\, Keynsham\, BS31 1FS\, Keynsham\, BS31 1FS\, GB
CATEGORIES:Adult's Events,Events,Keynsham Library,Partner Events
ATTACH;FMTTYPE=image/png:https://baneslibraries.co.uk/wp-content/uploads/2025/09/57567_image.png
END:VEVENT
BEGIN:VEVENT
DTSTART;TZID=Europe/London:20260219T140000
DTEND;TZID=Europe/London:20260219T160000
DTSTAMP:20260421T135931
CREATED:20250926T111319Z
LAST-MODIFIED:20260323T120440Z
UID:58565-1771509600-1771516800@baneslibraries.co.uk
SUMMARY:Mulberry Park\, Combe Down
DESCRIPTION:Open to everyone – just drop in! This is an accessible stop.Our Mobile Library is packed with a great range of books and has technology giving you to access council and partner services online. The Mobile Library offers all of the same services as an ordinary library branch. You can use your LibrariesWest membership card to borrow\, reserve\, renew and return items from any LibrariesWest branch. In turn\, you can return any items you take out from the mobile library to any branch in the LibrariesWest area. Our vehicles are fully accessible\, with a lift facility*. We offer books in many formats. If you have particular access needs\, please discuss with the mobile librarian the outreach and access materials available from the Library Service. View our Mobile Library Page on the Virtual Library to find out about the routes and see our Access Guide\, which should help you to plan your visit and find out what you do on our Mobile Library.  *For safety reasons\, the lift can only be deployed certain stops. If you are unable to board\, staff are happy to get books for you. The accessible stops are: Week 1 Route 2 – Hinton BlewittWeek 1 Route 2 – Ubley Village HallWeek 1 Route 3 – Odd Down playing fieldWeek 1 Route 3 – Mulberry ParkWeek 2 Route 6 – BathamptonWeek 2 Route 7 – Combe DownWeek 2 Route 7 – Mulberry Park
URL:https://baneslibraries.co.uk/event/mulberry-park-combe-down-13/
LOCATION:Upper Bloomfield Road\, Upper Bloomfield Road\, Odd Down\, BA2\, Odd Down\, BA2\, GB
CATEGORIES:Mobile Library,Mobile Library Route
ATTACH;FMTTYPE=image/png:https://baneslibraries.co.uk/wp-content/uploads/2025/09/58545_image.png
END:VEVENT
END:VCALENDAR