BEGIN:VCALENDAR
VERSION:2.0
PRODID:-//BaNES Virtual Library - ECPv6.15.20//NONSGML v1.0//EN
CALSCALE:GREGORIAN
METHOD:PUBLISH
X-ORIGINAL-URL:https://baneslibraries.co.uk
X-WR-CALDESC:Events for BaNES Virtual Library
REFRESH-INTERVAL;VALUE=DURATION:PT1H
X-Robots-Tag:noindex
X-PUBLISHED-TTL:PT1H
BEGIN:VTIMEZONE
TZID:Europe/London
BEGIN:DAYLIGHT
TZOFFSETFROM:+0000
TZOFFSETTO:+0100
TZNAME:BST
DTSTART:20250330T010000
END:DAYLIGHT
BEGIN:STANDARD
TZOFFSETFROM:+0100
TZOFFSETTO:+0000
TZNAME:GMT
DTSTART:20251026T010000
END:STANDARD
BEGIN:DAYLIGHT
TZOFFSETFROM:+0000
TZOFFSETTO:+0100
TZNAME:BST
DTSTART:20260329T010000
END:DAYLIGHT
BEGIN:STANDARD
TZOFFSETFROM:+0100
TZOFFSETTO:+0000
TZNAME:GMT
DTSTART:20261025T010000
END:STANDARD
BEGIN:DAYLIGHT
TZOFFSETFROM:+0000
TZOFFSETTO:+0100
TZNAME:BST
DTSTART:20270328T010000
END:DAYLIGHT
BEGIN:STANDARD
TZOFFSETFROM:+0100
TZOFFSETTO:+0000
TZNAME:GMT
DTSTART:20271031T010000
END:STANDARD
END:VTIMEZONE
BEGIN:VEVENT
DTSTART;TZID=Europe/London:20260218T093000
DTEND;TZID=Europe/London:20260218T140000
DTSTAMP:20260425T142043
CREATED:20250923T142252Z
LAST-MODIFIED:20250923T142308Z
UID:57207-1771407000-1771423200@baneslibraries.co.uk
SUMMARY:Citizens Advice Drop In
DESCRIPTION:Help with money\, legal\, and consumer problems.
URL:https://baneslibraries.co.uk/event/citizens-advice-drop-in-17/
LOCATION:Library & Information Service\, High Street\, Midsomer Norton\, BA3 2DP\, Midsomer Norton\, BA3 2DP\, GB
CATEGORIES:Adult's Events,Events,Midsomer Norton Library,Partner Events,Support Services
ATTACH;FMTTYPE=image/png:https://baneslibraries.co.uk/wp-content/uploads/2025/09/57164_image.png
END:VEVENT
BEGIN:VEVENT
DTSTART;TZID=Europe/London:20260218T100000
DTEND;TZID=Europe/London:20260218T120000
DTSTAMP:20260425T142043
CREATED:20250923T145947Z
LAST-MODIFIED:20250923T145949Z
UID:57411-1771408800-1771416000@baneslibraries.co.uk
SUMMARY:Future Bright Drop In
DESCRIPTION:One-to-one career coaching\, support and advice about jobs and careers.
URL:https://baneslibraries.co.uk/event/future-bright-drop-in-15/
LOCATION:Library & Information Service\, High Street\, Midsomer Norton\, BA3 2DP\, Midsomer Norton\, BA3 2DP\, GB
CATEGORIES:Adult's Events,Events,Midsomer Norton Library,Partner Events,Support Services,Young Adult's Events
ATTACH;FMTTYPE=image/png:https://baneslibraries.co.uk/wp-content/uploads/2025/09/57368_image.png
END:VEVENT
BEGIN:VEVENT
DTSTART;TZID=Europe/London:20260218T100000
DTEND;TZID=Europe/London:20260218T150000
DTSTAMP:20260425T142043
CREATED:20251203T172749Z
LAST-MODIFIED:20251203T172750Z
UID:63340-1771408800-1771426800@baneslibraries.co.uk
SUMMARY:Crafting Day - Festival of Libraries
DESCRIPTION:Pop in to Keynsham Library and get involved in our FREE craft activities for childrenCrafting Day Fun – Festival of LibrariesDrop in and enjoy a day of creative fun for children at Keynsham Library! We’ll have a variety of free crafting activities designed to spark imagination and keep little hands busy. Perfect for families looking for a relaxed\, creative experience during the Festival of Libraries. Date & Time:📅 Wednesday 18 February🕙 10:00 am – 3:00 pm Location:📍 Keynsham Library Tickets:🎟 Free entry – drop-in event\, no booking required. For more information\, speak to a member of the Keynsham Library team.
URL:https://baneslibraries.co.uk/event/crafting-day-festival-of-libraries/
LOCATION:Keynsham Library & Information Service\, Market Walk\, Keynsham\, BS31 1FS\, Keynsham\, BS31 1FS\, GB
CATEGORIES:Children's Events,Events,Festival Kids,Festival of Libraries,Keynsham Library,Library Events
ATTACH;FMTTYPE=image/png:https://baneslibraries.co.uk/wp-content/uploads/2025/12/63340_image.png
END:VEVENT
BEGIN:VEVENT
DTSTART;TZID=Europe/London:20260218T103000
DTEND;TZID=Europe/London:20260218T110000
DTSTAMP:20260425T142043
CREATED:20251203T174619Z
LAST-MODIFIED:20251203T174621Z
UID:63440-1771410600-1771412400@baneslibraries.co.uk
SUMMARY:Storytime at Midsomer Norton Library - Festival of Libraries
DESCRIPTION:Free\, drop in Storytime session at Midsomer Norton Library. Suitable for parents and carers with children aged 0 – 5 yearsFree Drop-In Storytime at Midsomer Norton LibraryJoin us for a cozy and fun Storytime session at Midsomer Norton Library! 📚 Hear old favourites and discover new stories in a welcoming space for families. Perfect for sparking imagination and a love of reading. 👶 Who’s it for? Parents and carers with children aged 0–5 years📍 Location: Midsomer Norton Library📅 Date: Wednesday 11 & 18 February🕒 Time: 10:30 – 11:00 am💰 Cost: Free – just drop in! No booking required—come along and enjoy stories together!
URL:https://baneslibraries.co.uk/event/storytime-at-midsomer-norton-library-festival-of-libraries/
LOCATION:Midsomer Norton Library\, The Hollies\, High St\, Midsomer Norton\, BA3 2DT\, Midsomer Norton\, BA3 2DT\, GB
CATEGORIES:Children's Events,Events,Festival Kids,Festival of Libraries,Library Events,Midsomer Norton Library
ATTACH;FMTTYPE=image/png:https://baneslibraries.co.uk/wp-content/uploads/2025/12/63304_image.png
END:VEVENT
BEGIN:VEVENT
DTSTART;TZID=Europe/London:20260218T103000
DTEND;TZID=Europe/London:20260218T110000
DTSTAMP:20260425T142043
CREATED:20251203T174643Z
LAST-MODIFIED:20251203T174644Z
UID:63434-1771410600-1771412400@baneslibraries.co.uk
SUMMARY:Baby Bounce and Rhyme - Festival of Libraries
DESCRIPTION:Free\, drop in Baby Bounce and Rhyme Session at Bath Central LibraryFree Drop-In Baby Bounce and Rhyme at Bath Central LibraryJoin us for a lively and fun Baby Bounce and Rhyme session at Bath Central Library\, part of the Festival of Libraries! 🎶 Sing along to rhymes and enjoy gentle movement activities designed for little ones. A great way to bond and build early language skills in a friendly\, welcoming space. 👶 Who’s it for? Parents and carers with children aged 0–5 years📍 Location: Bath Central Library📅 Date: Wednesday 11 & 18 February🕒 Time: 10:30 – 11:00 am
URL:https://baneslibraries.co.uk/event/baby-bounce-and-rhyme-festival-of-libraries/
LOCATION:Bath Central Library\, 19-23 The Podium\, Bath\, BA1 5AN\, Bath\, BA1 5AN\, GB
CATEGORIES:Bath Central Library,Children's Events,Events,Festival Kids,Festival of Libraries,Library Events
ATTACH;FMTTYPE=image/png:https://baneslibraries.co.uk/wp-content/uploads/2025/12/63307_image.png
END:VEVENT
BEGIN:VEVENT
DTSTART;TZID=Europe/London:20260218T104500
DTEND;TZID=Europe/London:20260218T114500
DTSTAMP:20260425T142043
CREATED:20250924T091717Z
LAST-MODIFIED:20250924T091719Z
UID:58163-1771411500-1771415100@baneslibraries.co.uk
SUMMARY:Freshford Village Hall
DESCRIPTION:Open to everyone – just drop in!Our Mobile Library is packed with a great range of books and has technology giving you to access council and partner services online. The Mobile Library offers all of the same services as an ordinary library branch. You can use your LibrariesWest membership card to borrow\, reserve\, renew and return items from any LibrariesWest branch. In turn\, you can return any items you take out from the mobile library to any branch in the LibrariesWest area. Our vehicles are fully accessible\, with a lift facility*. We offer books in many formats. If you have particular access needs\, please discuss with the mobile librarian the outreach and access materials available from the Library Service. View our Mobile Library Page on the Virtual Library to find out about the routes and see our Access Guide\, which should help you to plan your visit and find out what you do on our Mobile Library.  *For safety reasons\, the lift can only be deployed certain stops. If you are unable to board\, staff are happy to get books for you. The accessible stops are: Week 1 Route 2 – Hinton BlewittWeek 1 Route 2 – Ubley Village HallWeek 1 Route 3 – Odd Down playing fieldWeek 1 Route 3 – Mulberry ParkWeek 2 Route 6 – Bathampton Week 2 Route 7 – Combe DownWeek 2 Route 7 – Mulberry Park
URL:https://baneslibraries.co.uk/event/freshford-village-hall-10/
LOCATION:Freshford Village Memorial Hall\, Freshford Lane\, Bath\, BA2 7UR\, Bath\, BA2 7UR\, GB
CATEGORIES:Mobile Library,Mobile Library Route
ATTACH;FMTTYPE=image/png:https://baneslibraries.co.uk/wp-content/uploads/2025/09/58141_image.png
END:VEVENT
BEGIN:VEVENT
DTSTART;TZID=Europe/London:20260218T130000
DTEND;TZID=Europe/London:20260218T134500
DTSTAMP:20260425T142043
CREATED:20250924T092701Z
LAST-MODIFIED:20250924T092705Z
UID:58216-1771419600-1771422300@baneslibraries.co.uk
SUMMARY:Dovers Park\, Bathford
DESCRIPTION:Open to everyone – just drop in!Our Mobile Library is packed with a great range of books and has technology giving you to access council and partner services online. The Mobile Library offers all of the same services as an ordinary library branch. You can use your LibrariesWest membership card to borrow\, reserve\, renew and return items from any LibrariesWest branch. In turn\, you can return any items you take out from the mobile library to any branch in the LibrariesWest area. Our vehicles are fully accessible\, with a lift facility*. We offer books in many formats. If you have particular access needs\, please discuss with the mobile librarian the outreach and access materials available from the Library Service. View our Mobile Library Page on the Virtual Library to find out about the routes and see our Access Guide\, which should help you to plan your visit and find out what you do on our Mobile Library.  *For safety reasons\, the lift can only be deployed certain stops. If you are unable to board\, staff are happy to get books for you. The accessible stops are: Week 1 Route 2 – Hinton BlewittWeek 1 Route 2 – Ubley Village HallWeek 1 Route 3 – Odd Down playing fieldWeek 1 Route 3 – Mulberry ParkWeek 2 Route 6 – BathamptonWeek 2 Route 7 – Combe DownWeek 2 Route 7 – Mulberry Park
URL:https://baneslibraries.co.uk/event/dovers-park-bathford-8/
LOCATION:Bathford Primary School\, Dovers Park\, Bathford\, BA1 7UB\, Bathford\, BA1 7UB\, GB
CATEGORIES:Mobile Library,Mobile Library Route
ATTACH;FMTTYPE=image/png:https://baneslibraries.co.uk/wp-content/uploads/2025/09/58141_image.png
END:VEVENT
BEGIN:VEVENT
DTSTART;TZID=Europe/London:20260218T140000
DTEND;TZID=Europe/London:20260218T143000
DTSTAMP:20260425T142043
CREATED:20250924T105437Z
LAST-MODIFIED:20250924T105439Z
UID:58279-1771423200-1771425000@baneslibraries.co.uk
SUMMARY:Elmhurst Estate\, Batheaston
DESCRIPTION:Open to everyone – just drop in!Our Mobile Library is packed with a great range of books and has technology giving you to access council and partner services online. The Mobile Library offers all of the same services as an ordinary library branch. You can use your LibrariesWest membership card to borrow\, reserve\, renew and return items from any LibrariesWest branch. In turn\, you can return any items you take out from the mobile library to any branch in the LibrariesWest area. Our vehicles are fully accessible\, with a lift facility*. We offer books in many formats. If you have particular access needs\, please discuss with the mobile librarian the outreach and access materials available from the Library Service. View our Mobile Library Page on the Virtual Library to find out about the routes and see our Access Guide\, which should help you to plan your visit and find out what you do on our Mobile Library.  *For safety reasons\, the lift can only be deployed certain stops. If you are unable to board\, staff are happy to get books for you. The accessible stops are: Week 1 Route 2 – Hinton BlewittWeek 1 Route 2 – Ubley Village HallWeek 1 Route 3 – Odd Down playing fieldWeek 1 Route 3 – Mulberry ParkWeek 2 Route 6 – BathamptonWeek 2 Route 7 – Combe DownWeek 2 Route 7 – Mulberry Park
URL:https://baneslibraries.co.uk/event/elmhurst-estate-batheaston-12/
LOCATION:Elmhurst Estate\, Elmhurst Estate\, Batheaston\, BA1 7NU\, Batheaston\, BA1 7NU\, GB
CATEGORIES:Mobile Library,Mobile Library Route
ATTACH;FMTTYPE=image/png:https://baneslibraries.co.uk/wp-content/uploads/2025/09/58141_image.png
END:VEVENT
BEGIN:VEVENT
DTSTART;TZID=Europe/London:20260218T145000
DTEND;TZID=Europe/London:20260218T154000
DTSTAMP:20260425T142043
CREATED:20250924T161530Z
LAST-MODIFIED:20250924T161531Z
UID:58334-1771426200-1771429200@baneslibraries.co.uk
SUMMARY:George Inn\, Bathampton
DESCRIPTION:Open to everyone – just drop in! This is an Accessible Stop.Our Mobile Library is packed with a great range of books and has technology giving you to access council and partner services online. The Mobile Library offers all of the same services as an ordinary library branch. You can use your LibrariesWest membership card to borrow\, reserve\, renew and return items from any LibrariesWest branch. In turn\, you can return any items you take out from the mobile library to any branch in the LibrariesWest area. Our vehicles are fully accessible\, with a lift facility*. We offer books in many formats. If you have particular access needs\, please discuss with the mobile librarian the outreach and access materials available from the Library Service. View our Mobile Library Page on the Virtual Library to find out about the routes and see our Access Guide\, which should help you to plan your visit and find out what you do on our Mobile Library.  *For safety reasons\, the lift can only be deployed certain stops. If you are unable to board\, staff are happy to get books for you. The accessible stops are: Week 1 Route 2 – Hinton BlewittWeek 1 Route 2 – Ubley Village HallWeek 1 Route 3 – Odd Down playing fieldWeek 1 Route 3 – Mulberry ParkWeek 2 Route 6 – BathamptonWeek 2 Route 7 – Combe DownWeek 2 Route 7 – Mulberry Park
URL:https://baneslibraries.co.uk/event/george-inn-bathampton-16/
LOCATION:George Inn\, Mill Lane\, Bathampton\, BA2 6TR\, Bathampton\, BA2 6TR\, GB
CATEGORIES:Mobile Library,Mobile Library Route
ATTACH;FMTTYPE=image/png:https://baneslibraries.co.uk/wp-content/uploads/2025/09/58311_image.png
END:VEVENT
END:VCALENDAR